BEGIN:VCALENDAR
VERSION:2.0
PRODID:-//Obdach Forum - ECPv6.15.17.1//NONSGML v1.0//EN
CALSCALE:GREGORIAN
METHOD:PUBLISH
X-WR-CALNAME:Obdach Forum
X-ORIGINAL-URL:https://kalender.obdach.wien
X-WR-CALDESC:Veranstaltungen für Obdach Forum
REFRESH-INTERVAL;VALUE=DURATION:PT1H
X-Robots-Tag:noindex
X-PUBLISHED-TTL:PT1H
BEGIN:VTIMEZONE
TZID:Europe/Berlin
BEGIN:DAYLIGHT
TZOFFSETFROM:+0100
TZOFFSETTO:+0200
TZNAME:CEST
DTSTART:20210328T010000
END:DAYLIGHT
BEGIN:STANDARD
TZOFFSETFROM:+0200
TZOFFSETTO:+0100
TZNAME:CET
DTSTART:20211031T010000
END:STANDARD
BEGIN:DAYLIGHT
TZOFFSETFROM:+0100
TZOFFSETTO:+0200
TZNAME:CEST
DTSTART:20220327T010000
END:DAYLIGHT
BEGIN:STANDARD
TZOFFSETFROM:+0200
TZOFFSETTO:+0100
TZNAME:CET
DTSTART:20221030T010000
END:STANDARD
BEGIN:DAYLIGHT
TZOFFSETFROM:+0100
TZOFFSETTO:+0200
TZNAME:CEST
DTSTART:20230326T010000
END:DAYLIGHT
BEGIN:STANDARD
TZOFFSETFROM:+0200
TZOFFSETTO:+0100
TZNAME:CET
DTSTART:20231029T010000
END:STANDARD
END:VTIMEZONE
BEGIN:VEVENT
DTSTART;TZID=Europe/Berlin:20221125T140000
DTEND;TZID=Europe/Berlin:20221125T170000
DTSTAMP:20260419T152615
CREATED:20221103T164504Z
LAST-MODIFIED:20221103T164504Z
UID:844-1669384800-1669395600@kalender.obdach.wien
SUMMARY:Besuch Naturhistorisches Museum
DESCRIPTION:Christian\, ein langjähriger Teilnehmer von FOW\, wartet ab 13:30 vor dem Haupteingang auf Sie. Erkennungszeichen: schwarzes T-Shirt mit FOW LOGO (Katze) \nDer Besuch ist mit Kulturpass gratis.
URL:https://kalender.obdach.wien/event/besuch-naturhistorisches-museum/
LOCATION:Naturhistorisches Museum\, Burgring 7\, Wien\, 1010\, Österreich
ORGANIZER;CN="Franz Haberl":MAILTO:franz.haberl@fsw.at
END:VEVENT
END:VCALENDAR