BEGIN:VCALENDAR
VERSION:2.0
PRODID:-//Obdach Forum - ECPv6.15.17.1//NONSGML v1.0//EN
CALSCALE:GREGORIAN
METHOD:PUBLISH
X-WR-CALNAME:Obdach Forum
X-ORIGINAL-URL:https://kalender.obdach.wien
X-WR-CALDESC:Veranstaltungen für Obdach Forum
REFRESH-INTERVAL;VALUE=DURATION:PT1H
X-Robots-Tag:noindex
X-PUBLISHED-TTL:PT1H
BEGIN:VTIMEZONE
TZID:Europe/Berlin
BEGIN:DAYLIGHT
TZOFFSETFROM:+0100
TZOFFSETTO:+0200
TZNAME:CEST
DTSTART:20220327T010000
END:DAYLIGHT
BEGIN:STANDARD
TZOFFSETFROM:+0200
TZOFFSETTO:+0100
TZNAME:CET
DTSTART:20221030T010000
END:STANDARD
BEGIN:DAYLIGHT
TZOFFSETFROM:+0100
TZOFFSETTO:+0200
TZNAME:CEST
DTSTART:20230326T010000
END:DAYLIGHT
BEGIN:STANDARD
TZOFFSETFROM:+0200
TZOFFSETTO:+0100
TZNAME:CET
DTSTART:20231029T010000
END:STANDARD
BEGIN:DAYLIGHT
TZOFFSETFROM:+0100
TZOFFSETTO:+0200
TZNAME:CEST
DTSTART:20240331T010000
END:DAYLIGHT
BEGIN:STANDARD
TZOFFSETFROM:+0200
TZOFFSETTO:+0100
TZNAME:CET
DTSTART:20241027T010000
END:STANDARD
END:VTIMEZONE
BEGIN:VEVENT
DTSTART;TZID=Europe/Berlin:20230525T170000
DTEND;TZID=Europe/Berlin:20230525T183000
DTSTAMP:20260419T180854
CREATED:20230426T102734Z
LAST-MODIFIED:20230426T102734Z
UID:1658-1685034000-1685039400@kalender.obdach.wien
SUMMARY:FOW-Kulturprogramm
DESCRIPTION:WAS: Museum – Heidi Horten (Spotlight on: Yves Klein) \n  \nWANN: Donnerstag\, 25.05.23 um 17:00 Uhr \nWO: Palais Goess-Horten\, Hanuschgasse 3\, 1010 Wien \nTreffpunkt: am Eingang\, 16:30 Uhr \n  \nBitte bis 23.05.23 über Online Kalender oder telefonisch – Reservierung notwendig
URL:https://kalender.obdach.wien/event/fow-kulturprogramm-15/
LOCATION:Museum Heidi Horten\, Hanuschgasse 3\, Wien\, 1010\, Österreich
ATTACH;FMTTYPE=image/jpeg:https://kalender.obdach.wien/wp-content/uploads/sites/5/2023/02/GettyImages-1124485411_DrAfter123.jpg
END:VEVENT
END:VCALENDAR