BEGIN:VCALENDAR
VERSION:2.0
PRODID:-//Obdach Forum - ECPv6.15.17.1//NONSGML v1.0//EN
CALSCALE:GREGORIAN
METHOD:PUBLISH
X-WR-CALNAME:Obdach Forum
X-ORIGINAL-URL:https://kalender.obdach.wien
X-WR-CALDESC:Veranstaltungen für Obdach Forum
REFRESH-INTERVAL;VALUE=DURATION:PT1H
X-Robots-Tag:noindex
X-PUBLISHED-TTL:PT1H
BEGIN:VTIMEZONE
TZID:Europe/Berlin
BEGIN:DAYLIGHT
TZOFFSETFROM:+0100
TZOFFSETTO:+0200
TZNAME:CEST
DTSTART:20210328T010000
END:DAYLIGHT
BEGIN:STANDARD
TZOFFSETFROM:+0200
TZOFFSETTO:+0100
TZNAME:CET
DTSTART:20211031T010000
END:STANDARD
BEGIN:DAYLIGHT
TZOFFSETFROM:+0100
TZOFFSETTO:+0200
TZNAME:CEST
DTSTART:20220327T010000
END:DAYLIGHT
BEGIN:STANDARD
TZOFFSETFROM:+0200
TZOFFSETTO:+0100
TZNAME:CET
DTSTART:20221030T010000
END:STANDARD
BEGIN:DAYLIGHT
TZOFFSETFROM:+0100
TZOFFSETTO:+0200
TZNAME:CEST
DTSTART:20230326T010000
END:DAYLIGHT
BEGIN:STANDARD
TZOFFSETFROM:+0200
TZOFFSETTO:+0100
TZNAME:CET
DTSTART:20231029T010000
END:STANDARD
BEGIN:DAYLIGHT
TZOFFSETFROM:+0100
TZOFFSETTO:+0200
TZNAME:CEST
DTSTART:20240331T010000
END:DAYLIGHT
BEGIN:STANDARD
TZOFFSETFROM:+0200
TZOFFSETTO:+0100
TZNAME:CET
DTSTART:20241027T010000
END:STANDARD
END:VTIMEZONE
BEGIN:VTIMEZONE
TZID:UTC
BEGIN:STANDARD
TZOFFSETFROM:+0000
TZOFFSETTO:+0000
TZNAME:UTC
DTSTART:20210101T000000
END:STANDARD
END:VTIMEZONE
BEGIN:VEVENT
DTSTART;TZID=Europe/Berlin:20230104T150000
DTEND;TZID=Europe/Berlin:20230104T160000
DTSTAMP:20260419T150943
CREATED:20221229T153520Z
LAST-MODIFIED:20221229T153520Z
UID:937-1672844400-1672848000@kalender.obdach.wien
SUMMARY:Bewegungsangebot von Frauen für Frauen - veranstaltet von Frauengesundheitszentrum FEM
DESCRIPTION:Bewegung und Entspannung  mit Heike \nEinfach bequeme Kleidung anziehen und vorbeikommen! \nWir bewegen uns gemeinsam\, dehnen uns und entspannen zum Schluss. \nFür alle Frauen – wir passen die Übungen an diejenigen an\, die da sind! \nFrei nach dem Motto: „Ich fühle mich (wieder) wohl in meinem Körper“
URL:https://kalender.obdach.wien/event/bewegungsangebot-von-frauen-fuer-frauen-veranstaltet-von-frauengesundheitszentrum-fem-2/
LOCATION:FOW-Studio\, Jagdgasse 1C\, Wien\, 1100\, Österreich
END:VEVENT
BEGIN:VEVENT
DTSTART;TZID=Europe/Berlin:20230103T140000
DTEND;TZID=Europe/Berlin:20230103T160000
DTSTAMP:20260419T150943
CREATED:20221129T124900Z
LAST-MODIFIED:20221229T153216Z
UID:880-1672754400-1672761600@kalender.obdach.wien
SUMMARY:Schachgruppe
DESCRIPTION:Gemeinsam Schach spielen und dabei einen Kaffee trinken und plaudern. Hört sich das gut an? Dann melden Sie sich. Die Gruppe ist für alle offen\, die Schach spielen können. Von motiviertem Neuling bis zum Profi sind alle herzlich willkommen.
URL:https://kalender.obdach.wien/event/schachgruppe-6-2023-01-03/
LOCATION:FOW-Studio\, Jagdgasse 1C\, Wien\, 1100\, Österreich
ATTACH;FMTTYPE=image/jpeg:https://kalender.obdach.wien/wp-content/uploads/sites/5/2022/07/Schach.png.jpg
ORGANIZER;CN="Franz Haberl":MAILTO:franz.haberl@fsw.at
END:VEVENT
BEGIN:VEVENT
DTSTART;TZID=Europe/Berlin:20230103T100000
DTEND;TZID=Europe/Berlin:20230103T130000
DTSTAMP:20260419T150943
CREATED:20221229T135604Z
LAST-MODIFIED:20221229T135604Z
UID:924-1672740000-1672750800@kalender.obdach.wien
SUMMARY:Upcycling-Gruppe / Kick-Off Veranstaltung
DESCRIPTION:Am 03.01.2023 wird von 10:00 bis 13:00 aus Altem Neues gemacht. Unsere bewährte Holzbaugruppe verwandelt sich dabei in die neue Upcycling-Gruppe. \nOb mit Holz\, Plastik oder Metall. Grenzen setzen uns hier nur unsere Ideen. In der Gruppe wollen wir gemeinsam und einzeln aus Altem Neues schaffen. Dabei soll genug Zeit zum Plaudern\, Experimentieren und Lernen bleiben. \nVon Neulingen bis zu Profis freuen wir uns über alle\, die kommen möchten. \nEs gilt die 3G-Regelung! \n 
URL:https://kalender.obdach.wien/event/upcycling-gruppe-kick-off-veranstaltung/
LOCATION:FOW-Studio\, Jagdgasse 1C\, Wien\, 1100\, Österreich
END:VEVENT
BEGIN:VEVENT
DTSTART;TZID=Europe/Berlin:20230102T140000
DTEND;TZID=Europe/Berlin:20230102T170000
DTSTAMP:20260419T150943
CREATED:20221229T134415Z
LAST-MODIFIED:20221229T134511Z
UID:917-1672668000-1672678800@kalender.obdach.wien
SUMMARY:Kreativwerkstatt-Kick-Off Veranstaltung
DESCRIPTION:Am Montag\, den 02.01.2023\, ist es endlich so weit und wir eröffnen unsere Kreativwerkstatt. Sie sind herzlich dazu eingeladen mit uns kleine Schüsselchen\, Perlen\, Fabelwesen und vieles mehr zu töpfern. Vielleicht haben Sie auch noch die ein oder andere Idee was wir sonst noch in den kommenden Kreativwerkstätten gemeinsam ausprobieren könnten?! \nSehr gerne können Sie gemeinsam mit ihren Kindern bei uns kreativ sein und einen entspannten Nachmittag verbringen. Für einen warmen Kaffee oder Tee ist gesorgt. Wir haben die Türen von 14 Uhr bis 17 Uhr geöffnet und freuen uns auf Ihr Kommen! \nEs gilt die 3-G-Regel!
URL:https://kalender.obdach.wien/event/kreativwerkstatt/
LOCATION:FOW-Studio\, Jagdgasse 1C\, Wien\, 1100\, Österreich
ATTACH;FMTTYPE=image/jpeg:https://kalender.obdach.wien/wp-content/uploads/sites/5/2022/06/GettyImages@dima_sidelnikov-1312359193_fuer_Cafe_Creative.jpg
ORGANIZER;CN="Marlies Dworak":MAILTO:marlies.dworak@fsw.at
END:VEVENT
BEGIN:VEVENT
DTSTART;TZID=Europe/Berlin:20221210T110000
DTEND;TZID=Europe/Berlin:20221210T130000
DTSTAMP:20260419T150943
CREATED:20221129T124538Z
LAST-MODIFIED:20221205T191043Z
UID:872-1670670000-1670677200@kalender.obdach.wien
SUMMARY:Theatergruppe
DESCRIPTION:Frau G. ist Theaterpädagogin und engagiert sich als freiwillige Mitarbeiterin bei FOW. Sie wird Workshops an Wochenenden zum Thema Theater (Improvisation\, Stimme\, Rollen usw. ) anbieten. Es sind keinerlei Vorkenntnisse notwendig. Nächster Termin: Samstag\, 10.12.2022 von 11:00 bis 13:00 Uhr. \nBei Interesse bitte ANMELDEN! Es gilt die 3G Regel!
URL:https://kalender.obdach.wien/event/theatergruppe/
LOCATION:FOW-Studio\, Jagdgasse 1C\, Wien\, 1100\, Österreich
ATTACH;FMTTYPE=image/jpeg:https://kalender.obdach.wien/wp-content/uploads/sites/5/2022/06/GettyImages┬®joshblake-182176177_fuer_Kulturprogramm.jpg
ORGANIZER;CN="Sonja Draesner":MAILTO:sonja.draesner@fsw.at
END:VEVENT
BEGIN:VEVENT
DTSTART;TZID=Europe/Berlin:20221207T150000
DTEND;TZID=Europe/Berlin:20221207T160000
DTSTAMP:20260419T150943
CREATED:20221130T083428Z
LAST-MODIFIED:20221130T083428Z
UID:891-1670425200-1670428800@kalender.obdach.wien
SUMMARY:Bewegungsangebot von Frauen für Frauen - veranstaltet von Frauengesundheitszentrum FEM
DESCRIPTION:Bewegung und Entspannung jeden Mittwoch 15 – 16 Uhr mit Heike \nEinfach bequeme Kleidung anziehen und vorbeikommen! \nWir bewegen uns gemeinsam\, dehnen uns und entspannen zum Schluss. \nFür alle Frauen – wir passen die Übungen an diejenigen an\, die da sind! \nFrei nach dem Motto: „Ich fühle mich (wieder) wohl in meinem Körper“ \n  \nWie immer gilt die 3G Regelung!
URL:https://kalender.obdach.wien/event/bewegungsangebot-von-frauen-fuer-frauen-veranstaltet-von-frauengesundheitszentrum-fem/2022-12-07/
LOCATION:FOW-Studio\, Jagdgasse 1C\, Wien\, 1100\, Österreich
ORGANIZER;CN="Sonja Draesner":MAILTO:sonja.draesner@fsw.at
END:VEVENT
BEGIN:VEVENT
DTSTART;TZID=Europe/Berlin:20221122T140000
DTEND;TZID=Europe/Berlin:20221122T160000
DTSTAMP:20260419T150943
CREATED:20221027T143704Z
LAST-MODIFIED:20221027T143704Z
UID:814-1669125600-1669132800@kalender.obdach.wien
SUMMARY:Schachgruppe
DESCRIPTION:Gemeinsam Schach spielen und dabei einen Kaffee trinken und plaudern. Hört sich das gut an? Dann melden Sie sich. Die Gruppe ist für alle offen\, die Schach spielen können. Von motiviertem Neuling bis zum Profi sind alle herzlich willkommen. \nBitte Veranstaltungsort beachten. Die Gruppe findet an wechselnden Standorten statt. \nFür alle Gruppenangebote gilt 3G!
URL:https://kalender.obdach.wien/event/schachgruppe-4/
LOCATION:FOW-Studio\, Jagdgasse 1C\, Wien\, 1100\, Österreich
ATTACH;FMTTYPE=image/jpeg:https://kalender.obdach.wien/wp-content/uploads/sites/5/2022/07/Schach.png.jpg
ORGANIZER;CN="Franz Haberl":MAILTO:franz.haberl@fsw.at
END:VEVENT
BEGIN:VEVENT
DTSTART;TZID=Europe/Berlin:20221108T140000
DTEND;TZID=Europe/Berlin:20221108T160000
DTSTAMP:20260419T150943
CREATED:20221027T143327Z
LAST-MODIFIED:20221027T144319Z
UID:809-1667916000-1667923200@kalender.obdach.wien
SUMMARY:Schachgruppe
DESCRIPTION:Gemeinsam Schach spielen und dabei einen Kaffee trinken und plaudern. Hört sich das gut an? Dann melden Sie sich. Die Gruppe ist für alle offen\, die Schach spielen können. Von motiviertem Neuling bis zum Profi sind alle herzlich willkommen. \nBitte Veranstaltungsort beachten. Die Gruppe findet an wechselnden Standorten statt. \nFür alle Gruppenangebote gilt 3G!
URL:https://kalender.obdach.wien/event/schachgruppe-2/
LOCATION:FOW-Studio\, Jagdgasse 1C\, Wien\, 1100\, Österreich
ATTACH;FMTTYPE=image/jpeg:https://kalender.obdach.wien/wp-content/uploads/sites/5/2022/07/Schach.png.jpg
ORGANIZER;CN="Franz Haberl":MAILTO:franz.haberl@fsw.at
END:VEVENT
BEGIN:VEVENT
DTSTART;TZID=Europe/Berlin:20221029T090000
DTEND;TZID=Europe/Berlin:20221029T110000
DTSTAMP:20260419T150943
CREATED:20221021T082819Z
LAST-MODIFIED:20221021T082819Z
UID:799-1667034000-1667041200@kalender.obdach.wien
SUMMARY:Theaterworkshop
DESCRIPTION:Frau G. ist Theaterpädagogin und engagiert sich als freiwillige Mitarbeiterin bei FOW. Sie wird Workshops an Wochenenden zum Thema Theater (Improvisation\, Stimme\, Rollen usw. ) anbieten. Es sind keinerlei Vorkenntnisse notwendig. Erster Termin: Samstag\, 29.10.2022 von 09:00 bis 11:00 Uhr. \nBei Interesse bitte ANMELDEN! \n 
URL:https://kalender.obdach.wien/event/theaterworkshop/
LOCATION:FOW-Studio\, Jagdgasse 1C\, Wien\, 1100\, Österreich
ATTACH;FMTTYPE=image/jpeg:https://kalender.obdach.wien/wp-content/uploads/sites/5/2022/06/GettyImages┬®joshblake-182176177_fuer_Kulturprogramm.jpg
ORGANIZER;CN="Sonja Draesner":MAILTO:sonja.draesner@fsw.at
END:VEVENT
BEGIN:VEVENT
DTSTART;TZID=Europe/Berlin:20220921T140000
DTEND;TZID=Europe/Berlin:20220921T170000
DTSTAMP:20260419T150943
CREATED:20220823T113545Z
LAST-MODIFIED:20220823T150117Z
UID:611-1663768800-1663779600@kalender.obdach.wien
SUMMARY:Café Creative
DESCRIPTION:Im Café Creative lädt Robert\, einer unserer Teilnehmer\, alle zwei Wochen dazu ein\, sich gemeinsam mit Kunst und Kreativität zu beschäftigen. Künstlerische Techniken können erlernt und eigene künstlerische Projekte verfolgt werden. Dafür sind viele Materialien vorhanden. Je nach Interesse in der Gruppe wird gemeinsam entschieden\, an welchem Thema oder mit welcher Technik gearbeitet wird. Es braucht keine Vorkenntnisse\, nur die Offenheit\, etwas Neues zu lernen oder das eigene Wissen und Können zu teilen.
URL:https://kalender.obdach.wien/event/cafe-creative-2-2022-09-21/
LOCATION:FOW-Studio\, Jagdgasse 1C\, Wien\, 1100\, Österreich
ATTACH;FMTTYPE=image/jpeg:https://kalender.obdach.wien/wp-content/uploads/sites/5/2022/06/GettyImages@dima_sidelnikov-1312359193_fuer_Cafe_Creative.jpg
END:VEVENT
BEGIN:VEVENT
DTSTART;TZID=Europe/Berlin:20220907T140000
DTEND;TZID=Europe/Berlin:20220907T170000
DTSTAMP:20260419T150943
CREATED:20220823T113545Z
LAST-MODIFIED:20220823T150214Z
UID:609-1662559200-1662570000@kalender.obdach.wien
SUMMARY:Café Creative
DESCRIPTION:Im Café Creative lädt Robert\, einer unserer Teilnehmer\, alle zwei Wochen dazu ein\, sich gemeinsam mit Kunst und Kreativität zu beschäftigen. Künstlerische Techniken können erlernt und eigene künstlerische Projekte verfolgt werden. Dafür sind viele Materialien vorhanden. Je nach Interesse in der Gruppe wird gemeinsam entschieden\, an welchem Thema oder mit welcher Technik gearbeitet wird. Es braucht keine Vorkenntnisse\, nur die Offenheit\, etwas Neues zu lernen oder das eigene Wissen und Können zu teilen.
URL:https://kalender.obdach.wien/event/cafe-creative-2/
LOCATION:FOW-Studio\, Jagdgasse 1C\, Wien\, 1100\, Österreich
ATTACH;FMTTYPE=image/jpeg:https://kalender.obdach.wien/wp-content/uploads/sites/5/2022/06/GettyImages@dima_sidelnikov-1312359193_fuer_Cafe_Creative.jpg
END:VEVENT
BEGIN:VEVENT
DTSTART;TZID=Europe/Berlin:20220830T100000
DTEND;TZID=Europe/Berlin:20220830T160000
DTSTAMP:20260419T150943
CREATED:20220727T141251Z
LAST-MODIFIED:20220727T142924Z
UID:477-1661853600-1661875200@kalender.obdach.wien
SUMMARY:Sommerprogramm - Workshop Action Painting
DESCRIPTION:Mittels dynamischer Maltechniken gestalten wir eine große Leinwand und lassen Farbtöpfe und Pinsel schütteln und schwingen.
URL:https://kalender.obdach.wien/event/sommerprogramm-workshop-action-painting/
LOCATION:FOW-Studio\, Jagdgasse 1C\, Wien\, 1100\, Österreich
ORGANIZER;CN="Sonja Draesner":MAILTO:sonja.draesner@fsw.at
END:VEVENT
BEGIN:VEVENT
DTSTART;TZID=Europe/Berlin:20220816T100000
DTEND;TZID=Europe/Berlin:20220816T140000
DTSTAMP:20260419T150943
CREATED:20220727T140339Z
LAST-MODIFIED:20220728T093851Z
UID:473-1660644000-1660658400@kalender.obdach.wien
SUMMARY:Sommerprogramm - WORKSHOP LANDSCHAFTSMALEREI
DESCRIPTION:Wir machen uns mit Feldstaffeleien im Gepäck auf den Weg in die Natur und bringen diese mit Farbe und Pinsel auf Papier.  (Bitte anmelden\, max. 6 Personen)
URL:https://kalender.obdach.wien/event/sommerprogramm-landschaftsmalerei/
LOCATION:FOW-Studio\, Jagdgasse 1C\, Wien\, 1100\, Österreich
ORGANIZER;CN="Sonja Draesner":MAILTO:sonja.draesner@fsw.at
END:VEVENT
BEGIN:VEVENT
DTSTART;TZID=Europe/Berlin:20220803T170000
DTEND;TZID=Europe/Berlin:20220803T190000
DTSTAMP:20260419T150943
CREATED:20220727T135655Z
LAST-MODIFIED:20220727T142224Z
UID:467-1659546000-1659553200@kalender.obdach.wien
SUMMARY:Sommerprogramm - FILMABEND
DESCRIPTION:Wir schauen gemeinsam Dokumentarfilme aus den Herkunftsländern unserer Teilnehmer:innen.
URL:https://kalender.obdach.wien/event/sommerprogramm-filmabend/
LOCATION:FOW-Studio\, Jagdgasse 1C\, Wien\, 1100\, Österreich
ORGANIZER;CN="Sonja Draesner":MAILTO:sonja.draesner@fsw.at
END:VEVENT
BEGIN:VEVENT
DTSTART;TZID=UTC:20220727T140000
DTEND;TZID=UTC:20220727T170000
DTSTAMP:20260419T150943
CREATED:20220620T115412Z
LAST-MODIFIED:20220627T105741Z
UID:331-1658930400-1658941200@kalender.obdach.wien
SUMMARY:Café Creative
DESCRIPTION:Im Café Creative lädt Robert\, einer unserer Teilnehmer\, alle zwei Wochen dazu ein\, sich gemeinsam mit Kunst und Kreativität zu beschäftigen. Künstlerische Techniken können erlernt und eigene künstlerische Projekte verfolgt werden. Dafür sind viele Materialien vorhanden. Je nach Interesse in der Gruppe wird gemeinsam entschieden\, an welchem Thema oder mit welcher Technik gearbeitet wird. Es braucht keine Vorkenntnisse\, nur die Offenheit\, etwas Neues zu lernen oder das eigene Wissen und Können zu teilen.
URL:https://kalender.obdach.wien/event/cafe-creative-2022-07-27/
LOCATION:FOW-Studio\, Jagdgasse 1C\, Wien\, 1100\, Österreich
ATTACH;FMTTYPE=image/jpeg:https://kalender.obdach.wien/wp-content/uploads/sites/5/2022/06/GettyImages@dima_sidelnikov-1312359193_fuer_Cafe_Creative.jpg
END:VEVENT
BEGIN:VEVENT
DTSTART;TZID=UTC:20220713T140000
DTEND;TZID=UTC:20220713T170000
DTSTAMP:20260419T150943
CREATED:20220620T115412Z
LAST-MODIFIED:20220627T105813Z
UID:325-1657720800-1657731600@kalender.obdach.wien
SUMMARY:Café Creative
DESCRIPTION:Im Café Creative lädt Robert\, einer unserer Teilnehmer\, alle zwei Wochen dazu ein\, sich gemeinsam mit Kunst und Kreativität zu beschäftigen. Künstlerische Techniken können erlernt und eigene künstlerische Projekte verfolgt werden. Dafür sind viele Materialien vorhanden. Je nach Interesse in der Gruppe wird gemeinsam entschieden\, an welchem Thema oder mit welcher Technik gearbeitet wird. Es braucht keine Vorkenntnisse\, nur die Offenheit\, etwas Neues zu lernen oder das eigene Wissen und Können zu teilen.
URL:https://kalender.obdach.wien/event/cafe-creative/
LOCATION:FOW-Studio\, Jagdgasse 1C\, Wien\, 1100\, Österreich
ATTACH;FMTTYPE=image/jpeg:https://kalender.obdach.wien/wp-content/uploads/sites/5/2022/06/GettyImages@dima_sidelnikov-1312359193_fuer_Cafe_Creative.jpg
END:VEVENT
BEGIN:VEVENT
DTSTART;TZID=UTC:20220707T103000
DTEND;TZID=UTC:20220707T123000
DTSTAMP:20260419T150943
CREATED:20220704T085148Z
LAST-MODIFIED:20220823T105444Z
UID:390-1657189800-1657197000@kalender.obdach.wien
SUMMARY:Schachgruppe
DESCRIPTION:Gemeinsam Schach spielen und dabei einen Kaffee trinken und plaudern. Hört sich das gut an? Dann melden Sie sich. Die Gruppe ist für alle offen\, die Schach spielen können. Von motiviertem Neuling bis zum Profi sind alle herzlich willkommen.
URL:https://kalender.obdach.wien/event/schachgruppe/2022-07-07/
LOCATION:FOW-Studio\, Jagdgasse 1C\, Wien\, 1100\, Österreich
ATTACH;FMTTYPE=image/jpeg:https://kalender.obdach.wien/wp-content/uploads/sites/5/2022/07/Schach.png.jpg
ORGANIZER;CN="Sonja Draesner":MAILTO:sonja.draesner@fsw.at
END:VEVENT
BEGIN:VEVENT
DTSTART;TZID=UTC:20220629T103000
DTEND;TZID=UTC:20220629T123000
DTSTAMP:20260419T150943
CREATED:20220620T104337Z
LAST-MODIFIED:20220719T095614Z
UID:246-1656498600-1656505800@kalender.obdach.wien
SUMMARY:Theatergruppe
DESCRIPTION:Stimme\, Ausdruck\, Schauspiel. \nLust auf spielen? Mal in eine andere Rolle schlüpfen oder einfach nur die eigene Stimme neu entdecken? Dann sind Sie in dieser Gruppe richtig. \nAlle sind herzlich willkommen vom Anfänger bis zu Menschen mit Bühnenerfahrung. Lassen Sie sich von sich selbst überraschen!
URL:https://kalender.obdach.wien/event/theater-stimme-und-mehr-2022-06-29/2022-06-29/
LOCATION:FOW-Studio\, Jagdgasse 1C\, Wien\, 1100\, Österreich
ORGANIZER;CN="Anna Dempsey":MAILTO:anna.dempsey@fsw.at
END:VEVENT
END:VCALENDAR