BEGIN:VCALENDAR
VERSION:2.0
PRODID:-//Obdach Forum - ECPv6.15.17.1//NONSGML v1.0//EN
CALSCALE:GREGORIAN
METHOD:PUBLISH
X-ORIGINAL-URL:https://kalender.obdach.wien
X-WR-CALDESC:Veranstaltungen für Obdach Forum
REFRESH-INTERVAL;VALUE=DURATION:PT1H
X-Robots-Tag:noindex
X-PUBLISHED-TTL:PT1H
BEGIN:VTIMEZONE
TZID:Europe/Berlin
BEGIN:DAYLIGHT
TZOFFSETFROM:+0100
TZOFFSETTO:+0200
TZNAME:CEST
DTSTART:20220327T010000
END:DAYLIGHT
BEGIN:STANDARD
TZOFFSETFROM:+0200
TZOFFSETTO:+0100
TZNAME:CET
DTSTART:20221030T010000
END:STANDARD
BEGIN:DAYLIGHT
TZOFFSETFROM:+0100
TZOFFSETTO:+0200
TZNAME:CEST
DTSTART:20230326T010000
END:DAYLIGHT
BEGIN:STANDARD
TZOFFSETFROM:+0200
TZOFFSETTO:+0100
TZNAME:CET
DTSTART:20231029T010000
END:STANDARD
BEGIN:DAYLIGHT
TZOFFSETFROM:+0100
TZOFFSETTO:+0200
TZNAME:CEST
DTSTART:20240331T010000
END:DAYLIGHT
BEGIN:STANDARD
TZOFFSETFROM:+0200
TZOFFSETTO:+0100
TZNAME:CET
DTSTART:20241027T010000
END:STANDARD
END:VTIMEZONE
BEGIN:VEVENT
DTSTART;TZID=Europe/Berlin:20230502T090000
DTEND;TZID=Europe/Berlin:20230502T130000
DTSTAMP:20260419T224503
CREATED:20230301T154350Z
LAST-MODIFIED:20230427T120406Z
UID:1406-1683018000-1683032400@kalender.obdach.wien
SUMMARY:Tooltime
DESCRIPTION:Ob Holz\, Plastik\, Stoff oder Metall. Grenzen setzen uns nur unsere Ideen. In dieser Gruppe wollen wir gemeinsam und einzeln aus Altem Neues schaffen. Auch zum Plaudern bleibt dabei Zeit. Die Gruppe ist für alle offen. Von Neulingen bis zu Profis freuen wir uns über alle\, die kommen möchten.
URL:https://kalender.obdach.wien/event/upcycling-gruppe-9-2023-03-14-2023-05-02/
LOCATION:Obdach Forum\, Windmühlgasse 30\, Wien\, 1060\, Österreich
ATTACH;FMTTYPE=image/jpeg:https://kalender.obdach.wien/wp-content/uploads/sites/5/2023/02/GettyImages-1192437563_Oleksandra-Troian.jpg
END:VEVENT
BEGIN:VEVENT
DTSTART;TZID=Europe/Berlin:20230426T140000
DTEND;TZID=Europe/Berlin:20230426T160000
DTSTAMP:20260419T224503
CREATED:20230130T133942Z
LAST-MODIFIED:20230405T110246Z
UID:1204-1682517600-1682524800@kalender.obdach.wien
SUMMARY:Plauscherl & Guglhupf + Tag der offenen Tür
DESCRIPTION:Lockeres Plaudern in lustiger Runde. Bei unserer offenen Kaffeerunde können Sie sich mit anderen Personen austauschen und plaudern. Wenn dabei Ideen entstehen\, umso besser!\nKommen Sie vorbei und verbringen Sie einen angenehmen Nachmittag mit uns. \nDas Format öffnet einmal im Monat seine Türen und lädt interessierte Menschen ein vorbei zu kommen.  Das FOW Team und Gruppenteilnehmer:innen geben einen Überblick über die FOW Tätigkeiten und unsere Gruppenangebote.
URL:https://kalender.obdach.wien/event/plauscherl-guglhupf-8-2023-03-08-2023-03-15-2023-04-26/
LOCATION:Obdach Forum\, Windmühlgasse 30\, Wien\, 1060\, Österreich
ATTACH;FMTTYPE=image/jpeg:https://kalender.obdach.wien/wp-content/uploads/sites/5/2023/02/GettyImages-1160073046_Drbouz.jpg
END:VEVENT
BEGIN:VEVENT
DTSTART;TZID=Europe/Berlin:20230412T140000
DTEND;TZID=Europe/Berlin:20230412T160000
DTSTAMP:20260419T224503
CREATED:20230130T133942Z
LAST-MODIFIED:20230411T081618Z
UID:1202-1681308000-1681315200@kalender.obdach.wien
SUMMARY:Plauscherl & Guglhupf
DESCRIPTION:Lockeres Plaudern in lustiger Runde. Bei unserer offenen Kaffeerunde können Sie sich mit anderen Teilnehmer:innen austauschen und plaudern. Wenn dabei Ideen entstehen\, umso besser!\nKommen Sie vorbei und verbringen Sie einen angenehmen Nachmittag mit uns. \nThema: Alles rund um die Eröffnung der Gartlsaison
URL:https://kalender.obdach.wien/event/plauscherl-guglhupf-8-2023-03-08-2023-03-15-2023-04-12/
LOCATION:Obdach Forum\, Windmühlgasse 30\, Wien\, 1060\, Österreich
ATTACH;FMTTYPE=image/jpeg:https://kalender.obdach.wien/wp-content/uploads/sites/5/2023/02/GettyImages-1160073046_Drbouz.jpg
END:VEVENT
BEGIN:VEVENT
DTSTART;TZID=Europe/Berlin:20230405T140000
DTEND;TZID=Europe/Berlin:20230405T160000
DTSTAMP:20260419T224503
CREATED:20230130T133942Z
LAST-MODIFIED:20230315T121216Z
UID:1201-1680703200-1680710400@kalender.obdach.wien
SUMMARY:Plauscherl & Guglhupf
DESCRIPTION:Lockeres Plaudern in lustiger Runde. Bei unserer offenen Kaffeerunde können Sie sich mit anderen Teilnehmer:innen austauschen und plaudern. Wenn dabei Ideen entstehen\, umso besser!\nKommen Sie vorbei und verbringen Sie einen angenehmen Nachmittag mit uns. \nThema: Informationen und Austausch zu vergünstigten Bewegungsangeboten in Wien (Tuwas-Pass\, Sportangebote mit Sozialtarifen etc.)
URL:https://kalender.obdach.wien/event/plauscherl-guglhupf-8-2023-03-08-2023-03-15-2023-04-05/
LOCATION:Obdach Forum\, Windmühlgasse 30\, Wien\, 1060\, Österreich
ATTACH;FMTTYPE=image/jpeg:https://kalender.obdach.wien/wp-content/uploads/sites/5/2023/02/GettyImages-1160073046_Drbouz.jpg
END:VEVENT
BEGIN:VEVENT
DTSTART;TZID=Europe/Berlin:20230329T140000
DTEND;TZID=Europe/Berlin:20230329T170000
DTSTAMP:20260419T224503
CREATED:20230130T133942Z
LAST-MODIFIED:20230306T111628Z
UID:1200-1680098400-1680109200@kalender.obdach.wien
SUMMARY:Plauscherl & Guglhupf + Tag der offenen Tür
DESCRIPTION:Lockeres Plaudern in lustiger Runde. Bei unserer offenen Kaffeerunde können Sie sich mit anderen Personen austauschen und plaudern. Wenn dabei Ideen entstehen\, umso besser!\nKommen Sie vorbei und verbringen Sie einen angenehmen Nachmittag mit uns. \nDas Format öffnet einmal im Monat seine Türen und lädt interessierte Menschen ein vorbei zu kommen.  Das FOW Team und Gruppenteilnehmer:innen geben einen Überblick über die FOW Tätigkeiten und unsere Gruppenangebote.
URL:https://kalender.obdach.wien/event/plauscherl-guglhupf-8-2023-03-08-2023-03-29/
LOCATION:Obdach Forum\, Windmühlgasse 30\, Wien\, 1060\, Österreich
ATTACH;FMTTYPE=image/jpeg:https://kalender.obdach.wien/wp-content/uploads/sites/5/2023/02/GettyImages-1160073046_Drbouz.jpg
END:VEVENT
BEGIN:VEVENT
DTSTART;TZID=Europe/Berlin:20230328T103000
DTEND;TZID=Europe/Berlin:20230328T123000
DTSTAMP:20260419T224503
CREATED:20230314T104959Z
LAST-MODIFIED:20230321T092112Z
UID:1477-1679999400-1680006600@kalender.obdach.wien
SUMMARY:Nähgruppe
DESCRIPTION:Wollten Sie sich schon immer eine Hose kürzen\, eine neue Kissenhülle nähen oder einen Stoffbeutel kreativ gestalten? Dann kommen Sie gerne vorbei und lassen Sie uns gemeinsam mit Nadel&Faden sowie der Nähmaschine Altes ändern und Neues erschaffen. \nAnfänger und Fortgeschrittene sind willkommen!
URL:https://kalender.obdach.wien/event/naehgruppe-3-2023-03-28/2023-03-28/
LOCATION:Obdach Forum\, Windmühlgasse 30\, Wien\, 1060\, Österreich
ATTACH;FMTTYPE=image/jpeg:https://kalender.obdach.wien/wp-content/uploads/sites/5/2023/02/GettyImages-859269326_nicolas_.jpg
ORGANIZER;CN="Marlies Dworak":MAILTO:marlies.dworak@fsw.at
END:VEVENT
BEGIN:VEVENT
DTSTART;TZID=Europe/Berlin:20230328T090000
DTEND;TZID=Europe/Berlin:20230328T130000
DTSTAMP:20260419T224503
CREATED:20230301T154350Z
LAST-MODIFIED:20230321T103112Z
UID:1401-1679994000-1680008400@kalender.obdach.wien
SUMMARY:Upcycling-Gruppe
DESCRIPTION:Ob Holz\, Plastik oder Metall. Grenzen setzen uns nur unsere Ideen. In dieser Gruppe wollen wir gemeinsam und einzeln aus Altem Neues schaffen. Auch zum Plaudern bleibt dabei Zeit. Die Gruppe ist für alle offen. Von Neulingen bis zu Profis freuen wir uns über alle\, die kommen möchten. \nThema: heute reparieren wir gemeinsam die Hochbeete für unsere Baumscheiben in der Windmühlgasse
URL:https://kalender.obdach.wien/event/upcycling-gruppe-9-2023-03-28/
LOCATION:Obdach Forum\, Windmühlgasse 30\, Wien\, 1060\, Österreich
ATTACH;FMTTYPE=image/jpeg:https://kalender.obdach.wien/wp-content/uploads/sites/5/2023/02/GettyImages-1192437563_Oleksandra-Troian.jpg
END:VEVENT
BEGIN:VEVENT
DTSTART;TZID=Europe/Berlin:20230322T140000
DTEND;TZID=Europe/Berlin:20230322T160000
DTSTAMP:20260419T224503
CREATED:20230130T133942Z
LAST-MODIFIED:20230315T121017Z
UID:1199-1679493600-1679500800@kalender.obdach.wien
SUMMARY:Plauscherl & Guglhupf
DESCRIPTION:Lockeres Plaudern in lustiger Runde. Bei unserer offenen Kaffeerunde können Sie sich mit anderen Teilnehmer:innen austauschen und plaudern. Wenn dabei Ideen entstehen\, umso besser!\nKommen Sie vorbei und verbringen Sie einen angenehmen Nachmittag mit uns. \nThema: Informationen und Austausch zu Alters-\, Korridor-\, Invaliditätspension und den Rahmenbedingungen
URL:https://kalender.obdach.wien/event/plauscherl-guglhupf-8-2023-03-08-2023-03-15-2023-03-22/
LOCATION:Obdach Forum\, Windmühlgasse 30\, Wien\, 1060\, Österreich
ATTACH;FMTTYPE=image/jpeg:https://kalender.obdach.wien/wp-content/uploads/sites/5/2023/02/GettyImages-1160073046_Drbouz.jpg
END:VEVENT
BEGIN:VEVENT
DTSTART;TZID=Europe/Berlin:20230316T130000
DTEND;TZID=Europe/Berlin:20230316T150000
DTSTAMP:20260419T224503
CREATED:20230315T073008Z
LAST-MODIFIED:20230315T073008Z
UID:1485-1678971600-1678978800@kalender.obdach.wien
SUMMARY:Gemeinsames Garteln
DESCRIPTION:Wir laden zum gemeinsamen Garteln ein. Wer einen grünen Daumen hat oder einen bekommen will\, ist hier richtig. Gemeinsam werden Tipps ausgetauscht\, Pflanzen gezogen und deren Wachstum bestaunt. Darüber hinaus betreuen wir auch zwei Baumscheiben in der Windmühlgasse und verschönert so die Stadt.
URL:https://kalender.obdach.wien/event/gemeinsames-garteln/2023-03-16/
LOCATION:Obdach Forum\, Windmühlgasse 30\, Wien\, 1060\, Österreich
ATTACH;FMTTYPE=image/jpeg:https://kalender.obdach.wien/wp-content/uploads/sites/5/2022/06/Kalender_Garten.jpg
ORGANIZER;CN="Marlies Dworak":MAILTO:marlies.dworak@fsw.at
END:VEVENT
BEGIN:VEVENT
DTSTART;TZID=Europe/Berlin:20230315T140000
DTEND;TZID=Europe/Berlin:20230315T160000
DTSTAMP:20260419T224503
CREATED:20230130T133942Z
LAST-MODIFIED:20230314T083132Z
UID:1198-1678888800-1678896000@kalender.obdach.wien
SUMMARY:Plauscherl & Guglhupf
DESCRIPTION:Lockeres Plaudern in lustiger Runde. Bei unserer offenen Kaffeerunde können Sie sich mit anderen Teilnehmer:innen austauschen und plaudern. Wenn dabei Ideen entstehen\, umso besser!\nKommen Sie vorbei und verbringen Sie einen angenehmen Nachmittag mit uns. \nThema: Übersicht zu vergünstigten Bildungsangeboten
URL:https://kalender.obdach.wien/event/plauscherl-guglhupf-8-2023-03-08-2023-03-15/
LOCATION:Obdach Forum\, Windmühlgasse 30\, Wien\, 1060\, Österreich
ATTACH;FMTTYPE=image/jpeg:https://kalender.obdach.wien/wp-content/uploads/sites/5/2023/02/GettyImages-1160073046_Drbouz.jpg
END:VEVENT
BEGIN:VEVENT
DTSTART;TZID=Europe/Berlin:20230314T103000
DTEND;TZID=Europe/Berlin:20230314T123000
DTSTAMP:20260419T224503
CREATED:20230308T113934Z
LAST-MODIFIED:20230308T113934Z
UID:1471-1678789800-1678797000@kalender.obdach.wien
SUMMARY:Nähgruppe
DESCRIPTION:Wollten Sie sich schon immer eine Hose kürzen\, eine neue Kissenhülle nähen oder einen Stoffbeutel kreativ gestalten? Dann kommen Sie gerne vorbei und lassen Sie uns gemeinsam mit Nadel&Faden sowie der Nähmaschine Altes ändern und Neues erschaffen. \nAnfänger und Fortgeschrittene sind willkommen!
URL:https://kalender.obdach.wien/event/naehgruppe-2/
LOCATION:Obdach Forum\, Windmühlgasse 30\, Wien\, 1060\, Österreich
ATTACH;FMTTYPE=image/jpeg:https://kalender.obdach.wien/wp-content/uploads/sites/5/2023/02/GettyImages-859269326_nicolas_.jpg
ORGANIZER;CN="Marlies Dworak":MAILTO:marlies.dworak@fsw.at
END:VEVENT
BEGIN:VEVENT
DTSTART;TZID=Europe/Berlin:20230308T140000
DTEND;TZID=Europe/Berlin:20230308T160000
DTSTAMP:20260419T224503
CREATED:20230130T133942Z
LAST-MODIFIED:20230307T140835Z
UID:1197-1678284000-1678291200@kalender.obdach.wien
SUMMARY:Plauscherl & Guglhupf
DESCRIPTION:Lockeres Plaudern in lustiger Runde. Bei unserer offenen Kaffeerunde können Sie sich mit anderen Teilnehmer:innen austauschen und plaudern. Wenn dabei Ideen entstehen\, umso besser!\nKommen Sie vorbei und verbringen Sie einen angenehmen Nachmittag mit uns. \nThema: internationaler Frauentag
URL:https://kalender.obdach.wien/event/plauscherl-guglhupf-8-2023-03-08/
LOCATION:Obdach Forum\, Windmühlgasse 30\, Wien\, 1060\, Österreich
ATTACH;FMTTYPE=image/jpeg:https://kalender.obdach.wien/wp-content/uploads/sites/5/2023/02/GettyImages-1160073046_Drbouz.jpg
END:VEVENT
BEGIN:VEVENT
DTSTART;TZID=Europe/Berlin:20230307T103000
DTEND;TZID=Europe/Berlin:20230307T123000
DTSTAMP:20260419T224503
CREATED:20230301T160343Z
LAST-MODIFIED:20230301T160343Z
UID:1417-1678185000-1678192200@kalender.obdach.wien
SUMMARY:Nähgruppe
DESCRIPTION:Wollten Sie sich schon immer eine Hose kürzen\, eine neue Kissenhülle nähen oder einen Stoffbeutel kreativ gestalten? Dann kommen Sie gerne vorbei und lassen Sie uns gemeinsam mit Nadel&Faden sowie der Nähmaschine Altes ändern und Neues erschaffen. \nAnfänger und Fortgeschrittene sind willkommen!
URL:https://kalender.obdach.wien/event/naehgruppe/
LOCATION:Obdach Forum\, Windmühlgasse 30\, Wien\, 1060\, Österreich
ATTACH;FMTTYPE=image/jpeg:https://kalender.obdach.wien/wp-content/uploads/sites/5/2023/02/GettyImages-859269326_nicolas_.jpg
END:VEVENT
BEGIN:VEVENT
DTSTART;TZID=Europe/Berlin:20230306T150000
DTEND;TZID=Europe/Berlin:20230306T160000
DTSTAMP:20260419T224503
CREATED:20230301T160155Z
LAST-MODIFIED:20230301T160155Z
UID:1415-1678114800-1678118400@kalender.obdach.wien
SUMMARY:Gartengruppe (Kick-off)
DESCRIPTION:Wir laden zum gemeinsamen Garteln ein. Wer einen grünen Daumen hat oder einen bekommen will ist hier richtig. Gemeinsam werden Tipps ausgetauscht\, Pflanzen gezogen und deren Wachstum bestaunt. Darüber hinaus betreut die Gartengruppe auch zwei Baumscheiben in der Windmühlgasse und verschönert so die Stadt. \nAm 06.03.2023 findet ein Kick-Off zur weiteren Planung der Gruppe statt.
URL:https://kalender.obdach.wien/event/gartengruppe-kick-off/
LOCATION:Obdach Forum\, Windmühlgasse 30\, Wien\, 1060\, Österreich
ATTACH;FMTTYPE=image/jpeg:https://kalender.obdach.wien/wp-content/uploads/sites/5/2022/06/Kalender_Garten.jpg
ORGANIZER;CN="Sonja Draesner":MAILTO:sonja.draesner@fsw.at
END:VEVENT
BEGIN:VEVENT
DTSTART;TZID=Europe/Berlin:20230301T140000
DTEND;TZID=Europe/Berlin:20230301T160000
DTSTAMP:20260419T224503
CREATED:20230130T133941Z
LAST-MODIFIED:20230215T124129Z
UID:1195-1677679200-1677686400@kalender.obdach.wien
SUMMARY:Plauscherl & Guglhupf
DESCRIPTION:Lockeres Plaudern in lustiger Runde. Bei unserer offenen Kaffeerunde können Sie sich mit anderen Teilnehmer:innen austauschen und plaudern. Wenn dabei Ideen entstehen\, umso besser!\nKommen Sie vorbei und verbringen Sie einen angenehmen Nachmittag mit uns. \nThema: wird noch bekannt gegeben
URL:https://kalender.obdach.wien/event/plauscherl-guglhupf-8/
LOCATION:Obdach Forum\, Windmühlgasse 30\, Wien\, 1060\, Österreich
ATTACH;FMTTYPE=image/jpeg:https://kalender.obdach.wien/wp-content/uploads/sites/5/2023/02/GettyImages-1160073046_Drbouz.jpg
END:VEVENT
BEGIN:VEVENT
DTSTART;TZID=Europe/Berlin:20230228T103000
DTEND;TZID=Europe/Berlin:20230228T123000
DTSTAMP:20260419T224503
CREATED:20230124T120431Z
LAST-MODIFIED:20230215T074803Z
UID:1028-1677580200-1677587400@kalender.obdach.wien
SUMMARY:Nähwerkstatt
DESCRIPTION:Wollten Sie sich schon immer eine Hose kürzen\, eine neue Kissenhülle nähen oder einen Stoffbeutel kreativ gestalten? Dann kommen Sie gerne vorbei und lassen Sie uns gemeinsam mit Nadel&Faden sowie der Nähmaschine Altes ändern und Neues erschaffen. \nAnfänger und Fortgeschrittene sind willkommen!
URL:https://kalender.obdach.wien/event/naehwerkstatt/
LOCATION:Obdach Forum\, Windmühlgasse 30\, Wien\, 1060\, Österreich
ATTACH;FMTTYPE=image/jpeg:https://kalender.obdach.wien/wp-content/uploads/sites/5/2023/02/GettyImages-859269326_nicolas_.jpg
ORGANIZER;CN="Marlies Dworak":MAILTO:marlies.dworak@fsw.at
END:VEVENT
BEGIN:VEVENT
DTSTART;TZID=Europe/Berlin:20230223T100000
DTEND;TZID=Europe/Berlin:20230223T150000
DTSTAMP:20260419T224503
CREATED:20230131T101024Z
LAST-MODIFIED:20230222T161054Z
UID:1284-1677146400-1677164400@kalender.obdach.wien
SUMMARY:Nahrungsmittel Kunst
DESCRIPTION:Inhalt: Bleistift und Papier \nMaterialinformationen rund ums Thema Zeichnen (Bleistiftstärken\, Papier\, Preise). Ein bildender Künstler besucht uns. Zeichnen ist nicht verpflichtend\, allein das Interesse an Kunst genügt. \n  \nOnlineanmeldung oder  Telefonanmeldung!
URL:https://kalender.obdach.wien/event/workshop-nahrungsmittel-kunst/
LOCATION:Obdach Forum\, Windmühlgasse 30\, Wien\, 1060\, Österreich
ORGANIZER;CN="Sonja Draesner":MAILTO:sonja.draesner@fsw.at
END:VEVENT
BEGIN:VEVENT
DTSTART;TZID=Europe/Berlin:20230222T140000
DTEND;TZID=Europe/Berlin:20230222T160000
DTSTAMP:20260419T224503
CREATED:20230124T122628Z
LAST-MODIFIED:20230221T130158Z
UID:1037-1677074400-1677081600@kalender.obdach.wien
SUMMARY:Plauscherl & Guglhupf
DESCRIPTION:Lockeres Plaudern in lustiger Runde. Bei unserer offenen Kaffeerunde können Sie sich mit anderen Teilnehmer:innen austauschen und plaudern. Wenn dabei Ideen entstehen\, umso besser!\nKommen Sie vorbei und verbringen Sie einen angenehmen Nachmittag mit uns. \nThema: heute wird geplaudert und GESPIELT 🙂
URL:https://kalender.obdach.wien/event/plauscherl-guglhupf-7/
LOCATION:Obdach Forum\, Windmühlgasse 30\, Wien\, 1060\, Österreich
ATTACH;FMTTYPE=image/jpeg:https://kalender.obdach.wien/wp-content/uploads/sites/5/2023/02/GettyImages-1160073046_Drbouz.jpg
END:VEVENT
BEGIN:VEVENT
DTSTART;TZID=Europe/Berlin:20230221T103000
DTEND;TZID=Europe/Berlin:20230221T123000
DTSTAMP:20260419T224503
CREATED:20230124T120503Z
LAST-MODIFIED:20230215T074659Z
UID:1026-1676975400-1676982600@kalender.obdach.wien
SUMMARY:Nähwerkstatt
DESCRIPTION:Wollten Sie sich schon immer eine Hose kürzen\, eine neue Kissenhülle nähen oder einen Stoffbeutel kreativ gestalten? Dann kommen Sie gerne vorbei und lassen Sie uns gemeinsam mit Nadel&Faden sowie der Nähmaschine Altes ändern und Neues erschaffen. \nAnfänger und Fortgeschrittene sind willkommen!
URL:https://kalender.obdach.wien/event/naehwerkstatt-2/
LOCATION:Obdach Forum\, Windmühlgasse 30\, Wien\, 1060\, Österreich
ATTACH;FMTTYPE=image/jpeg:https://kalender.obdach.wien/wp-content/uploads/sites/5/2023/02/GettyImages-859269326_nicolas_.jpg
ORGANIZER;CN="Marlies Dworak":MAILTO:marlies.dworak@fsw.at
END:VEVENT
BEGIN:VEVENT
DTSTART;TZID=Europe/Berlin:20230215T140000
DTEND;TZID=Europe/Berlin:20230215T170000
DTSTAMP:20260419T224503
CREATED:20230124T122451Z
LAST-MODIFIED:20230215T123803Z
UID:1035-1676469600-1676480400@kalender.obdach.wien
SUMMARY:Plauscherl & Guglhupf + Tag der offenen Tür
DESCRIPTION:Lockeres Plaudern in lustiger Runde. Bei unserer offenen Kaffeerunde können Sie sich mit anderen Personen austauschen und plaudern. Wenn dabei Ideen entstehen\, umso besser!\nKommen Sie vorbei und verbringen Sie einen angenehmen Nachmittag mit uns. \nDas Format öffnet einmal im Monat seine Türen und lädt interessierte Menschen ein vorbei zu kommen.  Das FOW Team und Gruppenteilnehmer:innen geben einen Überblick über die FOW Tätigkeiten und unsere Gruppenangebote.
URL:https://kalender.obdach.wien/event/plauscherl-guglhupf-6/
LOCATION:Obdach Forum\, Windmühlgasse 30\, Wien\, 1060\, Österreich
ATTACH;FMTTYPE=image/jpeg:https://kalender.obdach.wien/wp-content/uploads/sites/5/2023/02/GettyImages-1160073046_Drbouz.jpg
END:VEVENT
BEGIN:VEVENT
DTSTART;TZID=Europe/Berlin:20230214T103000
DTEND;TZID=Europe/Berlin:20230214T123000
DTSTAMP:20260419T224503
CREATED:20230124T120523Z
LAST-MODIFIED:20230124T120523Z
UID:1024-1676370600-1676377800@kalender.obdach.wien
SUMMARY:Nähwerkstatt
DESCRIPTION:Wollten Sie sich schon immer eine Hose kürzen\, eine neue Kissenhülle nähen oder einen Stoffbeutel kreativ gestalten? Dann kommen Sie gerne vorbei und lassen Sie uns gemeinsam mit Nadel&Faden sowie der Nähmaschine Altes ändern und Neues erschaffen. \nAnfänger und Fortgeschrittene sind willkommen!
URL:https://kalender.obdach.wien/event/naehwerkstatt-3/
LOCATION:Obdach Forum\, Windmühlgasse 30\, Wien\, 1060\, Österreich
ORGANIZER;CN="Marlies Dworak":MAILTO:marlies.dworak@fsw.at
END:VEVENT
BEGIN:VEVENT
DTSTART;TZID=Europe/Berlin:20230208T140000
DTEND;TZID=Europe/Berlin:20230208T160000
DTSTAMP:20260419T224503
CREATED:20230124T122207Z
LAST-MODIFIED:20230124T122207Z
UID:1033-1675864800-1675872000@kalender.obdach.wien
SUMMARY:Plauscherl & Guglhupf
DESCRIPTION:Lockeres Plaudern in lustiger Runde. Bei unserer offenen Kaffeerunde können Sie sich mit anderen Teilnehmer:innen austauschen und plaudern. Wenn dabei Ideen entstehen\, umso besser!\nKommen Sie vorbei und verbringen Sie einen angenehmen Nachmittag mit uns. \nThema: Energiesparen – welche Herausforderungen und Tipps gibt’s in der Gruppe?
URL:https://kalender.obdach.wien/event/plauscherl-guglhupf-5/
LOCATION:Obdach Forum\, Windmühlgasse 30\, Wien\, 1060\, Österreich
END:VEVENT
BEGIN:VEVENT
DTSTART;TZID=Europe/Berlin:20230207T103000
DTEND;TZID=Europe/Berlin:20230207T123000
DTSTAMP:20260419T224503
CREATED:20230124T120541Z
LAST-MODIFIED:20230124T120541Z
UID:1021-1675765800-1675773000@kalender.obdach.wien
SUMMARY:Kick-Off: Nähwerkstatt
DESCRIPTION:Lange haben wir gewartet – jetzt ist es endlich so weit und wir können gemeinsam die Nähmaschinen rattern lassen. Wir freuen uns auf einen gemeinsamen Start der Nähwerkstatt. Kommen Sie vorbei und bringen Sie Ideen für unsere ersten Nähprojekte mit! \nAnfänger und Fortgeschrittene sind willkommen!
URL:https://kalender.obdach.wien/event/kick-off-naehwerkstatt/
LOCATION:Obdach Forum\, Windmühlgasse 30\, Wien\, 1060\, Österreich
ORGANIZER;CN="Marlies Dworak":MAILTO:marlies.dworak@fsw.at
END:VEVENT
BEGIN:VEVENT
DTSTART;TZID=Europe/Berlin:20230206T150000
DTEND;TZID=Europe/Berlin:20230206T160000
DTSTAMP:20260419T224503
CREATED:20230201T141738Z
LAST-MODIFIED:20230201T141738Z
UID:1342-1675695600-1675699200@kalender.obdach.wien
SUMMARY:Kick-Off Veranstaltung: Digitale Teilhabe
DESCRIPTION:Basiskurs für Umgang mit Mobiltelefon\, PC und Internet \nAm 06.02.2023 findet eine Vorbesprechung zum Kurs statt. Alle interessierten Personen erhalten Informationen und können Wünsche zu Zeit und Inhalt äußern. \n  \n 
URL:https://kalender.obdach.wien/event/kick-off-veranstaltung-digitale-teilhabe/
LOCATION:Obdach Forum\, Windmühlgasse 30\, Wien\, 1060\, Österreich
ORGANIZER;CN="Franz Haberl":MAILTO:franz.haberl@fsw.at
END:VEVENT
BEGIN:VEVENT
DTSTART;TZID=Europe/Berlin:20230201T140000
DTEND;TZID=Europe/Berlin:20230201T160000
DTSTAMP:20260419T224503
CREATED:20230124T122016Z
LAST-MODIFIED:20230124T122016Z
UID:1031-1675260000-1675267200@kalender.obdach.wien
SUMMARY:Plauscherl & Guglhupf
DESCRIPTION:Lockeres Plaudern in lustiger Runde. Bei unserer offenen Kaffeerunde können Sie sich mit anderen Teilnehmer:innen austauschen und plaudern. Wenn dabei Ideen entstehen\, umso besser!\nKommen Sie vorbei und verbringen Sie einen angenehmen Nachmittag mit uns. \nThema: Gesund durch den Winter – Erfahrungen und Tipps aus der Gruppe
URL:https://kalender.obdach.wien/event/plauscherl-guglhupf-4/
LOCATION:Obdach Forum\, Windmühlgasse 30\, Wien\, 1060\, Österreich
END:VEVENT
BEGIN:VEVENT
DTSTART;TZID=Europe/Berlin:20230125T140000
DTEND;TZID=Europe/Berlin:20230125T160000
DTSTAMP:20260419T224503
CREATED:20230102T133911Z
LAST-MODIFIED:20230117T103827Z
UID:983-1674655200-1674662400@kalender.obdach.wien
SUMMARY:Plauscherl & Guglhupf
DESCRIPTION:Lockeres Plaudern in lustiger Runde. Bei unserer offenen Kaffeerunde können Sie sich mit anderen Teilnehmer:innen austauschen und plaudern. Wenn dabei Ideen entstehen\, umso besser!\nKommen Sie vorbei und verbringen Sie einen angenehmen Nachmittag mit uns. \nThema: Klimaproteste – was brauchen wir und auf was können wir verzichten? \n 
URL:https://kalender.obdach.wien/event/plauscherl-guglhupf-3/
LOCATION:Obdach Forum\, Windmühlgasse 30\, Wien\, 1060\, Österreich
END:VEVENT
BEGIN:VEVENT
DTSTART;TZID=Europe/Berlin:20230118T140000
DTEND;TZID=Europe/Berlin:20230118T160000
DTSTAMP:20260419T224503
CREATED:20230102T133803Z
LAST-MODIFIED:20230117T103253Z
UID:981-1674050400-1674057600@kalender.obdach.wien
SUMMARY:Plauscherl & Guglhupf
DESCRIPTION:Lockeres Plaudern in lustiger Runde. Bei unserer offenen Kaffeerunde können Sie sich mit anderen Teilnehmer:innen austauschen und plaudern. Wenn dabei Ideen entstehen\, umso besser!\nKommen Sie vorbei und verbringen Sie einen angenehmen Nachmittag mit uns. \nThema: Literaturbuffet – gerne spannende Bücher mitnehmen oder einfach kurz vorstellen und drüber plaudern \n 
URL:https://kalender.obdach.wien/event/plauscherl-guglhupf-2/
LOCATION:Obdach Forum\, Windmühlgasse 30\, Wien\, 1060\, Österreich
END:VEVENT
BEGIN:VEVENT
DTSTART;TZID=Europe/Berlin:20230112T150000
DTEND;TZID=Europe/Berlin:20230112T170000
DTSTAMP:20260419T224503
CREATED:20230102T132014Z
LAST-MODIFIED:20230105T091855Z
UID:961-1673535600-1673542800@kalender.obdach.wien
SUMMARY:Organisationstreffen
DESCRIPTION:Der Kern von Forum Obdach Wien: Einmal in der Woche treffen sich Teilnehmer:innen. Es wird aus den verschiedenen Gruppen berichtet\, Infos werden ausgetauscht und neue Ideen besprochen\, aus denen oft Projekte oder neue Gruppenangebote entstehen. Wer sich einbringen und eigene Ideen teilen will\, ist hier genau richtig. Aber auch auf einen Kaffee vorbeischauen ist voll OK! \n 
URL:https://kalender.obdach.wien/event/organisationstreffen-4/
LOCATION:Obdach Forum\, Windmühlgasse 30\, Wien\, 1060\, Österreich
ATTACH;FMTTYPE=image/jpeg:https://kalender.obdach.wien/wp-content/uploads/sites/5/2022/03/GettyImages┬®SDI-Productions-1146552566_fuer_Organisationstreffen.jpg
ORGANIZER;CN="Marlies Dworak":MAILTO:marlies.dworak@fsw.at
END:VEVENT
BEGIN:VEVENT
DTSTART;TZID=Europe/Berlin:20230105T110000
DTEND;TZID=Europe/Berlin:20230105T130000
DTSTAMP:20260419T224503
CREATED:20221229T153140Z
LAST-MODIFIED:20221229T153140Z
UID:932-1672916400-1672923600@kalender.obdach.wien
SUMMARY:KOFU neu / Kick-Off Veranstaltung
DESCRIPTION:Die Kochgruppe möchte sich neu organisieren. Das Konzept des „Waste Cookings“ soll als neue Idee in der Kochgruppe aufgegriffen werden. Was genau darunter zu verstehen ist und was für die Umsetzung notwendig ist\, erfahren Sie bei der Kick-Off Veranstaltung am 05.01.23. Wir freuen uns über Ihre Teilnahme und Ihre Ideen. \nEs gilt die 3G Regelung.
URL:https://kalender.obdach.wien/event/kofu-neu-kick-off-veranstaltung/
LOCATION:Obdach Forum\, Windmühlgasse 30\, Wien\, 1060\, Österreich
ATTACH;FMTTYPE=image/jpeg:https://kalender.obdach.wien/wp-content/uploads/sites/5/2022/06/GettyImages┬®Tempura-1160233770_fuer_Kochgruppe.jpg
ORGANIZER;CN="Franz Haberl":MAILTO:franz.haberl@fsw.at
END:VEVENT
BEGIN:VEVENT
DTSTART;TZID=Europe/Berlin:20230104T140000
DTEND;TZID=Europe/Berlin:20230104T160000
DTSTAMP:20260419T224503
CREATED:20221129T130124Z
LAST-MODIFIED:20221229T135912Z
UID:887-1672840800-1672848000@kalender.obdach.wien
SUMMARY:Plauscherl & Guglhupf
DESCRIPTION:Lockeres Plaudern in lustiger Runde. Bei unserer offenen Kaffeerunde können Sie sich mit anderen Teilnehmer:innen austauschen und plaudern. Wenn dabei Ideen entstehen\, umso besser!\nKommen Sie vorbei und verbringen Sie einen angenehmen Nachmittag mit uns. \nThema: Umgang mit der Krise. Wir klären Fragen zu Unterstützungsmöglichkeiten und versuchen etwas Ordnung in das Chaos zu bringen. \nEs gilt die 3G Regel!
URL:https://kalender.obdach.wien/event/plauscherl-guglhupf-2023-01-04/
LOCATION:Obdach Forum\, Windmühlgasse 30\, Wien\, 1060\, Österreich
END:VEVENT
END:VCALENDAR