BEGIN:VCALENDAR
VERSION:2.0
PRODID:-//Obdach Forum - ECPv6.15.17.1//NONSGML v1.0//EN
CALSCALE:GREGORIAN
METHOD:PUBLISH
X-WR-CALNAME:Obdach Forum
X-ORIGINAL-URL:https://kalender.obdach.wien
X-WR-CALDESC:Veranstaltungen für Obdach Forum
REFRESH-INTERVAL;VALUE=DURATION:PT1H
X-Robots-Tag:noindex
X-PUBLISHED-TTL:PT1H
BEGIN:VTIMEZONE
TZID:Europe/Berlin
BEGIN:DAYLIGHT
TZOFFSETFROM:+0100
TZOFFSETTO:+0200
TZNAME:CEST
DTSTART:20260329T010000
END:DAYLIGHT
BEGIN:STANDARD
TZOFFSETFROM:+0200
TZOFFSETTO:+0100
TZNAME:CET
DTSTART:20261025T010000
END:STANDARD
BEGIN:DAYLIGHT
TZOFFSETFROM:+0100
TZOFFSETTO:+0200
TZNAME:CEST
DTSTART:20270328T010000
END:DAYLIGHT
BEGIN:STANDARD
TZOFFSETFROM:+0200
TZOFFSETTO:+0100
TZNAME:CET
DTSTART:20271031T010000
END:STANDARD
BEGIN:DAYLIGHT
TZOFFSETFROM:+0100
TZOFFSETTO:+0200
TZNAME:CEST
DTSTART:20280326T010000
END:DAYLIGHT
BEGIN:STANDARD
TZOFFSETFROM:+0200
TZOFFSETTO:+0100
TZNAME:CET
DTSTART:20281029T010000
END:STANDARD
END:VTIMEZONE
BEGIN:VEVENT
DTSTART;TZID=Europe/Berlin:20271203T103000
DTEND;TZID=Europe/Berlin:20271203T113000
DTSTAMP:20260419T180026
CREATED:20241031T130125Z
LAST-MODIFIED:20241031T130125Z
UID:8457-1827829800-1827833400@kalender.obdach.wien
SUMMARY:Wohlfühlgruppe von Frauen* für Frauen* – veranstaltet von Frauengesundheitszentrum FEM (Achtung neue Adresse)
DESCRIPTION:Bewegung und Entspannung mit Heike \nEinfach bequeme Kleidung anziehen und vorbeikommen! \nWir bewegen uns gemeinsam\, dehnen uns und entspannen zum Schluss. \nFür alle Frauen* – wir passen die Übungen an diejenigen an\, die da sind! \nFrei nach dem Motto: „Ich fühle mich (wieder) wohl in meinem Körper“ \n 
URL:https://kalender.obdach.wien/event/wohlfuehlgruppe-von-frauen-fuer-frauen-veranstaltet-von-frauengesundheitszentrum-fem-achtung-neue-adresse/2027-12-03/
LOCATION:Obdach Forum (Standort 2)\, Corneliusgasse 1\, 1060 Wien
ATTACH;FMTTYPE=image/jpeg:https://kalender.obdach.wien/wp-content/uploads/sites/5/2024/10/moss-3402910_1280.jpg
ORGANIZER;CN="Lydia Potmesil":MAILTO:lydia.potmesil@fsw.at
END:VEVENT
BEGIN:VEVENT
DTSTART;TZID=Europe/Berlin:20271206T140000
DTEND;TZID=Europe/Berlin:20271206T170000
DTSTAMP:20260419T180026
CREATED:20231220T142250Z
LAST-MODIFIED:20231220T142250Z
UID:8459-1828101600-1828112400@kalender.obdach.wien
SUMMARY:Kreativwerkstatt
DESCRIPTION:Töpfern\, malen\, drucken und noch vieles mehr!!! Gemeinsam probieren wir Neues aus\, gestalten und lernen voneinander in der Kreativwerkstätte. Neugierig geworden? Dann kommen Sie\, auch gerne mit ihren Kindern\, vorbei – alle sind herzlich willkommen!!
URL:https://kalender.obdach.wien/event/kreativwerkstatt-7-2024-04-08-2024-09-30/2027-12-06/
LOCATION:Obdach Forum (Standort 2)\, Corneliusgasse 1\, 1060 Wien
ATTACH;FMTTYPE=image/jpeg:https://kalender.obdach.wien/wp-content/uploads/sites/5/2023/02/GettyImages-1093160982_beastfromeast.jpg
ORGANIZER;CN="Lydia Potmesil":MAILTO:lydia.potmesil@fsw.at
END:VEVENT
BEGIN:VEVENT
DTSTART;TZID=Europe/Berlin:20271213T140000
DTEND;TZID=Europe/Berlin:20271213T170000
DTSTAMP:20260419T180026
CREATED:20231220T142250Z
LAST-MODIFIED:20231220T142250Z
UID:8506-1828706400-1828717200@kalender.obdach.wien
SUMMARY:Kreativwerkstatt
DESCRIPTION:Töpfern\, malen\, drucken und noch vieles mehr!!! Gemeinsam probieren wir Neues aus\, gestalten und lernen voneinander in der Kreativwerkstätte. Neugierig geworden? Dann kommen Sie\, auch gerne mit ihren Kindern\, vorbei – alle sind herzlich willkommen!!
URL:https://kalender.obdach.wien/event/kreativwerkstatt-7-2024-04-08-2024-09-30/2027-12-13/
LOCATION:Obdach Forum (Standort 2)\, Corneliusgasse 1\, 1060 Wien
ATTACH;FMTTYPE=image/jpeg:https://kalender.obdach.wien/wp-content/uploads/sites/5/2023/02/GettyImages-1093160982_beastfromeast.jpg
ORGANIZER;CN="Lydia Potmesil":MAILTO:lydia.potmesil@fsw.at
END:VEVENT
BEGIN:VEVENT
DTSTART;TZID=Europe/Berlin:20271217T103000
DTEND;TZID=Europe/Berlin:20271217T113000
DTSTAMP:20260419T180026
CREATED:20241031T130125Z
LAST-MODIFIED:20241031T130125Z
UID:8515-1829039400-1829043000@kalender.obdach.wien
SUMMARY:Wohlfühlgruppe von Frauen* für Frauen* – veranstaltet von Frauengesundheitszentrum FEM (Achtung neue Adresse)
DESCRIPTION:Bewegung und Entspannung mit Heike \nEinfach bequeme Kleidung anziehen und vorbeikommen! \nWir bewegen uns gemeinsam\, dehnen uns und entspannen zum Schluss. \nFür alle Frauen* – wir passen die Übungen an diejenigen an\, die da sind! \nFrei nach dem Motto: „Ich fühle mich (wieder) wohl in meinem Körper“ \n 
URL:https://kalender.obdach.wien/event/wohlfuehlgruppe-von-frauen-fuer-frauen-veranstaltet-von-frauengesundheitszentrum-fem-achtung-neue-adresse/2027-12-17/
LOCATION:Obdach Forum (Standort 2)\, Corneliusgasse 1\, 1060 Wien
ATTACH;FMTTYPE=image/jpeg:https://kalender.obdach.wien/wp-content/uploads/sites/5/2024/10/moss-3402910_1280.jpg
ORGANIZER;CN="Lydia Potmesil":MAILTO:lydia.potmesil@fsw.at
END:VEVENT
BEGIN:VEVENT
DTSTART;TZID=Europe/Berlin:20271220T140000
DTEND;TZID=Europe/Berlin:20271220T170000
DTSTAMP:20260419T180026
CREATED:20231220T142250Z
LAST-MODIFIED:20231220T142250Z
UID:8519-1829311200-1829322000@kalender.obdach.wien
SUMMARY:Kreativwerkstatt
DESCRIPTION:Töpfern\, malen\, drucken und noch vieles mehr!!! Gemeinsam probieren wir Neues aus\, gestalten und lernen voneinander in der Kreativwerkstätte. Neugierig geworden? Dann kommen Sie\, auch gerne mit ihren Kindern\, vorbei – alle sind herzlich willkommen!!
URL:https://kalender.obdach.wien/event/kreativwerkstatt-7-2024-04-08-2024-09-30/2027-12-20/
LOCATION:Obdach Forum (Standort 2)\, Corneliusgasse 1\, 1060 Wien
ATTACH;FMTTYPE=image/jpeg:https://kalender.obdach.wien/wp-content/uploads/sites/5/2023/02/GettyImages-1093160982_beastfromeast.jpg
ORGANIZER;CN="Lydia Potmesil":MAILTO:lydia.potmesil@fsw.at
END:VEVENT
BEGIN:VEVENT
DTSTART;TZID=Europe/Berlin:20271227T140000
DTEND;TZID=Europe/Berlin:20271227T170000
DTSTAMP:20260419T180026
CREATED:20231220T142250Z
LAST-MODIFIED:20231220T142250Z
UID:8523-1829916000-1829926800@kalender.obdach.wien
SUMMARY:Kreativwerkstatt
DESCRIPTION:Töpfern\, malen\, drucken und noch vieles mehr!!! Gemeinsam probieren wir Neues aus\, gestalten und lernen voneinander in der Kreativwerkstätte. Neugierig geworden? Dann kommen Sie\, auch gerne mit ihren Kindern\, vorbei – alle sind herzlich willkommen!!
URL:https://kalender.obdach.wien/event/kreativwerkstatt-7-2024-04-08-2024-09-30/2027-12-27/
LOCATION:Obdach Forum (Standort 2)\, Corneliusgasse 1\, 1060 Wien
ATTACH;FMTTYPE=image/jpeg:https://kalender.obdach.wien/wp-content/uploads/sites/5/2023/02/GettyImages-1093160982_beastfromeast.jpg
ORGANIZER;CN="Lydia Potmesil":MAILTO:lydia.potmesil@fsw.at
END:VEVENT
BEGIN:VEVENT
DTSTART;TZID=Europe/Berlin:20271231T103000
DTEND;TZID=Europe/Berlin:20271231T113000
DTSTAMP:20260419T180027
CREATED:20241031T130125Z
LAST-MODIFIED:20241031T130125Z
UID:8558-1830249000-1830252600@kalender.obdach.wien
SUMMARY:Wohlfühlgruppe von Frauen* für Frauen* – veranstaltet von Frauengesundheitszentrum FEM (Achtung neue Adresse)
DESCRIPTION:Bewegung und Entspannung mit Heike \nEinfach bequeme Kleidung anziehen und vorbeikommen! \nWir bewegen uns gemeinsam\, dehnen uns und entspannen zum Schluss. \nFür alle Frauen* – wir passen die Übungen an diejenigen an\, die da sind! \nFrei nach dem Motto: „Ich fühle mich (wieder) wohl in meinem Körper“ \n 
URL:https://kalender.obdach.wien/event/wohlfuehlgruppe-von-frauen-fuer-frauen-veranstaltet-von-frauengesundheitszentrum-fem-achtung-neue-adresse/2027-12-31/
LOCATION:Obdach Forum (Standort 2)\, Corneliusgasse 1\, 1060 Wien
ATTACH;FMTTYPE=image/jpeg:https://kalender.obdach.wien/wp-content/uploads/sites/5/2024/10/moss-3402910_1280.jpg
ORGANIZER;CN="Lydia Potmesil":MAILTO:lydia.potmesil@fsw.at
END:VEVENT
END:VCALENDAR