BEGIN:VCALENDAR
VERSION:2.0
PRODID:-//Obdach Forum - ECPv6.15.17.1//NONSGML v1.0//EN
CALSCALE:GREGORIAN
METHOD:PUBLISH
X-WR-CALNAME:Obdach Forum
X-ORIGINAL-URL:https://kalender.obdach.wien
X-WR-CALDESC:Veranstaltungen für Obdach Forum
REFRESH-INTERVAL;VALUE=DURATION:PT1H
X-Robots-Tag:noindex
X-PUBLISHED-TTL:PT1H
BEGIN:VTIMEZONE
TZID:Europe/Berlin
BEGIN:DAYLIGHT
TZOFFSETFROM:+0100
TZOFFSETTO:+0200
TZNAME:CEST
DTSTART:20240331T010000
END:DAYLIGHT
BEGIN:STANDARD
TZOFFSETFROM:+0200
TZOFFSETTO:+0100
TZNAME:CET
DTSTART:20241027T010000
END:STANDARD
BEGIN:DAYLIGHT
TZOFFSETFROM:+0100
TZOFFSETTO:+0200
TZNAME:CEST
DTSTART:20250330T010000
END:DAYLIGHT
BEGIN:STANDARD
TZOFFSETFROM:+0200
TZOFFSETTO:+0100
TZNAME:CET
DTSTART:20251026T010000
END:STANDARD
BEGIN:DAYLIGHT
TZOFFSETFROM:+0100
TZOFFSETTO:+0200
TZNAME:CEST
DTSTART:20260329T010000
END:DAYLIGHT
BEGIN:STANDARD
TZOFFSETFROM:+0200
TZOFFSETTO:+0100
TZNAME:CET
DTSTART:20261025T010000
END:STANDARD
END:VTIMEZONE
BEGIN:VEVENT
DTSTART;TZID=Europe/Berlin:20250602T110000
DTEND;TZID=Europe/Berlin:20250602T130000
DTSTAMP:20260419T142928
CREATED:20240408T074229Z
LAST-MODIFIED:20250630T122315Z
UID:4047-1748862000-1748869200@kalender.obdach.wien
SUMMARY:Austausch-Gruppe Musik
DESCRIPTION:Hörst du mich – Hör ich dich – Hören wir uns \n\nAustausch mit Hilfe der Musik – Musizieren und Harmonieren\nSoziale Achtsamkeit\nMusikinstrument vor Ort auswählen oder gerne mitbringen\nFür ALLE offen
URL:https://kalender.obdach.wien/event/austausch-gruppe-musik-3/2025-06-02/
LOCATION:Obdach Forum (Standort 2)\, Corneliusgasse 1\, 1060 Wien
ATTACH;FMTTYPE=image/jpeg:https://kalender.obdach.wien/wp-content/uploads/sites/5/2023/02/GettyImages-1129447885_bortonia.jpg
END:VEVENT
BEGIN:VEVENT
DTSTART;TZID=Europe/Berlin:20250602T110000
DTEND;TZID=Europe/Berlin:20250602T130000
DTSTAMP:20260419T142928
CREATED:20241119T105137Z
LAST-MODIFIED:20260129T160225Z
UID:5168-1748862000-1748869200@kalender.obdach.wien
SUMMARY:Ideenbrunch
DESCRIPTION:Du hast Ideen für ein neues Angebot bei Obdach Forum? Du möchtest diese Ideen in kleiner Runde besprechen\, bevor du sie als Thema ins Organisationstreffen mitnimmst (wo sie dann gemeinsam weiterentwickelt werden können)? Oder du möchtest nach dem Wochenende einfach ein gutes\, gemütliches Frühstück in netter Gesellschaft genießen und ein bisschen plaudern? \nUnser Ideen-Brunch ist genau dafür gedacht! \nWir freuen uns auf einen gemütlichen Wochenstart mit euch gemeinsam 🙂
URL:https://kalender.obdach.wien/event/teilnehmerinnen-brunch-2025-01-13/2025-06-02/
LOCATION:Obdach Forum\, Windmühlgasse 30\, Wien\, 1060\, Österreich
ATTACH;FMTTYPE=image/jpeg:https://kalender.obdach.wien/wp-content/uploads/sites/5/2022/03/unsplash4.jpg
ORGANIZER;CN="Alexandra Aichhorn":MAILTO:alexandra.aichhorn@fsw.at
END:VEVENT
BEGIN:VEVENT
DTSTART;TZID=Europe/Berlin:20250602T140000
DTEND;TZID=Europe/Berlin:20250602T170000
DTSTAMP:20260419T142928
CREATED:20250313T143207Z
LAST-MODIFIED:20250513T112156Z
UID:7568-1748872800-1748883600@kalender.obdach.wien
SUMMARY:Kreativwerkstatt
DESCRIPTION:Lust auf kreatives Experimentieren?\nIn unserer Kreativwerkstatt könnt ihr euch mit Farben\, Materialien und Techniken ausprobieren. Gemeinsam gestalten wir\, entdecken Neues und lassen unserer Fantasie freien Lauf!
URL:https://kalender.obdach.wien/event/kreativwerkstatt-9-2025-04-14/2025-06-02/
LOCATION:Obdach Forum (Standort 2)\, Corneliusgasse 1\, 1060 Wien
ATTACH;FMTTYPE=image/jpeg:https://kalender.obdach.wien/wp-content/uploads/sites/5/2022/06/GettyImages@dima_sidelnikov-1312359193_fuer_Cafe_Creative.jpg
ORGANIZER;CN="Franz Haberl":MAILTO:franz.haberl@fsw.at
END:VEVENT
BEGIN:VEVENT
DTSTART;TZID=Europe/Berlin:20250603T100000
DTEND;TZID=Europe/Berlin:20250603T130000
DTSTAMP:20260419T142928
CREATED:20250218T102624Z
LAST-MODIFIED:20250526T115239Z
UID:5192-1748944800-1748955600@kalender.obdach.wien
SUMMARY:Frauen*gruppe: „Crazy Girls“ - Besuch im Haus des Meeres  (ANMELDUNG NÖTIG)
DESCRIPTION:Wir gehen an diesem Tag gemeinsam ins Haus des Meeres. \nDa wir nur eine begrenzte Personenanzahl mitnehmen können\, bitte UNBEDINGT UM ANMELDUNG unter 0676828940367! \n  \nWir freuen uns auf dich! 🙂
URL:https://kalender.obdach.wien/event/frauengruppe-2025-04-01-2025-06-03/
LOCATION:Haus des Meeres
ATTACH;FMTTYPE=image/jpeg:https://kalender.obdach.wien/wp-content/uploads/sites/5/2025/02/GettyImagesAda-daSilva-1208106103.jpg
ORGANIZER;CN="Lydia Potmesil":MAILTO:lydia.potmesil@fsw.at
END:VEVENT
BEGIN:VEVENT
DTSTART;TZID=Europe/Berlin:20250603T140000
DTEND;TZID=Europe/Berlin:20250603T170000
DTSTAMP:20260419T142928
CREATED:20250218T104436Z
LAST-MODIFIED:20250225T104300Z
UID:5299-1748959200-1748970000@kalender.obdach.wien
SUMMARY:Tooltime-Gruppe
DESCRIPTION:Die Tooltime-Gruppe erscheint in neuem Glanz. Ab März 2025 findet die Tooltime nun wieder wöchentlich am Dienstag Nachmittag statt. \nWenn du Lust hast handwerklich zu arbeiten\, vielleicht sogar schon eine konkrete Projektidee hast\, oder einfach neugierig bist was in der Tooltime alles gemacht werden kann – dann kommt vorbei und sei dabei!
URL:https://kalender.obdach.wien/event/tooltime-gruppe-7-2025-03-25/2025-06-03/
LOCATION:Obdach Forum (Standort 2)\, Corneliusgasse 1\, 1060 Wien
ATTACH;FMTTYPE=image/jpeg:https://kalender.obdach.wien/wp-content/uploads/sites/5/2023/02/GettyImages-1192437563_Oleksandra-Troian.jpg
ORGANIZER;CN="Alexandra Aichhorn":MAILTO:alexandra.aichhorn@fsw.at
END:VEVENT
BEGIN:VEVENT
DTSTART;TZID=Europe/Berlin:20250604T140000
DTEND;TZID=Europe/Berlin:20250604T160000
DTSTAMP:20260419T142928
CREATED:20250508T110324Z
LAST-MODIFIED:20250509T105053Z
UID:7368-1749045600-1749052800@kalender.obdach.wien
SUMMARY:Plauscherl & Guglhupf
DESCRIPTION:Lockeres Plaudern in lustiger Runde. Bei unserer offenen Kaffeerunde können Sie sich mit anderen Teilnehmer:innen austauschen und plaudern. Wenn dabei Ideen entstehen\, umso besser!\nKommen Sie vorbei und verbringen Sie einen angenehmen Nachmittag mit uns.
URL:https://kalender.obdach.wien/event/plauscherl-guglhupf-9/2025-06-04/
LOCATION:Obdach Forum\, Windmühlgasse 30\, Wien\, 1060\, Österreich
ATTACH;FMTTYPE=image/jpeg:https://kalender.obdach.wien/wp-content/uploads/sites/5/2023/02/GettyImages-1160073046_Drbouz.jpg
ORGANIZER;CN="Lydia Potmesil":MAILTO:lydia.potmesil@fsw.at
END:VEVENT
BEGIN:VEVENT
DTSTART;TZID=Europe/Berlin:20250605T120000
DTEND;TZID=Europe/Berlin:20250605T130000
DTSTAMP:20260419T142928
CREATED:20250331T113053Z
LAST-MODIFIED:20250331T113053Z
UID:7891-1749124800-1749128400@kalender.obdach.wien
SUMMARY:Gartengruppe
DESCRIPTION:Wir laden zum gemeinsamen Garteln ein. Wer einen grünen Daumen hat oder einen bekommen will\, ist hier richtig. Gemeinsam verschönern und bepflanzen wir unsere zwei Baumscheiben. Wir kümmern uns auch gemeinsam um unsere Innenpflanzen in der Windmühlgasse.
URL:https://kalender.obdach.wien/event/gartengruppe-2/2025-06-05/
LOCATION:Obdach Forum\, Windmühlgasse 30\, Wien\, 1060\, Österreich
ATTACH;FMTTYPE=image/jpeg:https://kalender.obdach.wien/wp-content/uploads/sites/5/2022/06/Kalender_Garten.jpg
ORGANIZER;CN="Alexandra Aichhorn":MAILTO:alexandra.aichhorn@fsw.at
END:VEVENT
BEGIN:VEVENT
DTSTART;TZID=Europe/Berlin:20250606T110000
DTEND;TZID=Europe/Berlin:20250606T180000
DTSTAMP:20260419T142928
CREATED:20250225T103802Z
LAST-MODIFIED:20250225T103802Z
UID:6670-1749207600-1749232800@kalender.obdach.wien
SUMMARY:Kochgruppe
DESCRIPTION:Gemeinsam Kochen\, gemeinsam Essen\, gemeinsam Lachen: Das passiert bei der Kochgruppe von Obdach Forum. Alle zwei Wochen laden unser Peer-Mitarbeiter:innen die Teilnehmer:innen zu einem gemeinsamen Tag rund um das Thema Essen ein. \nDie Teilnehmer:innen  kochen und essen gemeinsam. Was übrig bleibt\, wird aufgeteilt und mit nach Hause genommen. Es werden verschiedenste Gerichte gekocht\, immer mit einer Version für Fleischesser:innen und Vegetarier:innen. \nIn der Kochgruppe wird versucht nachhaltig Lebensmittel zu retten und Müll weitgehend zu vermeiden. Die Kochgruppe verfolgt das Ziel ein Kochbuch zum Thema nachhaltiges Kochen zu erstellen.
URL:https://kalender.obdach.wien/event/kochgruppe-6/2025-06-06/
LOCATION:Obdach Forum (Standort 2)\, Corneliusgasse 1\, 1060 Wien
ATTACH;FMTTYPE=image/jpeg:https://kalender.obdach.wien/wp-content/uploads/sites/5/2022/06/GettyImages┬®Tempura-1160233770_fuer_Kochgruppe.jpg
ORGANIZER;CN="Franz Haberl":MAILTO:franz.haberl@fsw.at
END:VEVENT
BEGIN:VEVENT
DTSTART;TZID=Europe/Berlin:20250609T080000
DTEND;TZID=Europe/Berlin:20250609T170000
DTSTAMP:20260419T142928
CREATED:20250521T135508Z
LAST-MODIFIED:20250521T135508Z
UID:7620-1749456000-1749488400@kalender.obdach.wien
SUMMARY:Büro am 9.6 wegen Feiertag geschlossen
DESCRIPTION:Das Büro ist am 9.6 wegen Feiertag geschlossen
URL:https://kalender.obdach.wien/event/buero-am-9-6-wegen-feiertag-geschlossen/
LOCATION:Obdach Forum\, Windmühlgasse 30\, Wien\, 1060\, Österreich
ATTACH;FMTTYPE=image/jpeg:https://kalender.obdach.wien/wp-content/uploads/sites/5/2024/10/Logo_GO.OF_.jpg
ORGANIZER;CN="Alexandra Aichhorn":MAILTO:alexandra.aichhorn@fsw.at
END:VEVENT
BEGIN:VEVENT
DTSTART;TZID=Europe/Berlin:20250609T140000
DTEND;TZID=Europe/Berlin:20250609T170000
DTSTAMP:20260419T142928
CREATED:20250313T143207Z
LAST-MODIFIED:20250313T150222Z
UID:6223-1749477600-1749488400@kalender.obdach.wien
SUMMARY:ABGESAGT! Kreativwerkstatt
DESCRIPTION:Aufgrund von Feiertag abgesagt! \n  \nTöpfern\, malen\, drucken und noch vieles mehr!!! Gemeinsam probieren wir Neues aus\, gestalten und lernen voneinander in der Kreativwerkstätte. Neugierig geworden? Dann kommen Sie\, auch gerne mit ihren Kindern\, vorbei – alle sind herzlich willkommen!!
URL:https://kalender.obdach.wien/event/kreativwerkstatt-9-2025-06-09/
LOCATION:Obdach Forum (Standort 2)\, Corneliusgasse 1\, 1060 Wien
ATTACH;FMTTYPE=image/jpeg:https://kalender.obdach.wien/wp-content/uploads/sites/5/2022/06/GettyImages@dima_sidelnikov-1312359193_fuer_Cafe_Creative.jpg
ORGANIZER;CN="Franz Haberl":MAILTO:franz.haberl@fsw.at
END:VEVENT
BEGIN:VEVENT
DTSTART;TZID=Europe/Berlin:20250610T110000
DTEND;TZID=Europe/Berlin:20250610T120000
DTSTAMP:20260419T142928
CREATED:20250225T094433Z
LAST-MODIFIED:20250528T123212Z
UID:5725-1749553200-1749556800@kalender.obdach.wien
SUMMARY:Open Obdach – Die offene Band bei Obdach Forum (Achtung andere Adresse!)
DESCRIPTION:Die Musikgruppe wird an diesem Tag in der Gänsbachergasse 7\, 1030 Wien proben! \n  \nEgal woher du kommst oder wie viel Erfahrung du hast\, hier bist du richtig! Wir wollen gemeinsam Musik machen\, Spaß haben und miteinander lernen – und dabei begleiten uns erfahrene Musikprofis. Wir erschaffen für uns einen Raum zum Experimentieren und Üben. Gemeinsam entscheiden wir\, in welche Richtung das Projekt gehen soll – und bereiten uns auch auf den ein oder anderen Auftritt vor! \nDu findest das interessant? Du willst ein Teil davon sein und die Gruppe mitgestalten? \nDann melde dich bei uns oder komm direkt vorbei! \nWir treffen uns jeden zweiten und vierten Dienstag von 11:00 bis 12:00 Uhr und freuen uns auf Dich!
URL:https://kalender.obdach.wien/event/offenes-musikprojekt-3-2025-06-10/
LOCATION:Obdach Gänsbachergasse\, Gänsbachergasse 7\, Wien\, 1030\, Austria
ATTACH;FMTTYPE=image/jpeg:https://kalender.obdach.wien/wp-content/uploads/sites/5/2024/04/Musikprojekt_6mb-scaled.jpg
ORGANIZER;CN="Franz Haberl":MAILTO:franz.haberl@fsw.at
END:VEVENT
BEGIN:VEVENT
DTSTART;TZID=Europe/Berlin:20250610T140000
DTEND;TZID=Europe/Berlin:20250610T170000
DTSTAMP:20260419T142928
CREATED:20250218T104436Z
LAST-MODIFIED:20250528T124235Z
UID:5300-1749564000-1749574800@kalender.obdach.wien
SUMMARY:Tooltime-Gruppe: Workshop mit Ton
DESCRIPTION:An diesem Tag werden wir mit lufttrocknendem Ton arbeiten. \n  \nDie Tooltime-Gruppe erscheint in neuem Glanz. Ab März 2025 findet die Tooltime nun wieder wöchentlich am Dienstag Nachmittag statt. \nWenn du Lust hast handwerklich zu arbeiten\, vielleicht sogar schon eine konkrete Projektidee hast\, oder einfach neugierig bist was in der Tooltime alles gemacht werden kann – dann kommt vorbei und sei dabei!
URL:https://kalender.obdach.wien/event/tooltime-gruppe-7-2025-06-10/
LOCATION:Obdach Forum (Standort 2)\, Corneliusgasse 1\, 1060 Wien
ATTACH;FMTTYPE=image/jpeg:https://kalender.obdach.wien/wp-content/uploads/sites/5/2023/02/GettyImages-1192437563_Oleksandra-Troian.jpg
ORGANIZER;CN="Alexandra Aichhorn":MAILTO:alexandra.aichhorn@fsw.at
END:VEVENT
BEGIN:VEVENT
DTSTART;TZID=Europe/Berlin:20250611T140000
DTEND;TZID=Europe/Berlin:20250611T160000
DTSTAMP:20260419T142928
CREATED:20250508T110324Z
LAST-MODIFIED:20250509T105054Z
UID:7369-1749650400-1749657600@kalender.obdach.wien
SUMMARY:Plauscherl & Guglhupf
DESCRIPTION:Lockeres Plaudern in lustiger Runde. Bei unserer offenen Kaffeerunde können Sie sich mit anderen Teilnehmer:innen austauschen und plaudern. Wenn dabei Ideen entstehen\, umso besser!\nKommen Sie vorbei und verbringen Sie einen angenehmen Nachmittag mit uns.
URL:https://kalender.obdach.wien/event/plauscherl-guglhupf-9/2025-06-11/
LOCATION:Obdach Forum\, Windmühlgasse 30\, Wien\, 1060\, Österreich
ATTACH;FMTTYPE=image/jpeg:https://kalender.obdach.wien/wp-content/uploads/sites/5/2023/02/GettyImages-1160073046_Drbouz.jpg
ORGANIZER;CN="Lydia Potmesil":MAILTO:lydia.potmesil@fsw.at
END:VEVENT
BEGIN:VEVENT
DTSTART;TZID=Europe/Berlin:20250612T120000
DTEND;TZID=Europe/Berlin:20250612T130000
DTSTAMP:20260419T142928
CREATED:20250331T113053Z
LAST-MODIFIED:20250331T113053Z
UID:7892-1749729600-1749733200@kalender.obdach.wien
SUMMARY:Gartengruppe
DESCRIPTION:Wir laden zum gemeinsamen Garteln ein. Wer einen grünen Daumen hat oder einen bekommen will\, ist hier richtig. Gemeinsam verschönern und bepflanzen wir unsere zwei Baumscheiben. Wir kümmern uns auch gemeinsam um unsere Innenpflanzen in der Windmühlgasse.
URL:https://kalender.obdach.wien/event/gartengruppe-2/2025-06-12/
LOCATION:Obdach Forum\, Windmühlgasse 30\, Wien\, 1060\, Österreich
ATTACH;FMTTYPE=image/jpeg:https://kalender.obdach.wien/wp-content/uploads/sites/5/2022/06/Kalender_Garten.jpg
ORGANIZER;CN="Alexandra Aichhorn":MAILTO:alexandra.aichhorn@fsw.at
END:VEVENT
BEGIN:VEVENT
DTSTART;TZID=Europe/Berlin:20250613T103000
DTEND;TZID=Europe/Berlin:20250613T120000
DTSTAMP:20260419T142928
CREATED:20241031T130125Z
LAST-MODIFIED:20241031T130125Z
UID:6780-1749810600-1749816000@kalender.obdach.wien
SUMMARY:Wohlfühlgruppe & gesunder Snack von Frauen* für Frauen* – veranstaltet von Frauengesundheitszentrum FEM (Achtung neue Adresse)
DESCRIPTION:Bewegung und Entspannung mit Heike\, mit anschließendem gesunden Snack 🙂 \nEinfach bequeme Kleidung anziehen und vorbeikommen! \nWir bewegen uns gemeinsam\, dehnen uns und entspannen zum Schluss. \nFür alle Frauen* – wir passen die Übungen an diejenigen an\, die da sind! \nFrei nach dem Motto: „Ich fühle mich (wieder) wohl in meinem Körper“ \n  \nIm Anschluss lassen wir die Gruppe noch mit einem kleinen\, gesunden Snack ausklingen! \n 
URL:https://kalender.obdach.wien/event/wohlfuehlgruppe-von-frauen-fuer-frauen-veranstaltet-von-frauengesundheitszentrum-fem-achtung-neue-adresse-2025-03-28/2025-06-13/
LOCATION:Obdach Forum (Standort 2)\, Corneliusgasse 1\, 1060 Wien
ATTACH;FMTTYPE=image/jpeg:https://kalender.obdach.wien/wp-content/uploads/sites/5/2024/10/moss-3402910_1280.jpg
ORGANIZER;CN="Lydia Potmesil":MAILTO:lydia.potmesil@fsw.at
END:VEVENT
BEGIN:VEVENT
DTSTART;TZID=Europe/Berlin:20250613T120000
DTEND;TZID=Europe/Berlin:20250613T150000
DTSTAMP:20260419T142928
CREATED:20250225T092905Z
LAST-MODIFIED:20250225T092905Z
UID:6793-1749816000-1749826800@kalender.obdach.wien
SUMMARY:Obdach Forum Wochenausklang
DESCRIPTION:Offenes Zusammentreffen bei Kaffee\, Tee und Brettspielen. \nGemeinsam in gemütlicher Runde die Woche ausklingen lassen.
URL:https://kalender.obdach.wien/event/obdach-forum-wochenausklang-5-2025-03-28/2025-06-13/
LOCATION:Obdach Forum (Standort 2)\, Corneliusgasse 1\, 1060 Wien
ATTACH;FMTTYPE=image/jpeg:https://kalender.obdach.wien/wp-content/uploads/sites/5/2025/02/GettyImages©joshblake-182176177_fuer_Kulturprogramm.jpg
ORGANIZER;CN="Lydia Potmesil":MAILTO:lydia.potmesil@fsw.at
END:VEVENT
BEGIN:VEVENT
DTSTART;VALUE=DATE:20250616
DTEND;VALUE=DATE:20250617
DTSTAMP:20260419T142928
CREATED:20250616T084506Z
LAST-MODIFIED:20250616T084555Z
UID:7696-1750032000-1750118399@kalender.obdach.wien
SUMMARY:Achtung Büro-Öffnungzeit am 16.06.25
DESCRIPTION:Das Büro in der Windmühlgasse ist erst ab 12 Uhr geöffnet!
URL:https://kalender.obdach.wien/event/achtung-buero-oeffnungzeit-am-16-06-25/
LOCATION:Obdach Forum\, Windmühlgasse 30\, Wien\, 1060\, Österreich
ATTACH;FMTTYPE=image/jpeg:https://kalender.obdach.wien/wp-content/uploads/sites/5/2024/10/Logo_GO.OF_.jpg
END:VEVENT
BEGIN:VEVENT
DTSTART;TZID=Europe/Berlin:20250616T110000
DTEND;TZID=Europe/Berlin:20250616T130000
DTSTAMP:20260419T142928
CREATED:20250530T071639Z
LAST-MODIFIED:20250630T123422Z
UID:7674-1750071600-1750078800@kalender.obdach.wien
SUMMARY:Austausch-Gruppe Musik
DESCRIPTION:Hörst du mich – Hör ich dich – Hören wir uns \n\nAustausch mit Hilfe der Musik – Musizieren und Harmonieren\nSoziale Achtsamkeit\nMusikinstrument vor Ort auswählen oder gerne mitbringen\nFür ALLE offen
URL:https://kalender.obdach.wien/event/austausch-gruppe-musik-4/2025-06-16/
LOCATION:Obdach Forum (Standort 2)\, Corneliusgasse 1\, 1060 Wien
ATTACH;FMTTYPE=image/jpeg:https://kalender.obdach.wien/wp-content/uploads/sites/5/2023/02/GettyImages-1129447885_bortonia.jpg
END:VEVENT
BEGIN:VEVENT
DTSTART;TZID=Europe/Berlin:20250616T140000
DTEND;TZID=Europe/Berlin:20250616T170000
DTSTAMP:20260419T142928
CREATED:20250313T143207Z
LAST-MODIFIED:20250513T112156Z
UID:7569-1750082400-1750093200@kalender.obdach.wien
SUMMARY:Kreativwerkstatt
DESCRIPTION:Lust auf kreatives Experimentieren?\nIn unserer Kreativwerkstatt könnt ihr euch mit Farben\, Materialien und Techniken ausprobieren. Gemeinsam gestalten wir\, entdecken Neues und lassen unserer Fantasie freien Lauf!
URL:https://kalender.obdach.wien/event/kreativwerkstatt-9-2025-04-14/2025-06-16/
LOCATION:Obdach Forum (Standort 2)\, Corneliusgasse 1\, 1060 Wien
ATTACH;FMTTYPE=image/jpeg:https://kalender.obdach.wien/wp-content/uploads/sites/5/2022/06/GettyImages@dima_sidelnikov-1312359193_fuer_Cafe_Creative.jpg
ORGANIZER;CN="Franz Haberl":MAILTO:franz.haberl@fsw.at
END:VEVENT
BEGIN:VEVENT
DTSTART;TZID=Europe/Berlin:20250617T100000
DTEND;TZID=Europe/Berlin:20250617T130000
DTSTAMP:20260419T142928
CREATED:20250218T102837Z
LAST-MODIFIED:20250526T115146Z
UID:5240-1750154400-1750165200@kalender.obdach.wien
SUMMARY:Frauen*gruppe: „Crazy Girls“ - Erdäpfelgulasch kochen
DESCRIPTION:An diesem Tag möchten wir gemeinsam ein Erdäpfelgulasch kochen und den Tag gemütlich gemeinsam starten. \nWir freuen uns auf dich! 🙂
URL:https://kalender.obdach.wien/event/frauengruppe-2-2025-04-15-2025-06-17/
LOCATION:Obdach Forum (Standort 2)\, Corneliusgasse 1\, 1060 Wien
ATTACH;FMTTYPE=image/jpeg:https://kalender.obdach.wien/wp-content/uploads/sites/5/2025/02/GettyImagesAda-daSilva-1208106103.jpg
ORGANIZER;CN="Lydia Potmesil":MAILTO:lydia.potmesil@fsw.at
END:VEVENT
BEGIN:VEVENT
DTSTART;TZID=Europe/Berlin:20250617T140000
DTEND;TZID=Europe/Berlin:20250617T170000
DTSTAMP:20260419T142928
CREATED:20250218T104436Z
LAST-MODIFIED:20250225T104300Z
UID:5301-1750168800-1750179600@kalender.obdach.wien
SUMMARY:Tooltime-Gruppe
DESCRIPTION:Die Tooltime-Gruppe erscheint in neuem Glanz. Ab März 2025 findet die Tooltime nun wieder wöchentlich am Dienstag Nachmittag statt. \nWenn du Lust hast handwerklich zu arbeiten\, vielleicht sogar schon eine konkrete Projektidee hast\, oder einfach neugierig bist was in der Tooltime alles gemacht werden kann – dann kommt vorbei und sei dabei!
URL:https://kalender.obdach.wien/event/tooltime-gruppe-7-2025-03-25/2025-06-17/
LOCATION:Obdach Forum (Standort 2)\, Corneliusgasse 1\, 1060 Wien
ATTACH;FMTTYPE=image/jpeg:https://kalender.obdach.wien/wp-content/uploads/sites/5/2023/02/GettyImages-1192437563_Oleksandra-Troian.jpg
ORGANIZER;CN="Alexandra Aichhorn":MAILTO:alexandra.aichhorn@fsw.at
END:VEVENT
BEGIN:VEVENT
DTSTART;TZID=Europe/Berlin:20250618T140000
DTEND;TZID=Europe/Berlin:20250618T160000
DTSTAMP:20260419T142928
CREATED:20250508T110324Z
LAST-MODIFIED:20250509T105054Z
UID:7370-1750255200-1750262400@kalender.obdach.wien
SUMMARY:Plauscherl & Guglhupf
DESCRIPTION:Lockeres Plaudern in lustiger Runde. Bei unserer offenen Kaffeerunde können Sie sich mit anderen Teilnehmer:innen austauschen und plaudern. Wenn dabei Ideen entstehen\, umso besser!\nKommen Sie vorbei und verbringen Sie einen angenehmen Nachmittag mit uns.
URL:https://kalender.obdach.wien/event/plauscherl-guglhupf-9/2025-06-18/
LOCATION:Obdach Forum\, Windmühlgasse 30\, Wien\, 1060\, Österreich
ATTACH;FMTTYPE=image/jpeg:https://kalender.obdach.wien/wp-content/uploads/sites/5/2023/02/GettyImages-1160073046_Drbouz.jpg
ORGANIZER;CN="Lydia Potmesil":MAILTO:lydia.potmesil@fsw.at
END:VEVENT
BEGIN:VEVENT
DTSTART;TZID=Europe/Berlin:20250619T080000
DTEND;TZID=Europe/Berlin:20250619T170000
DTSTAMP:20260419T142928
CREATED:20250521T135546Z
LAST-MODIFIED:20250521T135546Z
UID:7622-1750320000-1750352400@kalender.obdach.wien
SUMMARY:Büro am 19.6 wegen Feiertag geschlossen
DESCRIPTION:Das Büro ist am 19.6 wegen Feiertag geschlossen
URL:https://kalender.obdach.wien/event/buero-am-19-6-wegen-feiertag-geschlossen/
LOCATION:Obdach Forum\, Windmühlgasse 30\, Wien\, 1060\, Österreich
ATTACH;FMTTYPE=image/jpeg:https://kalender.obdach.wien/wp-content/uploads/sites/5/2024/10/Logo_GO.OF_.jpg
ORGANIZER;CN="Alexandra Aichhorn":MAILTO:alexandra.aichhorn@fsw.at
END:VEVENT
BEGIN:VEVENT
DTSTART;TZID=Europe/Berlin:20250619T120000
DTEND;TZID=Europe/Berlin:20250619T140000
DTSTAMP:20260419T142928
CREATED:20250331T113053Z
LAST-MODIFIED:20250508T104828Z
UID:6617-1750334400-1750341600@kalender.obdach.wien
SUMMARY:ABGESAGT: Gartengruppe
DESCRIPTION:Die Gartengruppe ist an diesem Tag wegen einem Feiertag abgesagt! \nWir laden zum gemeinsamen Garteln ein. Wer einen grünen Daumen hat oder einen bekommen will\, ist hier richtig. Gemeinsam verschönern und bepflanzen wir unsere zwei Baumscheiben. Wir kümmern uns auch gemeinsam um unsere Innenpflanzen in der Windmühlgasse.
URL:https://kalender.obdach.wien/event/gartengruppe-2-2025-06-19/
LOCATION:Obdach Forum\, Windmühlgasse 30\, Wien\, 1060\, Österreich
ATTACH;FMTTYPE=image/jpeg:https://kalender.obdach.wien/wp-content/uploads/sites/5/2022/06/Kalender_Garten.jpg
ORGANIZER;CN="Alexandra Aichhorn":MAILTO:alexandra.aichhorn@fsw.at
END:VEVENT
BEGIN:VEVENT
DTSTART;TZID=Europe/Berlin:20250620T110000
DTEND;TZID=Europe/Berlin:20250620T180000
DTSTAMP:20260419T142928
CREATED:20250404T085812Z
LAST-MODIFIED:20250404T085918Z
UID:6679-1750417200-1750442400@kalender.obdach.wien
SUMMARY:Kochgruppe
DESCRIPTION:Gemeinsam Kochen\, gemeinsam Essen\, gemeinsam Lachen: Das passiert bei der Kochgruppe von Obdach Forum. Alle zwei Wochen laden unser Peer-Mitarbeiter:innen die Teilnehmer:innen zu einem gemeinsamen Tag rund um das Thema Essen ein. \nDie Teilnehmer:innen  kochen und essen gemeinsam. Was übrig bleibt\, wird aufgeteilt und mit nach Hause genommen. Es werden verschiedenste Gerichte gekocht\, immer mit einer Version für Fleischesser:innen und Vegetarier:innen. \nIn der Kochgruppe wird versucht nachhaltig Lebensmittel zu retten und Müll weitgehend zu vermeiden. Die Kochgruppe verfolgt das Ziel ein Kochbuch zum Thema nachhaltiges Kochen zu erstellen.
URL:https://kalender.obdach.wien/event/kochgruppe-7-2025-05-16/2025-06-20/
LOCATION:Obdach Forum (Standort 2)\, Corneliusgasse 1\, 1060 Wien
ATTACH;FMTTYPE=image/jpeg:https://kalender.obdach.wien/wp-content/uploads/sites/5/2022/06/GettyImages┬®Tempura-1160233770_fuer_Kochgruppe.jpg
ORGANIZER;CN="Lydia Potmesil":MAILTO:lydia.potmesil@fsw.at
END:VEVENT
BEGIN:VEVENT
DTSTART;TZID=Europe/Berlin:20250623T140000
DTEND;TZID=Europe/Berlin:20250623T170000
DTSTAMP:20260419T142928
CREATED:20250313T150007Z
LAST-MODIFIED:20251230T115516Z
UID:6287-1750687200-1750698000@kalender.obdach.wien
SUMMARY:Kreativwerkstatt on Tour (Achtung: andere Adresse!)
DESCRIPTION:Lust auf kreatives Experimentieren? In unserer Kreativwerkstatt könnt ihr euch mit Farben\, Materialien und Techniken ausprobieren. Gemeinsam gestalten wir\, entdecken Neues und lassen unserer Fantasie freien Lauf! \n  \nJeden 4. Montag im Monat sind wir bei Obdach Lobmeyrhof zu Besuch und lassen gemeinsam unserer Kreativität freien Lauf 🙂
URL:https://kalender.obdach.wien/event/kreativwerkstatt-on-tour/2025-06-23/
LOCATION:Obdach Lobmeyrhof\, Lorenz-Mandl-Gasse 16/1/2C\, Wien\, 1160\, Austria
ATTACH;FMTTYPE=image/jpeg:https://kalender.obdach.wien/wp-content/uploads/sites/5/2022/06/GettyImages@dima_sidelnikov-1312359193_fuer_Cafe_Creative.jpg
ORGANIZER;CN="Lydia Potmesil":MAILTO:lydia.potmesil@fsw.at
END:VEVENT
BEGIN:VEVENT
DTSTART;TZID=Europe/Berlin:20250624T110000
DTEND;TZID=Europe/Berlin:20250624T120000
DTSTAMP:20260419T142928
CREATED:20240909T081405Z
LAST-MODIFIED:20260115T111552Z
UID:3523-1750762800-1750766400@kalender.obdach.wien
SUMMARY:Open Obdach - Die offene Band bei Obdach Forum
DESCRIPTION:Egal woher du kommst oder wie viel Erfahrung du hast\, hier bist du richtig! Wir wollen gemeinsam Musik machen\, Spaß haben und miteinander lernen – und dabei begleiten uns erfahrene Musikprofis. Wir erschaffen für uns einen Raum zum Experimentieren und Üben. Gemeinsam entscheiden wir\, in welche Richtung das Projekt gehen soll – und bereiten uns auch auf den ein oder anderen Auftritt vor! \nDu findest das interessant? Du willst ein Teil davon sein und die Gruppe mitgestalten? \nDann melde dich bei uns oder komm direkt vorbei! \nWir treffen uns jeden zweiten und letzten Dienstag von 11:00 bis 12:00 Uhr und freuen uns auf Dich!
URL:https://kalender.obdach.wien/event/offenes-musikprojekt-2/2025-06-24/
LOCATION:Obdach Forum (Standort 2)\, Corneliusgasse 1\, 1060 Wien
ATTACH;FMTTYPE=image/jpeg:https://kalender.obdach.wien/wp-content/uploads/sites/5/2024/04/Musikprojekt_6mb-scaled.jpg
END:VEVENT
BEGIN:VEVENT
DTSTART;TZID=Europe/Berlin:20250624T140000
DTEND;TZID=Europe/Berlin:20250624T160000
DTSTAMP:20260419T142928
CREATED:20250218T104436Z
LAST-MODIFIED:20250618T140450Z
UID:5302-1750773600-1750780800@kalender.obdach.wien
SUMMARY:Tooltime-Gruppe
DESCRIPTION:Die Tooltime-Gruppe erscheint in neuem Glanz. Ab März 2025 findet die Tooltime nun wieder wöchentlich am Dienstag Nachmittag statt. \nWenn du Lust hast handwerklich zu arbeiten\, vielleicht sogar schon eine konkrete Projektidee hast\, oder einfach neugierig bist was in der Tooltime alles gemacht werden kann – dann kommt vorbei und sei dabei! \n  \nAchtung am 24.06.25 endet die Tooltime Gruppe bereits um 16 Uhr.
URL:https://kalender.obdach.wien/event/tooltime-gruppe-7-2025-06-24/
LOCATION:Obdach Forum (Standort 2)\, Corneliusgasse 1\, 1060 Wien
ATTACH;FMTTYPE=image/jpeg:https://kalender.obdach.wien/wp-content/uploads/sites/5/2023/02/GettyImages-1192437563_Oleksandra-Troian.jpg
ORGANIZER;CN="Alexandra Aichhorn":MAILTO:alexandra.aichhorn@fsw.at
END:VEVENT
BEGIN:VEVENT
DTSTART;TZID=Europe/Berlin:20250625T140000
DTEND;TZID=Europe/Berlin:20250625T170000
DTSTAMP:20260419T142928
CREATED:20250508T110324Z
LAST-MODIFIED:20250508T110430Z
UID:7371-1750860000-1750870800@kalender.obdach.wien
SUMMARY:Plauscherl & Guglhupf + Tag der offenen Tür
DESCRIPTION:Lockeres Plaudern in lustiger Runde. Bei unserer offenen Kaffeerunde können Sie sich mit anderen Teilnehmer:innen austauschen und plaudern. Wenn dabei Ideen entstehen\, umso besser!\nKommen Sie vorbei und verbringen Sie einen angenehmen Nachmittag mit uns. \n  \nAn diesem Tag findet auch der Tag der offenen Tür statt.
URL:https://kalender.obdach.wien/event/plauscherl-guglhupf-9-2025-06-25/
LOCATION:Obdach Forum\, Windmühlgasse 30\, Wien\, 1060\, Österreich
ATTACH;FMTTYPE=image/jpeg:https://kalender.obdach.wien/wp-content/uploads/sites/5/2023/02/GettyImages-1160073046_Drbouz.jpg
ORGANIZER;CN="Lydia Potmesil":MAILTO:lydia.potmesil@fsw.at
END:VEVENT
BEGIN:VEVENT
DTSTART;TZID=Europe/Berlin:20250626T120000
DTEND;TZID=Europe/Berlin:20250626T130000
DTSTAMP:20260419T142928
CREATED:20250331T113053Z
LAST-MODIFIED:20250331T113053Z
UID:7893-1750939200-1750942800@kalender.obdach.wien
SUMMARY:Gartengruppe
DESCRIPTION:Wir laden zum gemeinsamen Garteln ein. Wer einen grünen Daumen hat oder einen bekommen will\, ist hier richtig. Gemeinsam verschönern und bepflanzen wir unsere zwei Baumscheiben. Wir kümmern uns auch gemeinsam um unsere Innenpflanzen in der Windmühlgasse.
URL:https://kalender.obdach.wien/event/gartengruppe-2/2025-06-26/
LOCATION:Obdach Forum\, Windmühlgasse 30\, Wien\, 1060\, Österreich
ATTACH;FMTTYPE=image/jpeg:https://kalender.obdach.wien/wp-content/uploads/sites/5/2022/06/Kalender_Garten.jpg
ORGANIZER;CN="Alexandra Aichhorn":MAILTO:alexandra.aichhorn@fsw.at
END:VEVENT
END:VCALENDAR