BEGIN:VCALENDAR
VERSION:2.0
PRODID:-//Obdach Forum - ECPv6.15.17.1//NONSGML v1.0//EN
CALSCALE:GREGORIAN
METHOD:PUBLISH
X-WR-CALNAME:Obdach Forum
X-ORIGINAL-URL:https://kalender.obdach.wien
X-WR-CALDESC:Veranstaltungen für Obdach Forum
REFRESH-INTERVAL;VALUE=DURATION:PT1H
X-Robots-Tag:noindex
X-PUBLISHED-TTL:PT1H
BEGIN:VTIMEZONE
TZID:Europe/Berlin
BEGIN:DAYLIGHT
TZOFFSETFROM:+0100
TZOFFSETTO:+0200
TZNAME:CEST
DTSTART:20250330T010000
END:DAYLIGHT
BEGIN:STANDARD
TZOFFSETFROM:+0200
TZOFFSETTO:+0100
TZNAME:CET
DTSTART:20251026T010000
END:STANDARD
BEGIN:DAYLIGHT
TZOFFSETFROM:+0100
TZOFFSETTO:+0200
TZNAME:CEST
DTSTART:20260329T010000
END:DAYLIGHT
BEGIN:STANDARD
TZOFFSETFROM:+0200
TZOFFSETTO:+0100
TZNAME:CET
DTSTART:20261025T010000
END:STANDARD
BEGIN:DAYLIGHT
TZOFFSETFROM:+0100
TZOFFSETTO:+0200
TZNAME:CEST
DTSTART:20270328T010000
END:DAYLIGHT
BEGIN:STANDARD
TZOFFSETFROM:+0200
TZOFFSETTO:+0100
TZNAME:CET
DTSTART:20271031T010000
END:STANDARD
END:VTIMEZONE
BEGIN:VEVENT
DTSTART;VALUE=DATE:20260112
DTEND;VALUE=DATE:20260113
DTSTAMP:20260419T200441
CREATED:20260112T085047Z
LAST-MODIFIED:20260112T085047Z
UID:8571-1768176000-1768262399@kalender.obdach.wien
SUMMARY:Büro heute ab 13Uhr geschlossen!
DESCRIPTION:Das Büro in der Windmühlgasse ist heute leider bereits ab 13Uhr geschlossen! \nWir sind bis 17Uhr telefonisch erreichbar unter 012452440440 oder persönlich in der Corneliusgasse 1\, 1060 Wien anzutreffen.
URL:https://kalender.obdach.wien/event/buero-heute-ab-13uhr-geschlossen/
LOCATION:Obdach Forum\, Windmühlgasse 30\, Wien\, 1060\, Österreich
ATTACH;FMTTYPE=image/jpeg:https://kalender.obdach.wien/wp-content/uploads/sites/5/2024/10/Logo_GO.OF_.jpg
ORGANIZER;CN="Alexandra Aichhorn":MAILTO:alexandra.aichhorn@fsw.at
END:VEVENT
BEGIN:VEVENT
DTSTART;TZID=Europe/Berlin:20260112T110000
DTEND;TZID=Europe/Berlin:20260112T130000
DTSTAMP:20260419T200441
CREATED:20251230T114835Z
LAST-MODIFIED:20251230T114903Z
UID:8528-1768215600-1768222800@kalender.obdach.wien
SUMMARY:Werde Teil des Spiels - Begegnung und Miteinander
DESCRIPTION:• Gemeinsam spielen – gemeinsam wachsen\n• Spielend in Kontakt kommen – mit Dir und anderen\n• Weil das Leben kein Einzelspiel ist\n• Hier geht´s ums Mitspielen – nicht ums Gewinnen\n• Ein Ort für echte Begegnung – mit Herz\, Humor und Respekt\n• Für ALLE offen \n  \nImmer am 2. und 4. Montag 11 – 13 Uhr
URL:https://kalender.obdach.wien/event/werde-teil-des-spiels-begegnung-und-miteinander-5/2026-01-12/
LOCATION:Obdach Forum (Standort 2)\, Corneliusgasse 1\, 1060 Wien
ATTACH;FMTTYPE=image/jpeg:https://kalender.obdach.wien/wp-content/uploads/sites/5/2025/07/GettyImages-154887750.jpg
END:VEVENT
BEGIN:VEVENT
DTSTART;TZID=Europe/Berlin:20260112T140000
DTEND;TZID=Europe/Berlin:20260112T170000
DTSTAMP:20260419T200441
CREATED:20250313T143207Z
LAST-MODIFIED:20251002T100649Z
UID:8070-1768226400-1768237200@kalender.obdach.wien
SUMMARY:Kreativwerkstatt
DESCRIPTION:Lust auf kreatives Experimentieren?\nIn unserer Kreativwerkstatt könnt ihr euch mit Farben\, Materialien und Techniken ausprobieren. Gemeinsam gestalten wir\, entdecken Neues und lassen unserer Fantasie freien Lauf!
URL:https://kalender.obdach.wien/event/kreativwerkstatt-9-2025-04-14-2025-10-20/2026-01-12/
LOCATION:Obdach Forum (Standort 2)\, Corneliusgasse 1\, 1060 Wien
ATTACH;FMTTYPE=image/jpeg:https://kalender.obdach.wien/wp-content/uploads/sites/5/2022/06/GettyImages@dima_sidelnikov-1312359193_fuer_Cafe_Creative.jpg
ORGANIZER;CN="Franz Haberl":MAILTO:franz.haberl@fsw.at
END:VEVENT
END:VCALENDAR