BEGIN:VCALENDAR
VERSION:2.0
PRODID:-//Obdach Forum - ECPv6.15.17.1//NONSGML v1.0//EN
CALSCALE:GREGORIAN
METHOD:PUBLISH
X-ORIGINAL-URL:https://kalender.obdach.wien
X-WR-CALDESC:Veranstaltungen für Obdach Forum
REFRESH-INTERVAL;VALUE=DURATION:PT1H
X-Robots-Tag:noindex
X-PUBLISHED-TTL:PT1H
BEGIN:VTIMEZONE
TZID:Europe/Berlin
BEGIN:DAYLIGHT
TZOFFSETFROM:+0100
TZOFFSETTO:+0200
TZNAME:CEST
DTSTART:20240331T010000
END:DAYLIGHT
BEGIN:STANDARD
TZOFFSETFROM:+0200
TZOFFSETTO:+0100
TZNAME:CET
DTSTART:20241027T010000
END:STANDARD
BEGIN:DAYLIGHT
TZOFFSETFROM:+0100
TZOFFSETTO:+0200
TZNAME:CEST
DTSTART:20250330T010000
END:DAYLIGHT
BEGIN:STANDARD
TZOFFSETFROM:+0200
TZOFFSETTO:+0100
TZNAME:CET
DTSTART:20251026T010000
END:STANDARD
BEGIN:DAYLIGHT
TZOFFSETFROM:+0100
TZOFFSETTO:+0200
TZNAME:CEST
DTSTART:20260329T010000
END:DAYLIGHT
BEGIN:STANDARD
TZOFFSETFROM:+0200
TZOFFSETTO:+0100
TZNAME:CET
DTSTART:20261025T010000
END:STANDARD
END:VTIMEZONE
BEGIN:VEVENT
DTSTART;TZID=Europe/Berlin:20250520T100000
DTEND;TZID=Europe/Berlin:20250520T130000
DTSTAMP:20260419T174818
CREATED:20250218T102837Z
LAST-MODIFIED:20250430T142505Z
UID:5239-1747735200-1747746000@kalender.obdach.wien
SUMMARY:Frauen*gruppe: „Crazy Girls“ - Beautyday mit Gesichtsmasken
DESCRIPTION:An diesem Tag möchten wir es uns so richtig gut gehen lassen und entspannen. Wir machen einen Beautyday mit Gesichtsmasken. \nWir freuen uns auf dich! 🙂
URL:https://kalender.obdach.wien/event/frauengruppe-2-2025-04-15-2025-05-20/
LOCATION:Obdach Forum (Standort 2)\, Corneliusgasse 1\, 1060 Wien
ATTACH;FMTTYPE=image/jpeg:https://kalender.obdach.wien/wp-content/uploads/sites/5/2025/02/GettyImagesAda-daSilva-1208106103.jpg
ORGANIZER;CN="Lydia Potmesil":MAILTO:lydia.potmesil@fsw.at
END:VEVENT
BEGIN:VEVENT
DTSTART;TZID=Europe/Berlin:20250520T103000
DTEND;TZID=Europe/Berlin:20250520T130000
DTSTAMP:20260419T174818
CREATED:20250508T100302Z
LAST-MODIFIED:20250508T100302Z
UID:7252-1747737000-1747746000@kalender.obdach.wien
SUMMARY:Foto-Gruppe: Spaziergang durch die Stadt
DESCRIPTION:An diesem Tag möchten wir gemeinsam durch die Stadt spazieren. Dabei werden wir verschiedene Sehenswürdigkeiten und Grünanlagen fotografieren.\nDie Route für diesen Tag wird noch besprochen. \nWir möchten die Fotos dann in Collagen verarbeiten. \nWichtig ist uns\, dass wir Spaß haben und es eine lustige Runde ist.
URL:https://kalender.obdach.wien/event/foto-gruppe-spaziergang-durch-die-stadt/
LOCATION:Obdach Forum\, Windmühlgasse 30\, Wien\, 1060\, Österreich
ATTACH;FMTTYPE=image/jpeg:https://kalender.obdach.wien/wp-content/uploads/sites/5/2025/04/GettyImages-1303299377.jpg
ORGANIZER;CN="Alexandra Aichhorn":MAILTO:alexandra.aichhorn@fsw.at
END:VEVENT
BEGIN:VEVENT
DTSTART;TZID=Europe/Berlin:20250520T140000
DTEND;TZID=Europe/Berlin:20250520T170000
DTSTAMP:20260419T174818
CREATED:20250218T104436Z
LAST-MODIFIED:20250225T104300Z
UID:5296-1747749600-1747760400@kalender.obdach.wien
SUMMARY:Tooltime-Gruppe
DESCRIPTION:Die Tooltime-Gruppe erscheint in neuem Glanz. Ab März 2025 findet die Tooltime nun wieder wöchentlich am Dienstag Nachmittag statt. \nWenn du Lust hast handwerklich zu arbeiten\, vielleicht sogar schon eine konkrete Projektidee hast\, oder einfach neugierig bist was in der Tooltime alles gemacht werden kann – dann kommt vorbei und sei dabei!
URL:https://kalender.obdach.wien/event/tooltime-gruppe-7-2025-03-25/2025-05-20/
LOCATION:Obdach Forum (Standort 2)\, Corneliusgasse 1\, 1060 Wien
ATTACH;FMTTYPE=image/jpeg:https://kalender.obdach.wien/wp-content/uploads/sites/5/2023/02/GettyImages-1192437563_Oleksandra-Troian.jpg
ORGANIZER;CN="Alexandra Aichhorn":MAILTO:alexandra.aichhorn@fsw.at
END:VEVENT
END:VCALENDAR