BEGIN:VCALENDAR
VERSION:2.0
PRODID:-//Obdach Forum - ECPv6.15.17.1//NONSGML v1.0//EN
CALSCALE:GREGORIAN
METHOD:PUBLISH
X-ORIGINAL-URL:https://kalender.obdach.wien
X-WR-CALDESC:Veranstaltungen für Obdach Forum
REFRESH-INTERVAL;VALUE=DURATION:PT1H
X-Robots-Tag:noindex
X-PUBLISHED-TTL:PT1H
BEGIN:VTIMEZONE
TZID:Europe/Berlin
BEGIN:DAYLIGHT
TZOFFSETFROM:+0100
TZOFFSETTO:+0200
TZNAME:CEST
DTSTART:20240331T010000
END:DAYLIGHT
BEGIN:STANDARD
TZOFFSETFROM:+0200
TZOFFSETTO:+0100
TZNAME:CET
DTSTART:20241027T010000
END:STANDARD
BEGIN:DAYLIGHT
TZOFFSETFROM:+0100
TZOFFSETTO:+0200
TZNAME:CEST
DTSTART:20250330T010000
END:DAYLIGHT
BEGIN:STANDARD
TZOFFSETFROM:+0200
TZOFFSETTO:+0100
TZNAME:CET
DTSTART:20251026T010000
END:STANDARD
BEGIN:DAYLIGHT
TZOFFSETFROM:+0100
TZOFFSETTO:+0200
TZNAME:CEST
DTSTART:20260329T010000
END:DAYLIGHT
BEGIN:STANDARD
TZOFFSETFROM:+0200
TZOFFSETTO:+0100
TZNAME:CET
DTSTART:20261025T010000
END:STANDARD
END:VTIMEZONE
BEGIN:VEVENT
DTSTART;TZID=Europe/Berlin:20250430T133000
DTEND;TZID=Europe/Berlin:20250430T150000
DTSTAMP:20260419T175127
CREATED:20250423T120902Z
LAST-MODIFIED:20250423T120902Z
UID:7217-1746019800-1746025200@kalender.obdach.wien
SUMMARY:Büro am 30.04 erst ab 13:30 Uhr geöffnet
DESCRIPTION:Das Büro ist am 30.04.2025 erst ab 13:30 Uhr geöffnet. 
URL:https://kalender.obdach.wien/event/buero-am-30-04-erst-ab-1330-uhr-geoeffnet/
LOCATION:Obdach Forum\, Windmühlgasse 30\, Wien\, 1060\, Österreich
ATTACH;FMTTYPE=image/jpeg:https://kalender.obdach.wien/wp-content/uploads/sites/5/2024/10/Logo_GO.OF_.jpg
ORGANIZER;CN="Sonja Draesner":MAILTO:sonja.draesner@fsw.at
END:VEVENT
END:VCALENDAR