BEGIN:VCALENDAR
VERSION:2.0
PRODID:-//Obdach Forum - ECPv6.15.17.1//NONSGML v1.0//EN
CALSCALE:GREGORIAN
METHOD:PUBLISH
X-ORIGINAL-URL:https://kalender.obdach.wien
X-WR-CALDESC:Veranstaltungen für Obdach Forum
REFRESH-INTERVAL;VALUE=DURATION:PT1H
X-Robots-Tag:noindex
X-PUBLISHED-TTL:PT1H
BEGIN:VTIMEZONE
TZID:Europe/Berlin
BEGIN:DAYLIGHT
TZOFFSETFROM:+0100
TZOFFSETTO:+0200
TZNAME:CEST
DTSTART:20240331T010000
END:DAYLIGHT
BEGIN:STANDARD
TZOFFSETFROM:+0200
TZOFFSETTO:+0100
TZNAME:CET
DTSTART:20241027T010000
END:STANDARD
BEGIN:DAYLIGHT
TZOFFSETFROM:+0100
TZOFFSETTO:+0200
TZNAME:CEST
DTSTART:20250330T010000
END:DAYLIGHT
BEGIN:STANDARD
TZOFFSETFROM:+0200
TZOFFSETTO:+0100
TZNAME:CET
DTSTART:20251026T010000
END:STANDARD
BEGIN:DAYLIGHT
TZOFFSETFROM:+0100
TZOFFSETTO:+0200
TZNAME:CEST
DTSTART:20260329T010000
END:DAYLIGHT
BEGIN:STANDARD
TZOFFSETFROM:+0200
TZOFFSETTO:+0100
TZNAME:CET
DTSTART:20261025T010000
END:STANDARD
END:VTIMEZONE
BEGIN:VEVENT
DTSTART;TZID=Europe/Berlin:20250429T103000
DTEND;TZID=Europe/Berlin:20250429T130000
DTSTAMP:20260419T175128
CREATED:20250428T124130Z
LAST-MODIFIED:20250428T124130Z
UID:7231-1745922600-1745931600@kalender.obdach.wien
SUMMARY:Foto-Gruppe: Spaziergang Brunnenmarkt & Schmelz
DESCRIPTION:Die Foto-Gruppe nutzt das sonnige Wetter und möchte wieder tolle Fotos machen. \nDiesmal ist ein Spaziergang durch den Brunnenmarkt und die Kleingartensiedlung bei der Schmelz geplant. \nWenn du ein Gerät zum Fotografieren hast\, z.B.: Handy oder eine Kamera\, kannst du es gerne mitbringen. \n  \nTreffpunkt ist um 10:30Uhr in der Windmühlgasse 30\, 1060 Wien. \n 
URL:https://kalender.obdach.wien/event/foto-gruppe-spaziergang-brunnenmarkt-schmelz/
LOCATION:Obdach Forum\, Windmühlgasse 30\, Wien\, 1060\, Österreich
ATTACH;FMTTYPE=image/jpeg:https://kalender.obdach.wien/wp-content/uploads/sites/5/2025/04/GettyImages-1303299377.jpg
ORGANIZER;CN="Alexandra Aichhorn":MAILTO:alexandra.aichhorn@fsw.at
END:VEVENT
BEGIN:VEVENT
DTSTART;TZID=Europe/Berlin:20250429T140000
DTEND;TZID=Europe/Berlin:20250429T170000
DTSTAMP:20260419T175128
CREATED:20250218T104436Z
LAST-MODIFIED:20250402T122325Z
UID:5293-1745935200-1745946000@kalender.obdach.wien
SUMMARY:Tooltime-Gruppe: Zeit für offene Projekte
DESCRIPTION:Die Tooltime-Gruppe erscheint in neuem Glanz. Ab März 2025 findet die Tooltime nun wieder wöchentlich am Dienstag Nachmittag statt. \nWenn du Lust hast handwerklich zu arbeiten\, vielleicht sogar schon eine konkrete Projektidee hast\, oder einfach neugierig bist was in der Tooltime alles gemacht werden kann – dann kommt vorbei und sei dabei! \nHeute möchten wir die Zeit nutzen\, um offene Projekte vom April abzuschließen. Du kannst natürlich auch ein neues Projekt beginnen oder einfach zum Plaudern vorbeikommen!
URL:https://kalender.obdach.wien/event/tooltime-gruppe-7-2025-04-29/
LOCATION:Obdach Forum (Standort 2)\, Corneliusgasse 1\, 1060 Wien
ATTACH;FMTTYPE=image/jpeg:https://kalender.obdach.wien/wp-content/uploads/sites/5/2023/02/GettyImages-1192437563_Oleksandra-Troian.jpg
ORGANIZER;CN="Alexandra Aichhorn":MAILTO:alexandra.aichhorn@fsw.at
END:VEVENT
END:VCALENDAR