BEGIN:VCALENDAR
VERSION:2.0
PRODID:-//Obdach Forum - ECPv6.15.17.1//NONSGML v1.0//EN
CALSCALE:GREGORIAN
METHOD:PUBLISH
X-ORIGINAL-URL:https://kalender.obdach.wien
X-WR-CALDESC:Veranstaltungen für Obdach Forum
REFRESH-INTERVAL;VALUE=DURATION:PT1H
X-Robots-Tag:noindex
X-PUBLISHED-TTL:PT1H
BEGIN:VTIMEZONE
TZID:Europe/Berlin
BEGIN:DAYLIGHT
TZOFFSETFROM:+0100
TZOFFSETTO:+0200
TZNAME:CEST
DTSTART:20240331T010000
END:DAYLIGHT
BEGIN:STANDARD
TZOFFSETFROM:+0200
TZOFFSETTO:+0100
TZNAME:CET
DTSTART:20241027T010000
END:STANDARD
BEGIN:DAYLIGHT
TZOFFSETFROM:+0100
TZOFFSETTO:+0200
TZNAME:CEST
DTSTART:20250330T010000
END:DAYLIGHT
BEGIN:STANDARD
TZOFFSETFROM:+0200
TZOFFSETTO:+0100
TZNAME:CET
DTSTART:20251026T010000
END:STANDARD
BEGIN:DAYLIGHT
TZOFFSETFROM:+0100
TZOFFSETTO:+0200
TZNAME:CEST
DTSTART:20260329T010000
END:DAYLIGHT
BEGIN:STANDARD
TZOFFSETFROM:+0200
TZOFFSETTO:+0100
TZNAME:CET
DTSTART:20261025T010000
END:STANDARD
END:VTIMEZONE
BEGIN:VEVENT
DTSTART;TZID=Europe/Berlin:20250417T110000
DTEND;TZID=Europe/Berlin:20250417T120000
DTSTAMP:20260419T194724
CREATED:20250331T113053Z
LAST-MODIFIED:20250409T114558Z
UID:6608-1744887600-1744891200@kalender.obdach.wien
SUMMARY:Gartengruppe (Achtung andere Uhrzeit!)
DESCRIPTION:Die Gartengruppe findet an diesem Tag ausnahmsweise von 11-12Uhr statt! \nWir laden zum gemeinsamen Garteln ein. Wer einen grünen Daumen hat oder einen bekommen will\, ist hier richtig. Gemeinsam verschönern und bepflanzen wir unsere zwei Baumscheiben. Wir kümmern uns auch gemeinsam um unsere Innenpflanzen in der Windmühlgasse. \n  \n 
URL:https://kalender.obdach.wien/event/gartengruppe-2-2025-04-17/
LOCATION:Obdach Forum\, Windmühlgasse 30\, Wien\, 1060\, Österreich
ATTACH;FMTTYPE=image/jpeg:https://kalender.obdach.wien/wp-content/uploads/sites/5/2022/06/Kalender_Garten.jpg
ORGANIZER;CN="Alexandra Aichhorn":MAILTO:alexandra.aichhorn@fsw.at
END:VEVENT
BEGIN:VEVENT
DTSTART;TZID=Europe/Berlin:20250417T130000
DTEND;TZID=Europe/Berlin:20250417T150000
DTSTAMP:20260419T194724
CREATED:20250318T124457Z
LAST-MODIFIED:20250318T165217Z
UID:6503-1744894800-1744902000@kalender.obdach.wien
SUMMARY:Organisationstreffen (Achtung andere Uhrzeit!)
DESCRIPTION:Am 17.4.2025 findet das Organisationstreffen ausnahmsweise von 13-15Uhr statt! \nDer Kern von Obdach Forum: Einmal in der Woche treffen sich Teilnehmer:innen. Es wird aus\nden verschiedenen Gruppen berichtet\, Infos werden ausgetauscht und neue Ideen\nbesprochen\, aus denen oft Projekte oder neue Gruppenangebote entstehen. Wer sich\neinbringen und eigene Ideen teilen will\, ist hier genau richtig.
URL:https://kalender.obdach.wien/event/organisationstreffen-10-2025-04-17/
LOCATION:Obdach Forum\, Windmühlgasse 30\, Wien\, 1060\, Österreich
ATTACH;FMTTYPE=image/jpeg:https://kalender.obdach.wien/wp-content/uploads/sites/5/2022/03/GettyImages┬®SDI-Productions-1146552566_fuer_Organisationstreffen.jpg
ORGANIZER;CN="Alexandra Aichhorn":MAILTO:alexandra.aichhorn@fsw.at
END:VEVENT
END:VCALENDAR