BEGIN:VCALENDAR
VERSION:2.0
PRODID:-//Obdach Forum - ECPv6.15.17.1//NONSGML v1.0//EN
CALSCALE:GREGORIAN
METHOD:PUBLISH
X-WR-CALNAME:Obdach Forum
X-ORIGINAL-URL:https://kalender.obdach.wien
X-WR-CALDESC:Veranstaltungen für Obdach Forum
REFRESH-INTERVAL;VALUE=DURATION:PT1H
X-Robots-Tag:noindex
X-PUBLISHED-TTL:PT1H
BEGIN:VTIMEZONE
TZID:Europe/Berlin
BEGIN:DAYLIGHT
TZOFFSETFROM:+0100
TZOFFSETTO:+0200
TZNAME:CEST
DTSTART:20240331T010000
END:DAYLIGHT
BEGIN:STANDARD
TZOFFSETFROM:+0200
TZOFFSETTO:+0100
TZNAME:CET
DTSTART:20241027T010000
END:STANDARD
BEGIN:DAYLIGHT
TZOFFSETFROM:+0100
TZOFFSETTO:+0200
TZNAME:CEST
DTSTART:20250330T010000
END:DAYLIGHT
BEGIN:STANDARD
TZOFFSETFROM:+0200
TZOFFSETTO:+0100
TZNAME:CET
DTSTART:20251026T010000
END:STANDARD
BEGIN:DAYLIGHT
TZOFFSETFROM:+0100
TZOFFSETTO:+0200
TZNAME:CEST
DTSTART:20260329T010000
END:DAYLIGHT
BEGIN:STANDARD
TZOFFSETFROM:+0200
TZOFFSETTO:+0100
TZNAME:CET
DTSTART:20261025T010000
END:STANDARD
END:VTIMEZONE
BEGIN:VEVENT
DTSTART;TZID=Europe/Berlin:20250415T100000
DTEND;TZID=Europe/Berlin:20250415T130000
DTSTAMP:20260419T194726
CREATED:20250218T102837Z
LAST-MODIFIED:20250409T114401Z
UID:5238-1744711200-1744722000@kalender.obdach.wien
SUMMARY:Frauen*gruppe: „Crazy Girls“ - Osterbrunch
DESCRIPTION:Heute werden wir gemeinsam einen gemütlich & guten Osterbrunch genießen. Wir können dabei plaudern oder auch das ein oder andere Spiel spielen. \nWir freuen uns auf dich! 🙂
URL:https://kalender.obdach.wien/event/frauengruppe-2-2025-04-15/
LOCATION:Obdach Forum (Standort 2)\, Corneliusgasse 1\, 1060 Wien
ATTACH;FMTTYPE=image/jpeg:https://kalender.obdach.wien/wp-content/uploads/sites/5/2025/02/GettyImagesAda-daSilva-1208106103.jpg
ORGANIZER;CN="Lydia Potmesil":MAILTO:lydia.potmesil@fsw.at
END:VEVENT
BEGIN:VEVENT
DTSTART;TZID=Europe/Berlin:20250415T140000
DTEND;TZID=Europe/Berlin:20250415T170000
DTSTAMP:20260419T194726
CREATED:20250218T104436Z
LAST-MODIFIED:20250402T121701Z
UID:5291-1744725600-1744736400@kalender.obdach.wien
SUMMARY:Tooltime-Gruppe: Kreativ mit Speckstein
DESCRIPTION:Die Tooltime-Gruppe erscheint in neuem Glanz. Ab März 2025 findet die Tooltime nun wieder wöchentlich am Dienstag Nachmittag statt. \nWenn du Lust hast handwerklich zu arbeiten\, vielleicht sogar schon eine konkrete Projektidee hast\, oder einfach neugierig bist was in der Tooltime alles gemacht werden kann – dann kommt vorbei und sei dabei! \nHeute werden wir mit SPECKSTEIN arbeiten. Das wolltest du schon immer mal machen? Na\, dann komm vorbei und mach mit! Wir haben alles was du dafür brauchst.
URL:https://kalender.obdach.wien/event/tooltime-gruppe-7-2025-04-15/
LOCATION:Obdach Forum (Standort 2)\, Corneliusgasse 1\, 1060 Wien
ATTACH;FMTTYPE=image/jpeg:https://kalender.obdach.wien/wp-content/uploads/sites/5/2023/02/GettyImages-1192437563_Oleksandra-Troian.jpg
ORGANIZER;CN="Alexandra Aichhorn":MAILTO:alexandra.aichhorn@fsw.at
END:VEVENT
END:VCALENDAR