BEGIN:VCALENDAR
VERSION:2.0
PRODID:-//Obdach Forum - ECPv6.15.17.1//NONSGML v1.0//EN
CALSCALE:GREGORIAN
METHOD:PUBLISH
X-WR-CALNAME:Obdach Forum
X-ORIGINAL-URL:https://kalender.obdach.wien
X-WR-CALDESC:Veranstaltungen für Obdach Forum
REFRESH-INTERVAL;VALUE=DURATION:PT1H
X-Robots-Tag:noindex
X-PUBLISHED-TTL:PT1H
BEGIN:VTIMEZONE
TZID:Europe/Berlin
BEGIN:DAYLIGHT
TZOFFSETFROM:+0100
TZOFFSETTO:+0200
TZNAME:CEST
DTSTART:20240331T010000
END:DAYLIGHT
BEGIN:STANDARD
TZOFFSETFROM:+0200
TZOFFSETTO:+0100
TZNAME:CET
DTSTART:20241027T010000
END:STANDARD
BEGIN:DAYLIGHT
TZOFFSETFROM:+0100
TZOFFSETTO:+0200
TZNAME:CEST
DTSTART:20250330T010000
END:DAYLIGHT
BEGIN:STANDARD
TZOFFSETFROM:+0200
TZOFFSETTO:+0100
TZNAME:CET
DTSTART:20251026T010000
END:STANDARD
BEGIN:DAYLIGHT
TZOFFSETFROM:+0100
TZOFFSETTO:+0200
TZNAME:CEST
DTSTART:20260329T010000
END:DAYLIGHT
BEGIN:STANDARD
TZOFFSETFROM:+0200
TZOFFSETTO:+0100
TZNAME:CET
DTSTART:20261025T010000
END:STANDARD
END:VTIMEZONE
BEGIN:VEVENT
DTSTART;TZID=Europe/Berlin:20250407T110000
DTEND;TZID=Europe/Berlin:20250407T130000
DTSTAMP:20260419T194717
CREATED:20240408T074229Z
LAST-MODIFIED:20250630T122314Z
UID:4043-1744023600-1744030800@kalender.obdach.wien
SUMMARY:Austausch-Gruppe Musik
DESCRIPTION:Hörst du mich – Hör ich dich – Hören wir uns \n\nAustausch mit Hilfe der Musik – Musizieren und Harmonieren\nSoziale Achtsamkeit\nMusikinstrument vor Ort auswählen oder gerne mitbringen\nFür ALLE offen
URL:https://kalender.obdach.wien/event/austausch-gruppe-musik-3/2025-04-07/
LOCATION:Obdach Forum (Standort 2)\, Corneliusgasse 1\, 1060 Wien
ATTACH;FMTTYPE=image/jpeg:https://kalender.obdach.wien/wp-content/uploads/sites/5/2023/02/GettyImages-1129447885_bortonia.jpg
END:VEVENT
BEGIN:VEVENT
DTSTART;TZID=Europe/Berlin:20250407T110000
DTEND;TZID=Europe/Berlin:20250407T130000
DTSTAMP:20260419T194717
CREATED:20241119T105137Z
LAST-MODIFIED:20260129T160221Z
UID:5166-1744023600-1744030800@kalender.obdach.wien
SUMMARY:Ideenbrunch
DESCRIPTION:Du hast Ideen für ein neues Angebot bei Obdach Forum? Du möchtest diese Ideen in kleiner Runde besprechen\, bevor du sie als Thema ins Organisationstreffen mitnimmst (wo sie dann gemeinsam weiterentwickelt werden können)? Oder du möchtest nach dem Wochenende einfach ein gutes\, gemütliches Frühstück in netter Gesellschaft genießen und ein bisschen plaudern? \nUnser Ideen-Brunch ist genau dafür gedacht! \nWir freuen uns auf einen gemütlichen Wochenstart mit euch gemeinsam 🙂
URL:https://kalender.obdach.wien/event/teilnehmerinnen-brunch-2025-01-13/2025-04-07/
LOCATION:Obdach Forum\, Windmühlgasse 30\, Wien\, 1060\, Österreich
ATTACH;FMTTYPE=image/jpeg:https://kalender.obdach.wien/wp-content/uploads/sites/5/2022/03/unsplash4.jpg
ORGANIZER;CN="Alexandra Aichhorn":MAILTO:alexandra.aichhorn@fsw.at
END:VEVENT
BEGIN:VEVENT
DTSTART;TZID=Europe/Berlin:20250407T140000
DTEND;TZID=Europe/Berlin:20250407T170000
DTSTAMP:20260419T194717
CREATED:20250313T143207Z
LAST-MODIFIED:20250402T121840Z
UID:6215-1744034400-1744045200@kalender.obdach.wien
SUMMARY:Kreativwerkstatt: Samenkugeln machen
DESCRIPTION:Töpfern\, malen\, drucken und noch vieles mehr!!! Gemeinsam probieren wir Neues aus\, gestalten und lernen voneinander in der Kreativwerkstätte. Neugierig geworden? Dann kommen Sie\, auch gerne mit ihren Kindern\, vorbei – alle sind herzlich willkommen!! \n  \nHeute werden wir gemeinsam SAMENKUGELN für dein Blumenbeet oder die Zimmerbegrünung machen! Wir haben alles\, was du dafür brauchst. Komm einfach vorbei!
URL:https://kalender.obdach.wien/event/kreativwerkstatt-9/
LOCATION:Obdach Forum (Standort 2)\, Corneliusgasse 1\, 1060 Wien
ATTACH;FMTTYPE=image/jpeg:https://kalender.obdach.wien/wp-content/uploads/sites/5/2022/06/GettyImages@dima_sidelnikov-1312359193_fuer_Cafe_Creative.jpg
ORGANIZER;CN="Franz Haberl":MAILTO:franz.haberl@fsw.at
END:VEVENT
END:VCALENDAR