BEGIN:VCALENDAR
VERSION:2.0
PRODID:-//Obdach Forum - ECPv6.15.17.1//NONSGML v1.0//EN
CALSCALE:GREGORIAN
METHOD:PUBLISH
X-ORIGINAL-URL:https://kalender.obdach.wien
X-WR-CALDESC:Veranstaltungen für Obdach Forum
REFRESH-INTERVAL;VALUE=DURATION:PT1H
X-Robots-Tag:noindex
X-PUBLISHED-TTL:PT1H
BEGIN:VTIMEZONE
TZID:Europe/Berlin
BEGIN:DAYLIGHT
TZOFFSETFROM:+0100
TZOFFSETTO:+0200
TZNAME:CEST
DTSTART:20240331T010000
END:DAYLIGHT
BEGIN:STANDARD
TZOFFSETFROM:+0200
TZOFFSETTO:+0100
TZNAME:CET
DTSTART:20241027T010000
END:STANDARD
BEGIN:DAYLIGHT
TZOFFSETFROM:+0100
TZOFFSETTO:+0200
TZNAME:CEST
DTSTART:20250330T010000
END:DAYLIGHT
BEGIN:STANDARD
TZOFFSETFROM:+0200
TZOFFSETTO:+0100
TZNAME:CET
DTSTART:20251026T010000
END:STANDARD
BEGIN:DAYLIGHT
TZOFFSETFROM:+0100
TZOFFSETTO:+0200
TZNAME:CEST
DTSTART:20260329T010000
END:DAYLIGHT
BEGIN:STANDARD
TZOFFSETFROM:+0200
TZOFFSETTO:+0100
TZNAME:CET
DTSTART:20261025T010000
END:STANDARD
END:VTIMEZONE
BEGIN:VEVENT
DTSTART;TZID=Europe/Berlin:20250324T110000
DTEND;TZID=Europe/Berlin:20250324T123000
DTSTAMP:20260419T212853
CREATED:20250313T151708Z
LAST-MODIFIED:20250313T151708Z
UID:6461-1742814000-1742819400@kalender.obdach.wien
SUMMARY:Gartengruppe: Planungstreffen
DESCRIPTION:Wir kommen langsam in Frühlingsstimmung. Deshalb möchten wir die Gartengruppe aus dem Winterschlaf holen. \nBei diesem Termin werden wir die Gestaltung unserer Baumscheiben besprechen. Außerdem möchten wir auch die allgemeinen Aufgaben und Abläufe der Gartengruppe mit euch gemeinsam reflektieren und bei Bedarf neu denken. \nWenn du Interesse hast\, mit uns gemeinsam die Obdach Forum Räumlichkeiten und unsere Baumscheiben in der Windmühlgasse grün und bunt zu gestalten\, dann komm gerne vorbei und entscheide mit!
URL:https://kalender.obdach.wien/event/gartengruppe-planungstreffen/
LOCATION:Obdach Forum\, Windmühlgasse 30\, Wien\, 1060\, Österreich
ATTACH;FMTTYPE=image/jpeg:https://kalender.obdach.wien/wp-content/uploads/sites/5/2022/06/Kalender_Garten.jpg
ORGANIZER;CN="Lydia Potmesil":MAILTO:lydia.potmesil@fsw.at
END:VEVENT
BEGIN:VEVENT
DTSTART;TZID=Europe/Berlin:20250324T140000
DTEND;TZID=Europe/Berlin:20250324T170000
DTSTAMP:20260419T212853
CREATED:20241204T124949Z
LAST-MODIFIED:20250318T124756Z
UID:4595-1742824800-1742835600@kalender.obdach.wien
SUMMARY:Kreativwerkstatt
DESCRIPTION:Lust auf kreatives Experimentieren? In unserer Kreativwerkstatt könnt ihr euch mit Farben\, Materialien und Techniken ausprobieren. Gemeinsam gestalten wir\, entdecken Neues und lassen unserer Fantasie freien Lauf!
URL:https://kalender.obdach.wien/event/kreativwerkstatt-8/2025-03-24/
LOCATION:Obdach Forum (Standort 2)\, Corneliusgasse 1\, 1060 Wien
ATTACH;FMTTYPE=image/jpeg:https://kalender.obdach.wien/wp-content/uploads/sites/5/2023/02/GettyImages-1093160982_beastfromeast.jpg
ORGANIZER;CN="Lydia Potmesil":MAILTO:lydia.potmesil@fsw.at
END:VEVENT
BEGIN:VEVENT
DTSTART;TZID=Europe/Berlin:20250324T140000
DTEND;TZID=Europe/Berlin:20250324T170000
DTSTAMP:20260419T212853
CREATED:20250306T105721Z
LAST-MODIFIED:20250306T105721Z
UID:6193-1742824800-1742835600@kalender.obdach.wien
SUMMARY:Foto-Gruppe: Collage gestalten & Planungstreffen
DESCRIPTION:Es gibt das gemeinsame Interesse Fotos von schönen Sehenswürdigkeiten und Naturplätzen zu machen. Diese Fotos können bei einem gemeinsamen Spaziergang oder bei einem Ausflug alleine entstehen.\nIm Anschluss möchten wir gemeinsam aus diesen Fotos Collagen gestalten. \nAm 24.3.2025 werden die Fotos vom Herbst 2024 noch in Collagen verarbeitet. Wir möchten auch das Jahr 2025 besprechen: Gibt es dieses Jahr Interesse weiterhin gemeinsam Fotos zu machen & diese dann zu verarbeiten? Welche Rolle möchtest du in dieser Gruppe haben? Wie oft möchtet ihr euch dafür treffen? \n  \nWichtig ist uns\, dass wir dabei Spaß haben und es eine lustige Runde ist.
URL:https://kalender.obdach.wien/event/foto-gruppe-collage-gestalten-planungstreffen/
LOCATION:Obdach Forum (Standort 2)\, Corneliusgasse 1\, 1060 Wien
ATTACH;FMTTYPE=image/jpeg:https://kalender.obdach.wien/wp-content/uploads/sites/5/2023/02/GettyImages-1093160982_beastfromeast.jpg
ORGANIZER;CN="Alexandra Aichhorn":MAILTO:alexandra.aichhorn@fsw.at
END:VEVENT
END:VCALENDAR