BEGIN:VCALENDAR
VERSION:2.0
PRODID:-//Obdach Forum - ECPv6.15.17.1//NONSGML v1.0//EN
CALSCALE:GREGORIAN
METHOD:PUBLISH
X-ORIGINAL-URL:https://kalender.obdach.wien
X-WR-CALDESC:Veranstaltungen für Obdach Forum
REFRESH-INTERVAL;VALUE=DURATION:PT1H
X-Robots-Tag:noindex
X-PUBLISHED-TTL:PT1H
BEGIN:VTIMEZONE
TZID:Europe/Berlin
BEGIN:DAYLIGHT
TZOFFSETFROM:+0100
TZOFFSETTO:+0200
TZNAME:CEST
DTSTART:20240331T010000
END:DAYLIGHT
BEGIN:STANDARD
TZOFFSETFROM:+0200
TZOFFSETTO:+0100
TZNAME:CET
DTSTART:20241027T010000
END:STANDARD
BEGIN:DAYLIGHT
TZOFFSETFROM:+0100
TZOFFSETTO:+0200
TZNAME:CEST
DTSTART:20250330T010000
END:DAYLIGHT
BEGIN:STANDARD
TZOFFSETFROM:+0200
TZOFFSETTO:+0100
TZNAME:CET
DTSTART:20251026T010000
END:STANDARD
BEGIN:DAYLIGHT
TZOFFSETFROM:+0100
TZOFFSETTO:+0200
TZNAME:CEST
DTSTART:20260329T010000
END:DAYLIGHT
BEGIN:STANDARD
TZOFFSETFROM:+0200
TZOFFSETTO:+0100
TZNAME:CET
DTSTART:20261025T010000
END:STANDARD
END:VTIMEZONE
BEGIN:VEVENT
DTSTART;TZID=Europe/Berlin:20250304T100000
DTEND;TZID=Europe/Berlin:20250304T130000
DTSTAMP:20260419T212803
CREATED:20250218T102624Z
LAST-MODIFIED:20250224T084240Z
UID:5189-1741082400-1741093200@kalender.obdach.wien
SUMMARY:Frauen*Gruppe: "Crazy Girls"
DESCRIPTION:Programm am 4.3: Spieletag (große Auswahl an Karten und Brettspielen)  \nAlle\, die sich als Frau* identifizieren\, sind bei uns herzlich willkommen! In unserer Gruppe steht das Miteinander im Mittelpunkt – wir verbringen Zeit unter uns und unternehmen gemeinsam Dinge\, die Spaß machen. Ob Beauty Day\, Ausflüge\, gemeinsames Kochen\, alkoholfreie Cocktails mixen oder vieles mehr – hier kannst du dich einbringen und eigene Ideen vorschlagen. Sei dabei und gestalte mit uns eine tolle Zeit!
URL:https://kalender.obdach.wien/event/frauengruppe/
LOCATION:Obdach Forum (Standort 2)\, Corneliusgasse 1\, 1060 Wien
ATTACH;FMTTYPE=image/jpeg:https://kalender.obdach.wien/wp-content/uploads/sites/5/2025/02/GettyImagesAda-daSilva-1208106103.jpg
ORGANIZER;CN="Lydia Potmesil":MAILTO:lydia.potmesil@fsw.at
END:VEVENT
BEGIN:VEVENT
DTSTART;TZID=Europe/Berlin:20250304T140000
DTEND;TZID=Europe/Berlin:20250304T170000
DTSTAMP:20260419T212803
CREATED:20250218T104001Z
LAST-MODIFIED:20250225T104216Z
UID:5285-1741096800-1741107600@kalender.obdach.wien
SUMMARY:Tooltime-Gruppe: Planung 2. Quartal 2025
DESCRIPTION:Die Tooltime-Gruppe erscheint in neuem Glanz. Ab März 2025 findet die Tooltime nun wieder wöchentlich am Dienstag Nachmittag statt. \nMit welchen Materialien wir arbeiten? Welche Projekte wir gemeinsam oder auch alleine umsetzen? – Genau das möchten wir gerne am 04.03.2025 mit dir besprechen. \n4x/Jahr wird es ein Planungstreffen geben\, bei dem wir das kommende Quartal gemeinsam planen. Welche Projekte möchten wir im Frühling gemeinsam umsetzen? Gibt es ein Projekt\, dass du gerne alleine machen möchtest? Oder vielleicht haben wir auch Lust einen Workshop zu organisieren\, um unser Wissen zu erweitern. \nWenn du Ideen und Wünsche hast\, oder einfach neugierig bist – kommt vorbei und sei dabei!
URL:https://kalender.obdach.wien/event/tooltime-gruppe-kick-off-termin/
LOCATION:Obdach Forum (Standort 2)\, Corneliusgasse 1\, 1060 Wien
ATTACH;FMTTYPE=image/jpeg:https://kalender.obdach.wien/wp-content/uploads/sites/5/2023/02/GettyImages-1192437563_Oleksandra-Troian.jpg
ORGANIZER;CN="Alexandra Aichhorn":MAILTO:alexandra.aichhorn@fsw.at
END:VEVENT
END:VCALENDAR