BEGIN:VCALENDAR
VERSION:2.0
PRODID:-//Obdach Forum - ECPv6.15.17.1//NONSGML v1.0//EN
CALSCALE:GREGORIAN
METHOD:PUBLISH
X-WR-CALNAME:Obdach Forum
X-ORIGINAL-URL:https://kalender.obdach.wien
X-WR-CALDESC:Veranstaltungen für Obdach Forum
REFRESH-INTERVAL;VALUE=DURATION:PT1H
X-Robots-Tag:noindex
X-PUBLISHED-TTL:PT1H
BEGIN:VTIMEZONE
TZID:Europe/Berlin
BEGIN:DAYLIGHT
TZOFFSETFROM:+0100
TZOFFSETTO:+0200
TZNAME:CEST
DTSTART:20240331T010000
END:DAYLIGHT
BEGIN:STANDARD
TZOFFSETFROM:+0200
TZOFFSETTO:+0100
TZNAME:CET
DTSTART:20241027T010000
END:STANDARD
BEGIN:DAYLIGHT
TZOFFSETFROM:+0100
TZOFFSETTO:+0200
TZNAME:CEST
DTSTART:20250330T010000
END:DAYLIGHT
BEGIN:STANDARD
TZOFFSETFROM:+0200
TZOFFSETTO:+0100
TZNAME:CET
DTSTART:20251026T010000
END:STANDARD
BEGIN:DAYLIGHT
TZOFFSETFROM:+0100
TZOFFSETTO:+0200
TZNAME:CEST
DTSTART:20260329T010000
END:DAYLIGHT
BEGIN:STANDARD
TZOFFSETFROM:+0200
TZOFFSETTO:+0100
TZNAME:CET
DTSTART:20261025T010000
END:STANDARD
END:VTIMEZONE
BEGIN:VEVENT
DTSTART;TZID=Europe/Berlin:20250616T140000
DTEND;TZID=Europe/Berlin:20250616T170000
DTSTAMP:20260419T202830
CREATED:20250313T143207Z
LAST-MODIFIED:20250513T112156Z
UID:7569-1750082400-1750093200@kalender.obdach.wien
SUMMARY:Kreativwerkstatt
DESCRIPTION:Lust auf kreatives Experimentieren?\nIn unserer Kreativwerkstatt könnt ihr euch mit Farben\, Materialien und Techniken ausprobieren. Gemeinsam gestalten wir\, entdecken Neues und lassen unserer Fantasie freien Lauf!
URL:https://kalender.obdach.wien/event/kreativwerkstatt-9-2025-04-14/2025-06-16/
LOCATION:Obdach Forum (Standort 2)\, Corneliusgasse 1\, 1060 Wien
ATTACH;FMTTYPE=image/jpeg:https://kalender.obdach.wien/wp-content/uploads/sites/5/2022/06/GettyImages@dima_sidelnikov-1312359193_fuer_Cafe_Creative.jpg
ORGANIZER;CN="Franz Haberl":MAILTO:franz.haberl@fsw.at
END:VEVENT
BEGIN:VEVENT
DTSTART;TZID=Europe/Berlin:20250613T120000
DTEND;TZID=Europe/Berlin:20250613T150000
DTSTAMP:20260419T202830
CREATED:20250225T092905Z
LAST-MODIFIED:20250225T092905Z
UID:6793-1749816000-1749826800@kalender.obdach.wien
SUMMARY:Obdach Forum Wochenausklang
DESCRIPTION:Offenes Zusammentreffen bei Kaffee\, Tee und Brettspielen. \nGemeinsam in gemütlicher Runde die Woche ausklingen lassen.
URL:https://kalender.obdach.wien/event/obdach-forum-wochenausklang-5-2025-03-28/2025-06-13/
LOCATION:Obdach Forum (Standort 2)\, Corneliusgasse 1\, 1060 Wien
ATTACH;FMTTYPE=image/jpeg:https://kalender.obdach.wien/wp-content/uploads/sites/5/2025/02/GettyImages©joshblake-182176177_fuer_Kulturprogramm.jpg
ORGANIZER;CN="Lydia Potmesil":MAILTO:lydia.potmesil@fsw.at
END:VEVENT
BEGIN:VEVENT
DTSTART;TZID=Europe/Berlin:20250613T103000
DTEND;TZID=Europe/Berlin:20250613T120000
DTSTAMP:20260419T202830
CREATED:20241031T130125Z
LAST-MODIFIED:20241031T130125Z
UID:6780-1749810600-1749816000@kalender.obdach.wien
SUMMARY:Wohlfühlgruppe & gesunder Snack von Frauen* für Frauen* – veranstaltet von Frauengesundheitszentrum FEM (Achtung neue Adresse)
DESCRIPTION:Bewegung und Entspannung mit Heike\, mit anschließendem gesunden Snack 🙂 \nEinfach bequeme Kleidung anziehen und vorbeikommen! \nWir bewegen uns gemeinsam\, dehnen uns und entspannen zum Schluss. \nFür alle Frauen* – wir passen die Übungen an diejenigen an\, die da sind! \nFrei nach dem Motto: „Ich fühle mich (wieder) wohl in meinem Körper“ \n  \nIm Anschluss lassen wir die Gruppe noch mit einem kleinen\, gesunden Snack ausklingen! \n 
URL:https://kalender.obdach.wien/event/wohlfuehlgruppe-von-frauen-fuer-frauen-veranstaltet-von-frauengesundheitszentrum-fem-achtung-neue-adresse-2025-03-28/2025-06-13/
LOCATION:Obdach Forum (Standort 2)\, Corneliusgasse 1\, 1060 Wien
ATTACH;FMTTYPE=image/jpeg:https://kalender.obdach.wien/wp-content/uploads/sites/5/2024/10/moss-3402910_1280.jpg
ORGANIZER;CN="Lydia Potmesil":MAILTO:lydia.potmesil@fsw.at
END:VEVENT
BEGIN:VEVENT
DTSTART;TZID=Europe/Berlin:20250612T120000
DTEND;TZID=Europe/Berlin:20250612T130000
DTSTAMP:20260419T202830
CREATED:20250331T113053Z
LAST-MODIFIED:20250331T113053Z
UID:7892-1749729600-1749733200@kalender.obdach.wien
SUMMARY:Gartengruppe
DESCRIPTION:Wir laden zum gemeinsamen Garteln ein. Wer einen grünen Daumen hat oder einen bekommen will\, ist hier richtig. Gemeinsam verschönern und bepflanzen wir unsere zwei Baumscheiben. Wir kümmern uns auch gemeinsam um unsere Innenpflanzen in der Windmühlgasse.
URL:https://kalender.obdach.wien/event/gartengruppe-2/2025-06-12/
LOCATION:Obdach Forum\, Windmühlgasse 30\, Wien\, 1060\, Österreich
ATTACH;FMTTYPE=image/jpeg:https://kalender.obdach.wien/wp-content/uploads/sites/5/2022/06/Kalender_Garten.jpg
ORGANIZER;CN="Alexandra Aichhorn":MAILTO:alexandra.aichhorn@fsw.at
END:VEVENT
BEGIN:VEVENT
DTSTART;TZID=Europe/Berlin:20250611T140000
DTEND;TZID=Europe/Berlin:20250611T160000
DTSTAMP:20260419T202830
CREATED:20250508T110324Z
LAST-MODIFIED:20250509T105054Z
UID:7369-1749650400-1749657600@kalender.obdach.wien
SUMMARY:Plauscherl & Guglhupf
DESCRIPTION:Lockeres Plaudern in lustiger Runde. Bei unserer offenen Kaffeerunde können Sie sich mit anderen Teilnehmer:innen austauschen und plaudern. Wenn dabei Ideen entstehen\, umso besser!\nKommen Sie vorbei und verbringen Sie einen angenehmen Nachmittag mit uns.
URL:https://kalender.obdach.wien/event/plauscherl-guglhupf-9/2025-06-11/
LOCATION:Obdach Forum\, Windmühlgasse 30\, Wien\, 1060\, Österreich
ATTACH;FMTTYPE=image/jpeg:https://kalender.obdach.wien/wp-content/uploads/sites/5/2023/02/GettyImages-1160073046_Drbouz.jpg
ORGANIZER;CN="Lydia Potmesil":MAILTO:lydia.potmesil@fsw.at
END:VEVENT
BEGIN:VEVENT
DTSTART;TZID=Europe/Berlin:20250609T140000
DTEND;TZID=Europe/Berlin:20250609T170000
DTSTAMP:20260419T202830
CREATED:20250313T143207Z
LAST-MODIFIED:20250313T150222Z
UID:6223-1749477600-1749488400@kalender.obdach.wien
SUMMARY:ABGESAGT! Kreativwerkstatt
DESCRIPTION:Aufgrund von Feiertag abgesagt! \n  \nTöpfern\, malen\, drucken und noch vieles mehr!!! Gemeinsam probieren wir Neues aus\, gestalten und lernen voneinander in der Kreativwerkstätte. Neugierig geworden? Dann kommen Sie\, auch gerne mit ihren Kindern\, vorbei – alle sind herzlich willkommen!!
URL:https://kalender.obdach.wien/event/kreativwerkstatt-9-2025-06-09/
LOCATION:Obdach Forum (Standort 2)\, Corneliusgasse 1\, 1060 Wien
ATTACH;FMTTYPE=image/jpeg:https://kalender.obdach.wien/wp-content/uploads/sites/5/2022/06/GettyImages@dima_sidelnikov-1312359193_fuer_Cafe_Creative.jpg
ORGANIZER;CN="Franz Haberl":MAILTO:franz.haberl@fsw.at
END:VEVENT
BEGIN:VEVENT
DTSTART;TZID=Europe/Berlin:20250606T110000
DTEND;TZID=Europe/Berlin:20250606T180000
DTSTAMP:20260419T202830
CREATED:20250225T103802Z
LAST-MODIFIED:20250225T103802Z
UID:6670-1749207600-1749232800@kalender.obdach.wien
SUMMARY:Kochgruppe
DESCRIPTION:Gemeinsam Kochen\, gemeinsam Essen\, gemeinsam Lachen: Das passiert bei der Kochgruppe von Obdach Forum. Alle zwei Wochen laden unser Peer-Mitarbeiter:innen die Teilnehmer:innen zu einem gemeinsamen Tag rund um das Thema Essen ein. \nDie Teilnehmer:innen  kochen und essen gemeinsam. Was übrig bleibt\, wird aufgeteilt und mit nach Hause genommen. Es werden verschiedenste Gerichte gekocht\, immer mit einer Version für Fleischesser:innen und Vegetarier:innen. \nIn der Kochgruppe wird versucht nachhaltig Lebensmittel zu retten und Müll weitgehend zu vermeiden. Die Kochgruppe verfolgt das Ziel ein Kochbuch zum Thema nachhaltiges Kochen zu erstellen.
URL:https://kalender.obdach.wien/event/kochgruppe-6/2025-06-06/
LOCATION:Obdach Forum (Standort 2)\, Corneliusgasse 1\, 1060 Wien
ATTACH;FMTTYPE=image/jpeg:https://kalender.obdach.wien/wp-content/uploads/sites/5/2022/06/GettyImages┬®Tempura-1160233770_fuer_Kochgruppe.jpg
ORGANIZER;CN="Franz Haberl":MAILTO:franz.haberl@fsw.at
END:VEVENT
BEGIN:VEVENT
DTSTART;TZID=Europe/Berlin:20250605T120000
DTEND;TZID=Europe/Berlin:20250605T130000
DTSTAMP:20260419T202830
CREATED:20250331T113053Z
LAST-MODIFIED:20250331T113053Z
UID:7891-1749124800-1749128400@kalender.obdach.wien
SUMMARY:Gartengruppe
DESCRIPTION:Wir laden zum gemeinsamen Garteln ein. Wer einen grünen Daumen hat oder einen bekommen will\, ist hier richtig. Gemeinsam verschönern und bepflanzen wir unsere zwei Baumscheiben. Wir kümmern uns auch gemeinsam um unsere Innenpflanzen in der Windmühlgasse.
URL:https://kalender.obdach.wien/event/gartengruppe-2/2025-06-05/
LOCATION:Obdach Forum\, Windmühlgasse 30\, Wien\, 1060\, Österreich
ATTACH;FMTTYPE=image/jpeg:https://kalender.obdach.wien/wp-content/uploads/sites/5/2022/06/Kalender_Garten.jpg
ORGANIZER;CN="Alexandra Aichhorn":MAILTO:alexandra.aichhorn@fsw.at
END:VEVENT
BEGIN:VEVENT
DTSTART;TZID=Europe/Berlin:20250604T140000
DTEND;TZID=Europe/Berlin:20250604T160000
DTSTAMP:20260419T202830
CREATED:20250508T110324Z
LAST-MODIFIED:20250509T105053Z
UID:7368-1749045600-1749052800@kalender.obdach.wien
SUMMARY:Plauscherl & Guglhupf
DESCRIPTION:Lockeres Plaudern in lustiger Runde. Bei unserer offenen Kaffeerunde können Sie sich mit anderen Teilnehmer:innen austauschen und plaudern. Wenn dabei Ideen entstehen\, umso besser!\nKommen Sie vorbei und verbringen Sie einen angenehmen Nachmittag mit uns.
URL:https://kalender.obdach.wien/event/plauscherl-guglhupf-9/2025-06-04/
LOCATION:Obdach Forum\, Windmühlgasse 30\, Wien\, 1060\, Österreich
ATTACH;FMTTYPE=image/jpeg:https://kalender.obdach.wien/wp-content/uploads/sites/5/2023/02/GettyImages-1160073046_Drbouz.jpg
ORGANIZER;CN="Lydia Potmesil":MAILTO:lydia.potmesil@fsw.at
END:VEVENT
BEGIN:VEVENT
DTSTART;TZID=Europe/Berlin:20250603T100000
DTEND;TZID=Europe/Berlin:20250603T130000
DTSTAMP:20260419T202830
CREATED:20250218T102624Z
LAST-MODIFIED:20250526T115239Z
UID:5192-1748944800-1748955600@kalender.obdach.wien
SUMMARY:Frauen*gruppe: „Crazy Girls“ - Besuch im Haus des Meeres  (ANMELDUNG NÖTIG)
DESCRIPTION:Wir gehen an diesem Tag gemeinsam ins Haus des Meeres. \nDa wir nur eine begrenzte Personenanzahl mitnehmen können\, bitte UNBEDINGT UM ANMELDUNG unter 0676828940367! \n  \nWir freuen uns auf dich! 🙂
URL:https://kalender.obdach.wien/event/frauengruppe-2025-04-01-2025-06-03/
LOCATION:Haus des Meeres
ATTACH;FMTTYPE=image/jpeg:https://kalender.obdach.wien/wp-content/uploads/sites/5/2025/02/GettyImagesAda-daSilva-1208106103.jpg
ORGANIZER;CN="Lydia Potmesil":MAILTO:lydia.potmesil@fsw.at
END:VEVENT
BEGIN:VEVENT
DTSTART;TZID=Europe/Berlin:20250602T140000
DTEND;TZID=Europe/Berlin:20250602T170000
DTSTAMP:20260419T202830
CREATED:20250313T143207Z
LAST-MODIFIED:20250513T112156Z
UID:7568-1748872800-1748883600@kalender.obdach.wien
SUMMARY:Kreativwerkstatt
DESCRIPTION:Lust auf kreatives Experimentieren?\nIn unserer Kreativwerkstatt könnt ihr euch mit Farben\, Materialien und Techniken ausprobieren. Gemeinsam gestalten wir\, entdecken Neues und lassen unserer Fantasie freien Lauf!
URL:https://kalender.obdach.wien/event/kreativwerkstatt-9-2025-04-14/2025-06-02/
LOCATION:Obdach Forum (Standort 2)\, Corneliusgasse 1\, 1060 Wien
ATTACH;FMTTYPE=image/jpeg:https://kalender.obdach.wien/wp-content/uploads/sites/5/2022/06/GettyImages@dima_sidelnikov-1312359193_fuer_Cafe_Creative.jpg
ORGANIZER;CN="Franz Haberl":MAILTO:franz.haberl@fsw.at
END:VEVENT
BEGIN:VEVENT
DTSTART;TZID=Europe/Berlin:20250602T110000
DTEND;TZID=Europe/Berlin:20250602T130000
DTSTAMP:20260419T202830
CREATED:20241119T105137Z
LAST-MODIFIED:20260129T160225Z
UID:5168-1748862000-1748869200@kalender.obdach.wien
SUMMARY:Ideenbrunch
DESCRIPTION:Du hast Ideen für ein neues Angebot bei Obdach Forum? Du möchtest diese Ideen in kleiner Runde besprechen\, bevor du sie als Thema ins Organisationstreffen mitnimmst (wo sie dann gemeinsam weiterentwickelt werden können)? Oder du möchtest nach dem Wochenende einfach ein gutes\, gemütliches Frühstück in netter Gesellschaft genießen und ein bisschen plaudern? \nUnser Ideen-Brunch ist genau dafür gedacht! \nWir freuen uns auf einen gemütlichen Wochenstart mit euch gemeinsam 🙂
URL:https://kalender.obdach.wien/event/teilnehmerinnen-brunch-2025-01-13/2025-06-02/
LOCATION:Obdach Forum\, Windmühlgasse 30\, Wien\, 1060\, Österreich
ATTACH;FMTTYPE=image/jpeg:https://kalender.obdach.wien/wp-content/uploads/sites/5/2022/03/unsplash4.jpg
ORGANIZER;CN="Alexandra Aichhorn":MAILTO:alexandra.aichhorn@fsw.at
END:VEVENT
BEGIN:VEVENT
DTSTART;TZID=Europe/Berlin:20250528T140000
DTEND;TZID=Europe/Berlin:20250528T160000
DTSTAMP:20260419T202830
CREATED:20250508T110324Z
LAST-MODIFIED:20250509T105053Z
UID:7367-1748440800-1748448000@kalender.obdach.wien
SUMMARY:Plauscherl & Guglhupf
DESCRIPTION:Lockeres Plaudern in lustiger Runde. Bei unserer offenen Kaffeerunde können Sie sich mit anderen Teilnehmer:innen austauschen und plaudern. Wenn dabei Ideen entstehen\, umso besser!\nKommen Sie vorbei und verbringen Sie einen angenehmen Nachmittag mit uns.
URL:https://kalender.obdach.wien/event/plauscherl-guglhupf-9/2025-05-28/
LOCATION:Obdach Forum\, Windmühlgasse 30\, Wien\, 1060\, Österreich
ATTACH;FMTTYPE=image/jpeg:https://kalender.obdach.wien/wp-content/uploads/sites/5/2023/02/GettyImages-1160073046_Drbouz.jpg
ORGANIZER;CN="Lydia Potmesil":MAILTO:lydia.potmesil@fsw.at
END:VEVENT
BEGIN:VEVENT
DTSTART;TZID=Europe/Berlin:20250526T140000
DTEND;TZID=Europe/Berlin:20250526T170000
DTSTAMP:20260419T202830
CREATED:20250313T150007Z
LAST-MODIFIED:20251230T115516Z
UID:6286-1748268000-1748278800@kalender.obdach.wien
SUMMARY:Kreativwerkstatt on Tour (Achtung: andere Adresse!)
DESCRIPTION:Lust auf kreatives Experimentieren? In unserer Kreativwerkstatt könnt ihr euch mit Farben\, Materialien und Techniken ausprobieren. Gemeinsam gestalten wir\, entdecken Neues und lassen unserer Fantasie freien Lauf! \n  \nJeden 4. Montag im Monat sind wir bei Obdach Lobmeyrhof zu Besuch und lassen gemeinsam unserer Kreativität freien Lauf 🙂
URL:https://kalender.obdach.wien/event/kreativwerkstatt-on-tour/2025-05-26/
LOCATION:Obdach Lobmeyrhof\, Lorenz-Mandl-Gasse 16/1/2C\, Wien\, 1160\, Austria
ATTACH;FMTTYPE=image/jpeg:https://kalender.obdach.wien/wp-content/uploads/sites/5/2022/06/GettyImages@dima_sidelnikov-1312359193_fuer_Cafe_Creative.jpg
ORGANIZER;CN="Lydia Potmesil":MAILTO:lydia.potmesil@fsw.at
END:VEVENT
BEGIN:VEVENT
DTSTART;TZID=Europe/Berlin:20250523T120000
DTEND;TZID=Europe/Berlin:20250523T150000
DTSTAMP:20260419T202830
CREATED:20250404T091043Z
LAST-MODIFIED:20250404T091043Z
UID:6797-1748001600-1748012400@kalender.obdach.wien
SUMMARY:Obdach Forum Wochenausklang
DESCRIPTION:Offenes Zusammentreffen bei Kaffee\, Tee und Brettspielen. \nGemeinsam in gemütlicher Runde die Woche ausklingen lassen.
URL:https://kalender.obdach.wien/event/obdach-forum-wochenausklang-6/2025-05-23/
LOCATION:Obdach Forum (Standort 2)\, Corneliusgasse 1\, 1060 Wien
ATTACH;FMTTYPE=image/jpeg:https://kalender.obdach.wien/wp-content/uploads/sites/5/2025/02/GettyImages©joshblake-182176177_fuer_Kulturprogramm.jpg
ORGANIZER;CN="Lydia Potmesil":MAILTO:lydia.potmesil@fsw.at
END:VEVENT
BEGIN:VEVENT
DTSTART;TZID=Europe/Berlin:20250523T103000
DTEND;TZID=Europe/Berlin:20250523T120000
DTSTAMP:20260419T202830
CREATED:20250404T090624Z
LAST-MODIFIED:20250404T090624Z
UID:6786-1747996200-1748001600@kalender.obdach.wien
SUMMARY:Wohlfühlgruppe & gesunder Snack von Frauen* für Frauen* – veranstaltet von Frauengesundheitszentrum FEM (Achtung neue Adresse)
DESCRIPTION:Bewegung und Entspannung mit Heike\, mit anschließendem gesunden Snack 🙂 \nEinfach bequeme Kleidung anziehen und vorbeikommen! \nWir bewegen uns gemeinsam\, dehnen uns und entspannen zum Schluss. \nFür alle Frauen* – wir passen die Übungen an diejenigen an\, die da sind! \nFrei nach dem Motto: „Ich fühle mich (wieder) wohl in meinem Körper“ \n  \nIm Anschluss lassen wir die Gruppe noch mit einem kleinen\, gesunden Snack ausklingen!
URL:https://kalender.obdach.wien/event/wohlfuehlgruppe-gesunder-snack-von-frauen-fuer-frauen-veranstaltet-von-frauengesundheitszentrum-fem-achtung-neue-adresse/2025-05-23/
LOCATION:Obdach Forum (Standort 2)\, Corneliusgasse 1\, 1060 Wien
ATTACH;FMTTYPE=image/jpeg:https://kalender.obdach.wien/wp-content/uploads/sites/5/2024/10/moss-3402910_1280.jpg
ORGANIZER;CN="Lydia Potmesil":MAILTO:lydia.potmesil@fsw.at
END:VEVENT
BEGIN:VEVENT
DTSTART;TZID=Europe/Berlin:20250522T120000
DTEND;TZID=Europe/Berlin:20250522T130000
DTSTAMP:20260419T202830
CREATED:20250331T113053Z
LAST-MODIFIED:20250331T113053Z
UID:7890-1747915200-1747918800@kalender.obdach.wien
SUMMARY:Gartengruppe
DESCRIPTION:Wir laden zum gemeinsamen Garteln ein. Wer einen grünen Daumen hat oder einen bekommen will\, ist hier richtig. Gemeinsam verschönern und bepflanzen wir unsere zwei Baumscheiben. Wir kümmern uns auch gemeinsam um unsere Innenpflanzen in der Windmühlgasse.
URL:https://kalender.obdach.wien/event/gartengruppe-2/2025-05-22/
LOCATION:Obdach Forum\, Windmühlgasse 30\, Wien\, 1060\, Österreich
ATTACH;FMTTYPE=image/jpeg:https://kalender.obdach.wien/wp-content/uploads/sites/5/2022/06/Kalender_Garten.jpg
ORGANIZER;CN="Alexandra Aichhorn":MAILTO:alexandra.aichhorn@fsw.at
END:VEVENT
BEGIN:VEVENT
DTSTART;TZID=Europe/Berlin:20250521T140000
DTEND;TZID=Europe/Berlin:20250521T160000
DTSTAMP:20260419T202830
CREATED:20250508T110324Z
LAST-MODIFIED:20250509T105053Z
UID:7366-1747836000-1747843200@kalender.obdach.wien
SUMMARY:Plauscherl & Guglhupf
DESCRIPTION:Lockeres Plaudern in lustiger Runde. Bei unserer offenen Kaffeerunde können Sie sich mit anderen Teilnehmer:innen austauschen und plaudern. Wenn dabei Ideen entstehen\, umso besser!\nKommen Sie vorbei und verbringen Sie einen angenehmen Nachmittag mit uns.
URL:https://kalender.obdach.wien/event/plauscherl-guglhupf-9/2025-05-21/
LOCATION:Obdach Forum\, Windmühlgasse 30\, Wien\, 1060\, Österreich
ATTACH;FMTTYPE=image/jpeg:https://kalender.obdach.wien/wp-content/uploads/sites/5/2023/02/GettyImages-1160073046_Drbouz.jpg
ORGANIZER;CN="Lydia Potmesil":MAILTO:lydia.potmesil@fsw.at
END:VEVENT
BEGIN:VEVENT
DTSTART;TZID=Europe/Berlin:20250520T100000
DTEND;TZID=Europe/Berlin:20250520T130000
DTSTAMP:20260419T202830
CREATED:20250218T102837Z
LAST-MODIFIED:20250430T142505Z
UID:5239-1747735200-1747746000@kalender.obdach.wien
SUMMARY:Frauen*gruppe: „Crazy Girls“ - Beautyday mit Gesichtsmasken
DESCRIPTION:An diesem Tag möchten wir es uns so richtig gut gehen lassen und entspannen. Wir machen einen Beautyday mit Gesichtsmasken. \nWir freuen uns auf dich! 🙂
URL:https://kalender.obdach.wien/event/frauengruppe-2-2025-04-15-2025-05-20/
LOCATION:Obdach Forum (Standort 2)\, Corneliusgasse 1\, 1060 Wien
ATTACH;FMTTYPE=image/jpeg:https://kalender.obdach.wien/wp-content/uploads/sites/5/2025/02/GettyImagesAda-daSilva-1208106103.jpg
ORGANIZER;CN="Lydia Potmesil":MAILTO:lydia.potmesil@fsw.at
END:VEVENT
BEGIN:VEVENT
DTSTART;TZID=Europe/Berlin:20250519T140000
DTEND;TZID=Europe/Berlin:20250519T170000
DTSTAMP:20260419T202830
CREATED:20250313T143207Z
LAST-MODIFIED:20250513T112156Z
UID:7563-1747663200-1747674000@kalender.obdach.wien
SUMMARY:Kreativwerkstatt
DESCRIPTION:Lust auf kreatives Experimentieren?\nIn unserer Kreativwerkstatt könnt ihr euch mit Farben\, Materialien und Techniken ausprobieren. Gemeinsam gestalten wir\, entdecken Neues und lassen unserer Fantasie freien Lauf!
URL:https://kalender.obdach.wien/event/kreativwerkstatt-9-2025-04-14/2025-05-19/
LOCATION:Obdach Forum (Standort 2)\, Corneliusgasse 1\, 1060 Wien
ATTACH;FMTTYPE=image/jpeg:https://kalender.obdach.wien/wp-content/uploads/sites/5/2022/06/GettyImages@dima_sidelnikov-1312359193_fuer_Cafe_Creative.jpg
ORGANIZER;CN="Franz Haberl":MAILTO:franz.haberl@fsw.at
END:VEVENT
BEGIN:VEVENT
DTSTART;TZID=Europe/Berlin:20250516T110000
DTEND;TZID=Europe/Berlin:20250516T180000
DTSTAMP:20260419T202830
CREATED:20250404T085812Z
LAST-MODIFIED:20250404T085918Z
UID:6678-1747393200-1747418400@kalender.obdach.wien
SUMMARY:Kochgruppe
DESCRIPTION:Gemeinsam Kochen\, gemeinsam Essen\, gemeinsam Lachen: Das passiert bei der Kochgruppe von Obdach Forum. Alle zwei Wochen laden unser Peer-Mitarbeiter:innen die Teilnehmer:innen zu einem gemeinsamen Tag rund um das Thema Essen ein. \nDie Teilnehmer:innen  kochen und essen gemeinsam. Was übrig bleibt\, wird aufgeteilt und mit nach Hause genommen. Es werden verschiedenste Gerichte gekocht\, immer mit einer Version für Fleischesser:innen und Vegetarier:innen. \nIn der Kochgruppe wird versucht nachhaltig Lebensmittel zu retten und Müll weitgehend zu vermeiden. Die Kochgruppe verfolgt das Ziel ein Kochbuch zum Thema nachhaltiges Kochen zu erstellen.
URL:https://kalender.obdach.wien/event/kochgruppe-7-2025-05-16/2025-05-16/
LOCATION:Obdach Forum (Standort 2)\, Corneliusgasse 1\, 1060 Wien
ATTACH;FMTTYPE=image/jpeg:https://kalender.obdach.wien/wp-content/uploads/sites/5/2022/06/GettyImages┬®Tempura-1160233770_fuer_Kochgruppe.jpg
ORGANIZER;CN="Lydia Potmesil":MAILTO:lydia.potmesil@fsw.at
END:VEVENT
BEGIN:VEVENT
DTSTART;TZID=Europe/Berlin:20250515T120000
DTEND;TZID=Europe/Berlin:20250515T130000
DTSTAMP:20260419T202830
CREATED:20250331T113053Z
LAST-MODIFIED:20250331T113053Z
UID:7889-1747310400-1747314000@kalender.obdach.wien
SUMMARY:Gartengruppe
DESCRIPTION:Wir laden zum gemeinsamen Garteln ein. Wer einen grünen Daumen hat oder einen bekommen will\, ist hier richtig. Gemeinsam verschönern und bepflanzen wir unsere zwei Baumscheiben. Wir kümmern uns auch gemeinsam um unsere Innenpflanzen in der Windmühlgasse.
URL:https://kalender.obdach.wien/event/gartengruppe-2/2025-05-15/
LOCATION:Obdach Forum\, Windmühlgasse 30\, Wien\, 1060\, Österreich
ATTACH;FMTTYPE=image/jpeg:https://kalender.obdach.wien/wp-content/uploads/sites/5/2022/06/Kalender_Garten.jpg
ORGANIZER;CN="Alexandra Aichhorn":MAILTO:alexandra.aichhorn@fsw.at
END:VEVENT
BEGIN:VEVENT
DTSTART;TZID=Europe/Berlin:20250514T140000
DTEND;TZID=Europe/Berlin:20250514T160000
DTSTAMP:20260419T202830
CREATED:20250509T105750Z
LAST-MODIFIED:20250509T105750Z
UID:7461-1747231200-1747238400@kalender.obdach.wien
SUMMARY:Plauscherl & Guglhupf
DESCRIPTION:Lockeres Plaudern in lustiger Runde. Bei unserer offenen Kaffeerunde können Sie sich mit anderen Teilnehmer:innen austauschen und plaudern. Wenn dabei Ideen entstehen\, umso besser!\nKommen Sie vorbei und verbringen Sie einen angenehmen Nachmittag mit uns.
URL:https://kalender.obdach.wien/event/plauscherl-guglhupf-10/
LOCATION:Obdach Forum\, Windmühlgasse 30\, Wien\, 1060\, Österreich
ATTACH;FMTTYPE=image/jpeg:https://kalender.obdach.wien/wp-content/uploads/sites/5/2023/02/GettyImages-1160073046_Drbouz.jpg
ORGANIZER;CN="Lydia Potmesil":MAILTO:lydia.potmesil@fsw.at
END:VEVENT
BEGIN:VEVENT
DTSTART;TZID=Europe/Berlin:20250512T140000
DTEND;TZID=Europe/Berlin:20250512T170000
DTSTAMP:20260419T202830
CREATED:20250313T143207Z
LAST-MODIFIED:20250513T112156Z
UID:6220-1747058400-1747069200@kalender.obdach.wien
SUMMARY:Kreativwerkstatt
DESCRIPTION:Lust auf kreatives Experimentieren?\nIn unserer Kreativwerkstatt könnt ihr euch mit Farben\, Materialien und Techniken ausprobieren. Gemeinsam gestalten wir\, entdecken Neues und lassen unserer Fantasie freien Lauf!
URL:https://kalender.obdach.wien/event/kreativwerkstatt-9-2025-04-14/2025-05-12/
LOCATION:Obdach Forum (Standort 2)\, Corneliusgasse 1\, 1060 Wien
ATTACH;FMTTYPE=image/jpeg:https://kalender.obdach.wien/wp-content/uploads/sites/5/2022/06/GettyImages@dima_sidelnikov-1312359193_fuer_Cafe_Creative.jpg
ORGANIZER;CN="Franz Haberl":MAILTO:franz.haberl@fsw.at
END:VEVENT
BEGIN:VEVENT
DTSTART;TZID=Europe/Berlin:20250509T120000
DTEND;TZID=Europe/Berlin:20250509T150000
DTSTAMP:20260419T202830
CREATED:20250225T092905Z
LAST-MODIFIED:20250404T090800Z
UID:5670-1746792000-1746802800@kalender.obdach.wien
SUMMARY:Obdach Forum Wochenausklang
DESCRIPTION:Offenes Zusammentreffen bei Kaffee\, Tee und Brettspielen. \nGemeinsam in gemütlicher Runde die Woche ausklingen lassen.
URL:https://kalender.obdach.wien/event/obdach-forum-wochenausklang-5-2025-03-28/2025-05-09/
LOCATION:Obdach Forum (Standort 2)\, Corneliusgasse 1\, 1060 Wien
ATTACH;FMTTYPE=image/jpeg:https://kalender.obdach.wien/wp-content/uploads/sites/5/2025/02/GettyImages©joshblake-182176177_fuer_Kulturprogramm.jpg
ORGANIZER;CN="Lydia Potmesil":MAILTO:lydia.potmesil@fsw.at
END:VEVENT
BEGIN:VEVENT
DTSTART;TZID=Europe/Berlin:20250509T103000
DTEND;TZID=Europe/Berlin:20250509T120000
DTSTAMP:20260419T202830
CREATED:20241031T130125Z
LAST-MODIFIED:20241031T130125Z
UID:6779-1746786600-1746792000@kalender.obdach.wien
SUMMARY:Wohlfühlgruppe & gesunder Snack von Frauen* für Frauen* – veranstaltet von Frauengesundheitszentrum FEM (Achtung neue Adresse)
DESCRIPTION:Bewegung und Entspannung mit Heike\, mit anschließendem gesunden Snack 🙂 \nEinfach bequeme Kleidung anziehen und vorbeikommen! \nWir bewegen uns gemeinsam\, dehnen uns und entspannen zum Schluss. \nFür alle Frauen* – wir passen die Übungen an diejenigen an\, die da sind! \nFrei nach dem Motto: „Ich fühle mich (wieder) wohl in meinem Körper“ \n  \nIm Anschluss lassen wir die Gruppe noch mit einem kleinen\, gesunden Snack ausklingen! \n 
URL:https://kalender.obdach.wien/event/wohlfuehlgruppe-von-frauen-fuer-frauen-veranstaltet-von-frauengesundheitszentrum-fem-achtung-neue-adresse-2025-03-28/2025-05-09/
LOCATION:Obdach Forum (Standort 2)\, Corneliusgasse 1\, 1060 Wien
ATTACH;FMTTYPE=image/jpeg:https://kalender.obdach.wien/wp-content/uploads/sites/5/2024/10/moss-3402910_1280.jpg
ORGANIZER;CN="Lydia Potmesil":MAILTO:lydia.potmesil@fsw.at
END:VEVENT
BEGIN:VEVENT
DTSTART;TZID=Europe/Berlin:20250508T120000
DTEND;TZID=Europe/Berlin:20250508T130000
DTSTAMP:20260419T202830
CREATED:20250331T113053Z
LAST-MODIFIED:20250331T113053Z
UID:7888-1746705600-1746709200@kalender.obdach.wien
SUMMARY:Gartengruppe
DESCRIPTION:Wir laden zum gemeinsamen Garteln ein. Wer einen grünen Daumen hat oder einen bekommen will\, ist hier richtig. Gemeinsam verschönern und bepflanzen wir unsere zwei Baumscheiben. Wir kümmern uns auch gemeinsam um unsere Innenpflanzen in der Windmühlgasse.
URL:https://kalender.obdach.wien/event/gartengruppe-2/2025-05-08/
LOCATION:Obdach Forum\, Windmühlgasse 30\, Wien\, 1060\, Österreich
ATTACH;FMTTYPE=image/jpeg:https://kalender.obdach.wien/wp-content/uploads/sites/5/2022/06/Kalender_Garten.jpg
ORGANIZER;CN="Alexandra Aichhorn":MAILTO:alexandra.aichhorn@fsw.at
END:VEVENT
BEGIN:VEVENT
DTSTART;TZID=Europe/Berlin:20250507T140000
DTEND;TZID=Europe/Berlin:20250507T160000
DTSTAMP:20260419T202830
CREATED:20250508T110324Z
LAST-MODIFIED:20250509T105052Z
UID:7363-1746626400-1746633600@kalender.obdach.wien
SUMMARY:Plauscherl & Guglhupf
DESCRIPTION:Lockeres Plaudern in lustiger Runde. Bei unserer offenen Kaffeerunde können Sie sich mit anderen Teilnehmer:innen austauschen und plaudern. Wenn dabei Ideen entstehen\, umso besser!\nKommen Sie vorbei und verbringen Sie einen angenehmen Nachmittag mit uns.
URL:https://kalender.obdach.wien/event/plauscherl-guglhupf-9/2025-05-07/
LOCATION:Obdach Forum\, Windmühlgasse 30\, Wien\, 1060\, Österreich
ATTACH;FMTTYPE=image/jpeg:https://kalender.obdach.wien/wp-content/uploads/sites/5/2023/02/GettyImages-1160073046_Drbouz.jpg
ORGANIZER;CN="Lydia Potmesil":MAILTO:lydia.potmesil@fsw.at
END:VEVENT
BEGIN:VEVENT
DTSTART;TZID=Europe/Berlin:20250506T100000
DTEND;TZID=Europe/Berlin:20250506T130000
DTSTAMP:20260419T202830
CREATED:20250218T102624Z
LAST-MODIFIED:20250430T142341Z
UID:5191-1746525600-1746536400@kalender.obdach.wien
SUMMARY:Frauen*gruppe: „Crazy Girls“ - Windowshopping auf der Mariahilfer Straße
DESCRIPTION:An diesem Tag möchten wir gemeinsam auf die Mariahilfer Straße Windowshoppen (Schaufensterbummeln) gehen und verrückte Kleidung anprobieren. \nTreffpunkt ist um 10Uhr in der Corneliusgasse 1\, 1060 Wien. \n  \nWir freuen uns auf dich! 🙂
URL:https://kalender.obdach.wien/event/frauengruppe-2025-04-01-2025-05-06/
LOCATION:Obdach Forum (Standort 2)\, Corneliusgasse 1\, 1060 Wien
ATTACH;FMTTYPE=image/jpeg:https://kalender.obdach.wien/wp-content/uploads/sites/5/2025/02/GettyImagesAda-daSilva-1208106103.jpg
ORGANIZER;CN="Lydia Potmesil":MAILTO:lydia.potmesil@fsw.at
END:VEVENT
BEGIN:VEVENT
DTSTART;TZID=Europe/Berlin:20250505T140000
DTEND;TZID=Europe/Berlin:20250505T170000
DTSTAMP:20260419T202830
CREATED:20250313T143207Z
LAST-MODIFIED:20250513T112155Z
UID:6219-1746453600-1746464400@kalender.obdach.wien
SUMMARY:Kreativwerkstatt
DESCRIPTION:Lust auf kreatives Experimentieren?\nIn unserer Kreativwerkstatt könnt ihr euch mit Farben\, Materialien und Techniken ausprobieren. Gemeinsam gestalten wir\, entdecken Neues und lassen unserer Fantasie freien Lauf!
URL:https://kalender.obdach.wien/event/kreativwerkstatt-9-2025-04-14/2025-05-05/
LOCATION:Obdach Forum (Standort 2)\, Corneliusgasse 1\, 1060 Wien
ATTACH;FMTTYPE=image/jpeg:https://kalender.obdach.wien/wp-content/uploads/sites/5/2022/06/GettyImages@dima_sidelnikov-1312359193_fuer_Cafe_Creative.jpg
ORGANIZER;CN="Franz Haberl":MAILTO:franz.haberl@fsw.at
END:VEVENT
END:VCALENDAR