BEGIN:VCALENDAR
VERSION:2.0
PRODID:-//Obdach Forum - ECPv6.15.17.1//NONSGML v1.0//EN
CALSCALE:GREGORIAN
METHOD:PUBLISH
X-WR-CALNAME:Obdach Forum
X-ORIGINAL-URL:https://kalender.obdach.wien
X-WR-CALDESC:Veranstaltungen für Obdach Forum
REFRESH-INTERVAL;VALUE=DURATION:PT1H
X-Robots-Tag:noindex
X-PUBLISHED-TTL:PT1H
BEGIN:VTIMEZONE
TZID:Europe/Berlin
BEGIN:DAYLIGHT
TZOFFSETFROM:+0100
TZOFFSETTO:+0200
TZNAME:CEST
DTSTART:20240331T010000
END:DAYLIGHT
BEGIN:STANDARD
TZOFFSETFROM:+0200
TZOFFSETTO:+0100
TZNAME:CET
DTSTART:20241027T010000
END:STANDARD
BEGIN:DAYLIGHT
TZOFFSETFROM:+0100
TZOFFSETTO:+0200
TZNAME:CEST
DTSTART:20250330T010000
END:DAYLIGHT
BEGIN:STANDARD
TZOFFSETFROM:+0200
TZOFFSETTO:+0100
TZNAME:CET
DTSTART:20251026T010000
END:STANDARD
BEGIN:DAYLIGHT
TZOFFSETFROM:+0100
TZOFFSETTO:+0200
TZNAME:CEST
DTSTART:20260329T010000
END:DAYLIGHT
BEGIN:STANDARD
TZOFFSETFROM:+0200
TZOFFSETTO:+0100
TZNAME:CET
DTSTART:20261025T010000
END:STANDARD
END:VTIMEZONE
BEGIN:VEVENT
DTSTART;TZID=Europe/Berlin:20250904T120000
DTEND;TZID=Europe/Berlin:20250904T130000
DTSTAMP:20260419T151755
CREATED:20250331T113053Z
LAST-MODIFIED:20250331T113053Z
UID:7901-1756987200-1756990800@kalender.obdach.wien
SUMMARY:Gartengruppe
DESCRIPTION:Wir laden zum gemeinsamen Garteln ein. Wer einen grünen Daumen hat oder einen bekommen will\, ist hier richtig. Gemeinsam verschönern und bepflanzen wir unsere zwei Baumscheiben. Wir kümmern uns auch gemeinsam um unsere Innenpflanzen in der Windmühlgasse.
URL:https://kalender.obdach.wien/event/gartengruppe-2/2025-09-04/
LOCATION:Obdach Forum\, Windmühlgasse 30\, Wien\, 1060\, Österreich
ATTACH;FMTTYPE=image/jpeg:https://kalender.obdach.wien/wp-content/uploads/sites/5/2022/06/Kalender_Garten.jpg
ORGANIZER;CN="Alexandra Aichhorn":MAILTO:alexandra.aichhorn@fsw.at
END:VEVENT
BEGIN:VEVENT
DTSTART;TZID=Europe/Berlin:20250903T140000
DTEND;TZID=Europe/Berlin:20250903T160000
DTSTAMP:20260419T151755
CREATED:20250508T110324Z
LAST-MODIFIED:20250509T105100Z
UID:7381-1756908000-1756915200@kalender.obdach.wien
SUMMARY:Plauscherl & Guglhupf
DESCRIPTION:Lockeres Plaudern in lustiger Runde. Bei unserer offenen Kaffeerunde können Sie sich mit anderen Teilnehmer:innen austauschen und plaudern. Wenn dabei Ideen entstehen\, umso besser!\nKommen Sie vorbei und verbringen Sie einen angenehmen Nachmittag mit uns.
URL:https://kalender.obdach.wien/event/plauscherl-guglhupf-9/2025-09-03/
LOCATION:Obdach Forum\, Windmühlgasse 30\, Wien\, 1060\, Österreich
ATTACH;FMTTYPE=image/jpeg:https://kalender.obdach.wien/wp-content/uploads/sites/5/2023/02/GettyImages-1160073046_Drbouz.jpg
ORGANIZER;CN="Lydia Potmesil":MAILTO:lydia.potmesil@fsw.at
END:VEVENT
BEGIN:VEVENT
DTSTART;TZID=Europe/Berlin:20250902T100000
DTEND;TZID=Europe/Berlin:20250902T130000
DTSTAMP:20260419T151755
CREATED:20250218T102624Z
LAST-MODIFIED:20250901T130106Z
UID:5195-1756807200-1756818000@kalender.obdach.wien
SUMMARY:Frauen*gruppe: „Crazy Girls“ - Museumsbesuch
DESCRIPTION:An diesem Tag ist ein Museumsbesuch geplant. \nTreffpunkt 10Uhr vor dem Naturhistorischen Museum. \n  \nWir freuen uns auf dich! 🙂
URL:https://kalender.obdach.wien/event/frauengruppe-2025-04-01-2025-09-02/
ATTACH;FMTTYPE=image/jpeg:https://kalender.obdach.wien/wp-content/uploads/sites/5/2025/02/GettyImagesAda-daSilva-1208106103.jpg
ORGANIZER;CN="Lydia Potmesil":MAILTO:lydia.potmesil@fsw.at
END:VEVENT
BEGIN:VEVENT
DTSTART;TZID=Europe/Berlin:20250901T140000
DTEND;TZID=Europe/Berlin:20250901T170000
DTSTAMP:20260419T151755
CREATED:20250313T143207Z
LAST-MODIFIED:20250513T112202Z
UID:7580-1756735200-1756746000@kalender.obdach.wien
SUMMARY:Kreativwerkstatt
DESCRIPTION:Lust auf kreatives Experimentieren?\nIn unserer Kreativwerkstatt könnt ihr euch mit Farben\, Materialien und Techniken ausprobieren. Gemeinsam gestalten wir\, entdecken Neues und lassen unserer Fantasie freien Lauf!
URL:https://kalender.obdach.wien/event/kreativwerkstatt-9-2025-04-14/2025-09-01/
LOCATION:Obdach Forum (Standort 2)\, Corneliusgasse 1\, 1060 Wien
ATTACH;FMTTYPE=image/jpeg:https://kalender.obdach.wien/wp-content/uploads/sites/5/2022/06/GettyImages@dima_sidelnikov-1312359193_fuer_Cafe_Creative.jpg
ORGANIZER;CN="Franz Haberl":MAILTO:franz.haberl@fsw.at
END:VEVENT
BEGIN:VEVENT
DTSTART;TZID=Europe/Berlin:20250901T110000
DTEND;TZID=Europe/Berlin:20250901T130000
DTSTAMP:20260419T151755
CREATED:20241119T105137Z
LAST-MODIFIED:20260129T160226Z
UID:5171-1756724400-1756731600@kalender.obdach.wien
SUMMARY:Ideenbrunch
DESCRIPTION:Du hast Ideen für ein neues Angebot bei Obdach Forum? Du möchtest diese Ideen in kleiner Runde besprechen\, bevor du sie als Thema ins Organisationstreffen mitnimmst (wo sie dann gemeinsam weiterentwickelt werden können)? Oder du möchtest nach dem Wochenende einfach ein gutes\, gemütliches Frühstück in netter Gesellschaft genießen und ein bisschen plaudern? \nUnser Ideen-Brunch ist genau dafür gedacht! \nWir freuen uns auf einen gemütlichen Wochenstart mit euch gemeinsam 🙂
URL:https://kalender.obdach.wien/event/teilnehmerinnen-brunch-2025-01-13/2025-09-01/
LOCATION:Obdach Forum\, Windmühlgasse 30\, Wien\, 1060\, Österreich
ATTACH;FMTTYPE=image/jpeg:https://kalender.obdach.wien/wp-content/uploads/sites/5/2022/03/unsplash4.jpg
ORGANIZER;CN="Alexandra Aichhorn":MAILTO:alexandra.aichhorn@fsw.at
END:VEVENT
BEGIN:VEVENT
DTSTART;TZID=Europe/Berlin:20250829T110000
DTEND;TZID=Europe/Berlin:20250829T170000
DTSTAMP:20260419T151755
CREATED:20250822T133852Z
LAST-MODIFIED:20250822T133852Z
UID:7881-1756465200-1756486800@kalender.obdach.wien
SUMMARY:Kochgruppe
DESCRIPTION:Gemeinsam Kochen\, gemeinsam Essen\, gemeinsam Lachen: Das passiert bei der Kochgruppe von Obdach Forum. Alle zwei Wochen laden unser Peer-Mitarbeiter:innen die Teilnehmer:innen zu einem gemeinsamen Tag rund um das Thema Essen ein. \nDie Teilnehmer:innen  kochen und essen gemeinsam. Was übrig bleibt\, wird aufgeteilt und mit nach Hause genommen. Es werden verschiedenste Gerichte gekocht\, immer mit einer Version für Fleischesser:innen und Vegetarier:innen. \nIn der Kochgruppe wird versucht nachhaltig Lebensmittel zu retten und Müll weitgehend zu vermeiden. Die Kochgruppe verfolgt das Ziel ein Kochbuch zum Thema nachhaltiges Kochen zu erstellen.
URL:https://kalender.obdach.wien/event/kochgruppe-8/
LOCATION:Obdach Forum (Standort 2)\, Corneliusgasse 1\, 1060 Wien
ATTACH;FMTTYPE=image/jpeg:https://kalender.obdach.wien/wp-content/uploads/sites/5/2022/06/GettyImages┬®Tempura-1160233770_fuer_Kochgruppe.jpg
ORGANIZER;CN="Franz Haberl":MAILTO:franz.haberl@fsw.at
END:VEVENT
BEGIN:VEVENT
DTSTART;TZID=Europe/Berlin:20250828T120000
DTEND;TZID=Europe/Berlin:20250828T130000
DTSTAMP:20260419T151755
CREATED:20250331T113053Z
LAST-MODIFIED:20250331T113053Z
UID:7900-1756382400-1756386000@kalender.obdach.wien
SUMMARY:Gartengruppe
DESCRIPTION:Wir laden zum gemeinsamen Garteln ein. Wer einen grünen Daumen hat oder einen bekommen will\, ist hier richtig. Gemeinsam verschönern und bepflanzen wir unsere zwei Baumscheiben. Wir kümmern uns auch gemeinsam um unsere Innenpflanzen in der Windmühlgasse.
URL:https://kalender.obdach.wien/event/gartengruppe-2/2025-08-28/
LOCATION:Obdach Forum\, Windmühlgasse 30\, Wien\, 1060\, Österreich
ATTACH;FMTTYPE=image/jpeg:https://kalender.obdach.wien/wp-content/uploads/sites/5/2022/06/Kalender_Garten.jpg
ORGANIZER;CN="Alexandra Aichhorn":MAILTO:alexandra.aichhorn@fsw.at
END:VEVENT
BEGIN:VEVENT
DTSTART;TZID=Europe/Berlin:20250827T140000
DTEND;TZID=Europe/Berlin:20250827T160000
DTSTAMP:20260419T151755
CREATED:20250508T110324Z
LAST-MODIFIED:20250509T105100Z
UID:7380-1756303200-1756310400@kalender.obdach.wien
SUMMARY:Plauscherl & Guglhupf
DESCRIPTION:Lockeres Plaudern in lustiger Runde. Bei unserer offenen Kaffeerunde können Sie sich mit anderen Teilnehmer:innen austauschen und plaudern. Wenn dabei Ideen entstehen\, umso besser!\nKommen Sie vorbei und verbringen Sie einen angenehmen Nachmittag mit uns.
URL:https://kalender.obdach.wien/event/plauscherl-guglhupf-9/2025-08-27/
LOCATION:Obdach Forum\, Windmühlgasse 30\, Wien\, 1060\, Österreich
ATTACH;FMTTYPE=image/jpeg:https://kalender.obdach.wien/wp-content/uploads/sites/5/2023/02/GettyImages-1160073046_Drbouz.jpg
ORGANIZER;CN="Lydia Potmesil":MAILTO:lydia.potmesil@fsw.at
END:VEVENT
BEGIN:VEVENT
DTSTART;TZID=Europe/Berlin:20250825T140000
DTEND;TZID=Europe/Berlin:20250825T170000
DTSTAMP:20260419T151755
CREATED:20250313T150007Z
LAST-MODIFIED:20251230T115517Z
UID:6289-1756130400-1756141200@kalender.obdach.wien
SUMMARY:Kreativwerkstatt on Tour (Achtung: andere Adresse!)
DESCRIPTION:Lust auf kreatives Experimentieren? In unserer Kreativwerkstatt könnt ihr euch mit Farben\, Materialien und Techniken ausprobieren. Gemeinsam gestalten wir\, entdecken Neues und lassen unserer Fantasie freien Lauf! \n  \nJeden 4. Montag im Monat sind wir bei Obdach Lobmeyrhof zu Besuch und lassen gemeinsam unserer Kreativität freien Lauf 🙂
URL:https://kalender.obdach.wien/event/kreativwerkstatt-on-tour/2025-08-25/
LOCATION:Obdach Lobmeyrhof\, Lorenz-Mandl-Gasse 16/1/2C\, Wien\, 1160\, Austria
ATTACH;FMTTYPE=image/jpeg:https://kalender.obdach.wien/wp-content/uploads/sites/5/2022/06/GettyImages@dima_sidelnikov-1312359193_fuer_Cafe_Creative.jpg
ORGANIZER;CN="Lydia Potmesil":MAILTO:lydia.potmesil@fsw.at
END:VEVENT
BEGIN:VEVENT
DTSTART;TZID=Europe/Berlin:20250822T123000
DTEND;TZID=Europe/Berlin:20250822T140000
DTSTAMP:20260419T151755
CREATED:20250812T104531Z
LAST-MODIFIED:20250812T104531Z
UID:7862-1755865800-1755871200@kalender.obdach.wien
SUMMARY:Planungstreffen: Kulturprogramm & Ausflüge im Herbst
DESCRIPTION:Wir möchten wieder mehr Ausflüge machen. Bei diesem Planungstreffen werden wir Ausflüge für den Herbst planen. \nAußerdem werden wir uns Gedanken zum gesamten Konzept der Kulturschmiede machen. Wir möchten eventuell auch gemeinsam einen neuen Namen finden. \nDu hast Lust gemeinsam etwas zu unternehmen? Du hast schon Ideen\, wo du gerne mal hingehen möchtest? Na dann komm einfach vorbei und bringe deine Ideen ein! \n  \nWir werden gemeinsam einen Kulturkalender erstellen\, den du dir dann auch mit nach Hause nehmen kannst.
URL:https://kalender.obdach.wien/event/planungstreffen-kulturprogramm-ausfluege-im-herbst/
LOCATION:Obdach Forum (Standort 2)\, Corneliusgasse 1\, 1060 Wien
ATTACH;FMTTYPE=image/jpeg:https://kalender.obdach.wien/wp-content/uploads/sites/5/2023/02/GettyImages-1124485411_DrAfter123.jpg
ORGANIZER;CN="Alexandra Aichhorn":MAILTO:alexandra.aichhorn@fsw.at
END:VEVENT
BEGIN:VEVENT
DTSTART;TZID=Europe/Berlin:20250822T110000
DTEND;TZID=Europe/Berlin:20250822T150000
DTSTAMP:20260419T151755
CREATED:20250404T091043Z
LAST-MODIFIED:20250820T142048Z
UID:6800-1755860400-1755874800@kalender.obdach.wien
SUMMARY:Obdach Forum Wochenausklang
DESCRIPTION:Offenes Zusammentreffen bei Kaffee\, Tee und Brettspielen. \nGemeinsam in gemütlicher Runde die Woche ausklingen lassen.
URL:https://kalender.obdach.wien/event/obdach-forum-wochenausklang-6-2025-08-22/
LOCATION:Obdach Forum (Standort 2)\, Corneliusgasse 1\, 1060 Wien
ATTACH;FMTTYPE=image/jpeg:https://kalender.obdach.wien/wp-content/uploads/sites/5/2025/02/GettyImages©joshblake-182176177_fuer_Kulturprogramm.jpg
ORGANIZER;CN="Lydia Potmesil":MAILTO:lydia.potmesil@fsw.at
END:VEVENT
BEGIN:VEVENT
DTSTART;TZID=Europe/Berlin:20250822T103000
DTEND;TZID=Europe/Berlin:20250822T120000
DTSTAMP:20260419T151755
CREATED:20250404T090624Z
LAST-MODIFIED:20250623T084740Z
UID:6789-1755858600-1755864000@kalender.obdach.wien
SUMMARY:ABGESAGT! Wohlfühlgruppe & gesunder Snack von Frauen* für Frauen* – veranstaltet von Frauengesundheitszentrum FEM (Achtung neue Adresse)
DESCRIPTION:Die Wohlfühlgrupp ist an diesem Tag leider abgesagt! \n  \nBewegung und Entspannung mit Heike\, mit anschließendem gesunden Snack 🙂 \nEinfach bequeme Kleidung anziehen und vorbeikommen! \nWir bewegen uns gemeinsam\, dehnen uns und entspannen zum Schluss. \nFür alle Frauen* – wir passen die Übungen an diejenigen an\, die da sind! \nFrei nach dem Motto: „Ich fühle mich (wieder) wohl in meinem Körper“ \n  \nIm Anschluss lassen wir die Gruppe noch mit einem kleinen\, gesunden Snack ausklingen!
URL:https://kalender.obdach.wien/event/wohlfuehlgruppe-gesunder-snack-von-frauen-fuer-frauen-veranstaltet-von-frauengesundheitszentrum-fem-achtung-neue-adresse-2025-08-22/
LOCATION:Obdach Forum (Standort 2)\, Corneliusgasse 1\, 1060 Wien
ATTACH;FMTTYPE=image/jpeg:https://kalender.obdach.wien/wp-content/uploads/sites/5/2024/10/moss-3402910_1280.jpg
ORGANIZER;CN="Lydia Potmesil":MAILTO:lydia.potmesil@fsw.at
END:VEVENT
BEGIN:VEVENT
DTSTART;TZID=Europe/Berlin:20250821T120000
DTEND;TZID=Europe/Berlin:20250821T130000
DTSTAMP:20260419T151755
CREATED:20250331T113053Z
LAST-MODIFIED:20250331T113053Z
UID:7899-1755777600-1755781200@kalender.obdach.wien
SUMMARY:Gartengruppe
DESCRIPTION:Wir laden zum gemeinsamen Garteln ein. Wer einen grünen Daumen hat oder einen bekommen will\, ist hier richtig. Gemeinsam verschönern und bepflanzen wir unsere zwei Baumscheiben. Wir kümmern uns auch gemeinsam um unsere Innenpflanzen in der Windmühlgasse.
URL:https://kalender.obdach.wien/event/gartengruppe-2/2025-08-21/
LOCATION:Obdach Forum\, Windmühlgasse 30\, Wien\, 1060\, Österreich
ATTACH;FMTTYPE=image/jpeg:https://kalender.obdach.wien/wp-content/uploads/sites/5/2022/06/Kalender_Garten.jpg
ORGANIZER;CN="Alexandra Aichhorn":MAILTO:alexandra.aichhorn@fsw.at
END:VEVENT
BEGIN:VEVENT
DTSTART;TZID=Europe/Berlin:20250820T140000
DTEND;TZID=Europe/Berlin:20250820T160000
DTSTAMP:20260419T151755
CREATED:20250508T110324Z
LAST-MODIFIED:20250509T105100Z
UID:7379-1755698400-1755705600@kalender.obdach.wien
SUMMARY:Plauscherl & Guglhupf
DESCRIPTION:Lockeres Plaudern in lustiger Runde. Bei unserer offenen Kaffeerunde können Sie sich mit anderen Teilnehmer:innen austauschen und plaudern. Wenn dabei Ideen entstehen\, umso besser!\nKommen Sie vorbei und verbringen Sie einen angenehmen Nachmittag mit uns.
URL:https://kalender.obdach.wien/event/plauscherl-guglhupf-9/2025-08-20/
LOCATION:Obdach Forum\, Windmühlgasse 30\, Wien\, 1060\, Österreich
ATTACH;FMTTYPE=image/jpeg:https://kalender.obdach.wien/wp-content/uploads/sites/5/2023/02/GettyImages-1160073046_Drbouz.jpg
ORGANIZER;CN="Lydia Potmesil":MAILTO:lydia.potmesil@fsw.at
END:VEVENT
BEGIN:VEVENT
DTSTART;TZID=Europe/Berlin:20250819T100000
DTEND;TZID=Europe/Berlin:20250819T130000
DTSTAMP:20260419T151755
CREATED:20250218T102837Z
LAST-MODIFIED:20250806T131624Z
UID:5242-1755597600-1755608400@kalender.obdach.wien
SUMMARY:Frauen*gruppe: „Crazy Girls“ - Beauty Day mit Gesichtsmasken & Entspannungsübungen
DESCRIPTION:An diesem Tag möchten wir es uns wieder richtig gut gehen lassen. Wir machen einen Beauty Day mit Gesichtsmasken\, Entspannungsmusik und angeleiteten Entspannungsübungen. \nWir freuen uns auf dich! 🙂
URL:https://kalender.obdach.wien/event/frauengruppe-2-2025-04-15-2025-08-19/
LOCATION:Obdach Forum (Standort 2)\, Corneliusgasse 1\, 1060 Wien
ATTACH;FMTTYPE=image/jpeg:https://kalender.obdach.wien/wp-content/uploads/sites/5/2025/02/GettyImagesAda-daSilva-1208106103.jpg
ORGANIZER;CN="Lydia Potmesil":MAILTO:lydia.potmesil@fsw.at
END:VEVENT
BEGIN:VEVENT
DTSTART;TZID=Europe/Berlin:20250818T140000
DTEND;TZID=Europe/Berlin:20250818T170000
DTSTAMP:20260419T151755
CREATED:20250313T143207Z
LAST-MODIFIED:20250513T112201Z
UID:7578-1755525600-1755536400@kalender.obdach.wien
SUMMARY:Kreativwerkstatt
DESCRIPTION:Lust auf kreatives Experimentieren?\nIn unserer Kreativwerkstatt könnt ihr euch mit Farben\, Materialien und Techniken ausprobieren. Gemeinsam gestalten wir\, entdecken Neues und lassen unserer Fantasie freien Lauf!
URL:https://kalender.obdach.wien/event/kreativwerkstatt-9-2025-04-14/2025-08-18/
LOCATION:Obdach Forum (Standort 2)\, Corneliusgasse 1\, 1060 Wien
ATTACH;FMTTYPE=image/jpeg:https://kalender.obdach.wien/wp-content/uploads/sites/5/2022/06/GettyImages@dima_sidelnikov-1312359193_fuer_Cafe_Creative.jpg
ORGANIZER;CN="Franz Haberl":MAILTO:franz.haberl@fsw.at
END:VEVENT
BEGIN:VEVENT
DTSTART;TZID=Europe/Berlin:20250815T110000
DTEND;TZID=Europe/Berlin:20250815T180000
DTSTAMP:20260419T151755
CREATED:20250404T085812Z
LAST-MODIFIED:20250513T112414Z
UID:6681-1755255600-1755280800@kalender.obdach.wien
SUMMARY:ABGESAGT! Kochgruppe
DESCRIPTION:Diese Kochgruppe ist wegen Feiertag abgesagt! \n  \nGemeinsam Kochen\, gemeinsam Essen\, gemeinsam Lachen: Das passiert bei der Kochgruppe von Obdach Forum. Alle zwei Wochen laden unser Peer-Mitarbeiter:innen die Teilnehmer:innen zu einem gemeinsamen Tag rund um das Thema Essen ein. \nDie Teilnehmer:innen  kochen und essen gemeinsam. Was übrig bleibt\, wird aufgeteilt und mit nach Hause genommen. Es werden verschiedenste Gerichte gekocht\, immer mit einer Version für Fleischesser:innen und Vegetarier:innen. \nIn der Kochgruppe wird versucht nachhaltig Lebensmittel zu retten und Müll weitgehend zu vermeiden. Die Kochgruppe verfolgt das Ziel ein Kochbuch zum Thema nachhaltiges Kochen zu erstellen.
URL:https://kalender.obdach.wien/event/kochgruppe-7-2025-08-15/
LOCATION:Obdach Forum (Standort 2)\, Corneliusgasse 1\, 1060 Wien
ATTACH;FMTTYPE=image/jpeg:https://kalender.obdach.wien/wp-content/uploads/sites/5/2022/06/GettyImages┬®Tempura-1160233770_fuer_Kochgruppe.jpg
ORGANIZER;CN="Lydia Potmesil":MAILTO:lydia.potmesil@fsw.at
END:VEVENT
BEGIN:VEVENT
DTSTART;TZID=Europe/Berlin:20250814T120000
DTEND;TZID=Europe/Berlin:20250814T130000
DTSTAMP:20260419T151755
CREATED:20250331T113053Z
LAST-MODIFIED:20250331T113053Z
UID:7898-1755172800-1755176400@kalender.obdach.wien
SUMMARY:Gartengruppe
DESCRIPTION:Wir laden zum gemeinsamen Garteln ein. Wer einen grünen Daumen hat oder einen bekommen will\, ist hier richtig. Gemeinsam verschönern und bepflanzen wir unsere zwei Baumscheiben. Wir kümmern uns auch gemeinsam um unsere Innenpflanzen in der Windmühlgasse.
URL:https://kalender.obdach.wien/event/gartengruppe-2/2025-08-14/
LOCATION:Obdach Forum\, Windmühlgasse 30\, Wien\, 1060\, Österreich
ATTACH;FMTTYPE=image/jpeg:https://kalender.obdach.wien/wp-content/uploads/sites/5/2022/06/Kalender_Garten.jpg
ORGANIZER;CN="Alexandra Aichhorn":MAILTO:alexandra.aichhorn@fsw.at
END:VEVENT
BEGIN:VEVENT
DTSTART;TZID=Europe/Berlin:20250813T140000
DTEND;TZID=Europe/Berlin:20250813T160000
DTSTAMP:20260419T151755
CREATED:20250508T110324Z
LAST-MODIFIED:20250812T093709Z
UID:7378-1755093600-1755100800@kalender.obdach.wien
SUMMARY:Abgesagt! Plauscherl & Guglhupf
DESCRIPTION:Am 13.08 findet wegen einer internen Veranstaltung kein Plauscherl und Guglhupf in der Windmühlgasse statt. 
URL:https://kalender.obdach.wien/event/plauscherl-guglhupf-9-2025-08-13/
LOCATION:Obdach Forum\, Windmühlgasse 30\, Wien\, 1060\, Österreich
ATTACH;FMTTYPE=image/jpeg:https://kalender.obdach.wien/wp-content/uploads/sites/5/2023/02/GettyImages-1160073046_Drbouz.jpg
ORGANIZER;CN="Lydia Potmesil":MAILTO:lydia.potmesil@fsw.at
END:VEVENT
BEGIN:VEVENT
DTSTART;TZID=Europe/Berlin:20250811T140000
DTEND;TZID=Europe/Berlin:20250811T170000
DTSTAMP:20260419T151755
CREATED:20250313T143207Z
LAST-MODIFIED:20250513T112201Z
UID:7577-1754920800-1754931600@kalender.obdach.wien
SUMMARY:Kreativwerkstatt
DESCRIPTION:Lust auf kreatives Experimentieren?\nIn unserer Kreativwerkstatt könnt ihr euch mit Farben\, Materialien und Techniken ausprobieren. Gemeinsam gestalten wir\, entdecken Neues und lassen unserer Fantasie freien Lauf!
URL:https://kalender.obdach.wien/event/kreativwerkstatt-9-2025-04-14/2025-08-11/
LOCATION:Obdach Forum (Standort 2)\, Corneliusgasse 1\, 1060 Wien
ATTACH;FMTTYPE=image/jpeg:https://kalender.obdach.wien/wp-content/uploads/sites/5/2022/06/GettyImages@dima_sidelnikov-1312359193_fuer_Cafe_Creative.jpg
ORGANIZER;CN="Franz Haberl":MAILTO:franz.haberl@fsw.at
END:VEVENT
BEGIN:VEVENT
DTSTART;TZID=Europe/Berlin:20250808T120000
DTEND;TZID=Europe/Berlin:20250808T150000
DTSTAMP:20260419T151755
CREATED:20250225T092905Z
LAST-MODIFIED:20250225T092905Z
UID:6795-1754654400-1754665200@kalender.obdach.wien
SUMMARY:Obdach Forum Wochenausklang
DESCRIPTION:Offenes Zusammentreffen bei Kaffee\, Tee und Brettspielen. \nGemeinsam in gemütlicher Runde die Woche ausklingen lassen.
URL:https://kalender.obdach.wien/event/obdach-forum-wochenausklang-5-2025-03-28/2025-08-08/
LOCATION:Obdach Forum (Standort 2)\, Corneliusgasse 1\, 1060 Wien
ATTACH;FMTTYPE=image/jpeg:https://kalender.obdach.wien/wp-content/uploads/sites/5/2025/02/GettyImages©joshblake-182176177_fuer_Kulturprogramm.jpg
ORGANIZER;CN="Lydia Potmesil":MAILTO:lydia.potmesil@fsw.at
END:VEVENT
BEGIN:VEVENT
DTSTART;TZID=Europe/Berlin:20250808T103000
DTEND;TZID=Europe/Berlin:20250808T120000
DTSTAMP:20260419T151755
CREATED:20241031T130125Z
LAST-MODIFIED:20241031T130125Z
UID:6782-1754649000-1754654400@kalender.obdach.wien
SUMMARY:Wohlfühlgruppe & gesunder Snack von Frauen* für Frauen* – veranstaltet von Frauengesundheitszentrum FEM (Achtung neue Adresse)
DESCRIPTION:Bewegung und Entspannung mit Heike\, mit anschließendem gesunden Snack 🙂 \nEinfach bequeme Kleidung anziehen und vorbeikommen! \nWir bewegen uns gemeinsam\, dehnen uns und entspannen zum Schluss. \nFür alle Frauen* – wir passen die Übungen an diejenigen an\, die da sind! \nFrei nach dem Motto: „Ich fühle mich (wieder) wohl in meinem Körper“ \n  \nIm Anschluss lassen wir die Gruppe noch mit einem kleinen\, gesunden Snack ausklingen! \n 
URL:https://kalender.obdach.wien/event/wohlfuehlgruppe-von-frauen-fuer-frauen-veranstaltet-von-frauengesundheitszentrum-fem-achtung-neue-adresse-2025-03-28/2025-08-08/
LOCATION:Obdach Forum (Standort 2)\, Corneliusgasse 1\, 1060 Wien
ATTACH;FMTTYPE=image/jpeg:https://kalender.obdach.wien/wp-content/uploads/sites/5/2024/10/moss-3402910_1280.jpg
ORGANIZER;CN="Lydia Potmesil":MAILTO:lydia.potmesil@fsw.at
END:VEVENT
BEGIN:VEVENT
DTSTART;TZID=Europe/Berlin:20250807T120000
DTEND;TZID=Europe/Berlin:20250807T130000
DTSTAMP:20260419T151755
CREATED:20250331T113053Z
LAST-MODIFIED:20250331T113053Z
UID:7897-1754568000-1754571600@kalender.obdach.wien
SUMMARY:Gartengruppe
DESCRIPTION:Wir laden zum gemeinsamen Garteln ein. Wer einen grünen Daumen hat oder einen bekommen will\, ist hier richtig. Gemeinsam verschönern und bepflanzen wir unsere zwei Baumscheiben. Wir kümmern uns auch gemeinsam um unsere Innenpflanzen in der Windmühlgasse.
URL:https://kalender.obdach.wien/event/gartengruppe-2/2025-08-07/
LOCATION:Obdach Forum\, Windmühlgasse 30\, Wien\, 1060\, Österreich
ATTACH;FMTTYPE=image/jpeg:https://kalender.obdach.wien/wp-content/uploads/sites/5/2022/06/Kalender_Garten.jpg
ORGANIZER;CN="Alexandra Aichhorn":MAILTO:alexandra.aichhorn@fsw.at
END:VEVENT
BEGIN:VEVENT
DTSTART;TZID=Europe/Berlin:20250806T140000
DTEND;TZID=Europe/Berlin:20250806T160000
DTSTAMP:20260419T151755
CREATED:20250508T110324Z
LAST-MODIFIED:20250509T105059Z
UID:7377-1754488800-1754496000@kalender.obdach.wien
SUMMARY:Plauscherl & Guglhupf
DESCRIPTION:Lockeres Plaudern in lustiger Runde. Bei unserer offenen Kaffeerunde können Sie sich mit anderen Teilnehmer:innen austauschen und plaudern. Wenn dabei Ideen entstehen\, umso besser!\nKommen Sie vorbei und verbringen Sie einen angenehmen Nachmittag mit uns.
URL:https://kalender.obdach.wien/event/plauscherl-guglhupf-9/2025-08-06/
LOCATION:Obdach Forum\, Windmühlgasse 30\, Wien\, 1060\, Österreich
ATTACH;FMTTYPE=image/jpeg:https://kalender.obdach.wien/wp-content/uploads/sites/5/2023/02/GettyImages-1160073046_Drbouz.jpg
ORGANIZER;CN="Lydia Potmesil":MAILTO:lydia.potmesil@fsw.at
END:VEVENT
BEGIN:VEVENT
DTSTART;TZID=Europe/Berlin:20250805T100000
DTEND;TZID=Europe/Berlin:20250805T130000
DTSTAMP:20260419T151755
CREATED:20250218T102624Z
LAST-MODIFIED:20250804T084120Z
UID:5194-1754388000-1754398800@kalender.obdach.wien
SUMMARY:Frauen*gruppe: „Crazy Girls“
DESCRIPTION:Gemeinsamer Brunch in der Corneliusgasse. \nWir freuen uns auf dich! 🙂
URL:https://kalender.obdach.wien/event/frauengruppe-2025-04-01-2025-08-05/
LOCATION:Obdach Forum (Standort 2)\, Corneliusgasse 1\, 1060 Wien
ATTACH;FMTTYPE=image/jpeg:https://kalender.obdach.wien/wp-content/uploads/sites/5/2025/02/GettyImagesAda-daSilva-1208106103.jpg
ORGANIZER;CN="Lydia Potmesil":MAILTO:lydia.potmesil@fsw.at
END:VEVENT
BEGIN:VEVENT
DTSTART;TZID=Europe/Berlin:20250804T140000
DTEND;TZID=Europe/Berlin:20250804T170000
DTSTAMP:20260419T151755
CREATED:20250313T143207Z
LAST-MODIFIED:20250513T112201Z
UID:7576-1754316000-1754326800@kalender.obdach.wien
SUMMARY:Kreativwerkstatt
DESCRIPTION:Lust auf kreatives Experimentieren?\nIn unserer Kreativwerkstatt könnt ihr euch mit Farben\, Materialien und Techniken ausprobieren. Gemeinsam gestalten wir\, entdecken Neues und lassen unserer Fantasie freien Lauf!
URL:https://kalender.obdach.wien/event/kreativwerkstatt-9-2025-04-14/2025-08-04/
LOCATION:Obdach Forum (Standort 2)\, Corneliusgasse 1\, 1060 Wien
ATTACH;FMTTYPE=image/jpeg:https://kalender.obdach.wien/wp-content/uploads/sites/5/2022/06/GettyImages@dima_sidelnikov-1312359193_fuer_Cafe_Creative.jpg
ORGANIZER;CN="Franz Haberl":MAILTO:franz.haberl@fsw.at
END:VEVENT
BEGIN:VEVENT
DTSTART;TZID=Europe/Berlin:20250804T110000
DTEND;TZID=Europe/Berlin:20250804T130000
DTSTAMP:20260419T151755
CREATED:20241119T105137Z
LAST-MODIFIED:20260129T160226Z
UID:5170-1754305200-1754312400@kalender.obdach.wien
SUMMARY:Ideenbrunch
DESCRIPTION:Du hast Ideen für ein neues Angebot bei Obdach Forum? Du möchtest diese Ideen in kleiner Runde besprechen\, bevor du sie als Thema ins Organisationstreffen mitnimmst (wo sie dann gemeinsam weiterentwickelt werden können)? Oder du möchtest nach dem Wochenende einfach ein gutes\, gemütliches Frühstück in netter Gesellschaft genießen und ein bisschen plaudern? \nUnser Ideen-Brunch ist genau dafür gedacht! \nWir freuen uns auf einen gemütlichen Wochenstart mit euch gemeinsam 🙂
URL:https://kalender.obdach.wien/event/teilnehmerinnen-brunch-2025-01-13/2025-08-04/
LOCATION:Obdach Forum\, Windmühlgasse 30\, Wien\, 1060\, Österreich
ATTACH;FMTTYPE=image/jpeg:https://kalender.obdach.wien/wp-content/uploads/sites/5/2022/03/unsplash4.jpg
ORGANIZER;CN="Alexandra Aichhorn":MAILTO:alexandra.aichhorn@fsw.at
END:VEVENT
BEGIN:VEVENT
DTSTART;TZID=Europe/Berlin:20250801T110000
DTEND;TZID=Europe/Berlin:20250801T180000
DTSTAMP:20260419T151755
CREATED:20250225T103802Z
LAST-MODIFIED:20250225T103802Z
UID:6672-1754046000-1754071200@kalender.obdach.wien
SUMMARY:Kochgruppe
DESCRIPTION:Gemeinsam Kochen\, gemeinsam Essen\, gemeinsam Lachen: Das passiert bei der Kochgruppe von Obdach Forum. Alle zwei Wochen laden unser Peer-Mitarbeiter:innen die Teilnehmer:innen zu einem gemeinsamen Tag rund um das Thema Essen ein. \nDie Teilnehmer:innen  kochen und essen gemeinsam. Was übrig bleibt\, wird aufgeteilt und mit nach Hause genommen. Es werden verschiedenste Gerichte gekocht\, immer mit einer Version für Fleischesser:innen und Vegetarier:innen. \nIn der Kochgruppe wird versucht nachhaltig Lebensmittel zu retten und Müll weitgehend zu vermeiden. Die Kochgruppe verfolgt das Ziel ein Kochbuch zum Thema nachhaltiges Kochen zu erstellen.
URL:https://kalender.obdach.wien/event/kochgruppe-6/2025-08-01/
LOCATION:Obdach Forum (Standort 2)\, Corneliusgasse 1\, 1060 Wien
ATTACH;FMTTYPE=image/jpeg:https://kalender.obdach.wien/wp-content/uploads/sites/5/2022/06/GettyImages┬®Tempura-1160233770_fuer_Kochgruppe.jpg
ORGANIZER;CN="Franz Haberl":MAILTO:franz.haberl@fsw.at
END:VEVENT
BEGIN:VEVENT
DTSTART;TZID=Europe/Berlin:20250731T120000
DTEND;TZID=Europe/Berlin:20250731T130000
DTSTAMP:20260419T151755
CREATED:20250331T113053Z
LAST-MODIFIED:20250331T113053Z
UID:7896-1753963200-1753966800@kalender.obdach.wien
SUMMARY:Gartengruppe
DESCRIPTION:Wir laden zum gemeinsamen Garteln ein. Wer einen grünen Daumen hat oder einen bekommen will\, ist hier richtig. Gemeinsam verschönern und bepflanzen wir unsere zwei Baumscheiben. Wir kümmern uns auch gemeinsam um unsere Innenpflanzen in der Windmühlgasse.
URL:https://kalender.obdach.wien/event/gartengruppe-2/2025-07-31/
LOCATION:Obdach Forum\, Windmühlgasse 30\, Wien\, 1060\, Österreich
ATTACH;FMTTYPE=image/jpeg:https://kalender.obdach.wien/wp-content/uploads/sites/5/2022/06/Kalender_Garten.jpg
ORGANIZER;CN="Alexandra Aichhorn":MAILTO:alexandra.aichhorn@fsw.at
END:VEVENT
BEGIN:VEVENT
DTSTART;TZID=Europe/Berlin:20250730T140000
DTEND;TZID=Europe/Berlin:20250730T160000
DTSTAMP:20260419T151755
CREATED:20250508T110324Z
LAST-MODIFIED:20250509T105059Z
UID:7376-1753884000-1753891200@kalender.obdach.wien
SUMMARY:Plauscherl & Guglhupf
DESCRIPTION:Lockeres Plaudern in lustiger Runde. Bei unserer offenen Kaffeerunde können Sie sich mit anderen Teilnehmer:innen austauschen und plaudern. Wenn dabei Ideen entstehen\, umso besser!\nKommen Sie vorbei und verbringen Sie einen angenehmen Nachmittag mit uns.
URL:https://kalender.obdach.wien/event/plauscherl-guglhupf-9/2025-07-30/
LOCATION:Obdach Forum\, Windmühlgasse 30\, Wien\, 1060\, Österreich
ATTACH;FMTTYPE=image/jpeg:https://kalender.obdach.wien/wp-content/uploads/sites/5/2023/02/GettyImages-1160073046_Drbouz.jpg
ORGANIZER;CN="Lydia Potmesil":MAILTO:lydia.potmesil@fsw.at
END:VEVENT
END:VCALENDAR